| Back to Multiple platform build/check report for BioC 3.16: simplified long | 
 | 
This page was generated on 2023-04-12 11:05:17 -0400 (Wed, 12 Apr 2023).
| Hostname | OS | Arch (*) | R version | Installed pkgs | 
|---|---|---|---|---|
| nebbiolo2 | Linux (Ubuntu 20.04.5 LTS) | x86_64 | 4.2.3 (2023-03-15) -- "Shortstop Beagle" | 4502 | 
| palomino4 | Windows Server 2022 Datacenter | x64 | 4.2.3 (2023-03-15 ucrt) -- "Shortstop Beagle" | 4282 | 
| lconway | macOS 12.5.1 Monterey | x86_64 | 4.2.3 (2023-03-15) -- "Shortstop Beagle" | 4310 | 
| Click on any hostname to see more info about the system (e.g. compilers) (*) as reported by 'uname -p', except on Windows and Mac OS X | ||||
| To the developers/maintainers of the RTopper package: - Please allow up to 24 hours (and sometimes 48 hours) for your latest push to git@git.bioconductor.org:packages/RTopper.git to reflect on this report. See How and When does the builder pull? When will my changes propagate? for more information. - Make sure to use the following settings in order to reproduce any error or warning you see on this page. | 
| Package 1746/2183 | Hostname | OS / Arch | INSTALL | BUILD | CHECK | BUILD BIN | ||||||||
| RTopper 1.44.1  (landing page) Luigi Marchionni 
 | nebbiolo2 | Linux (Ubuntu 20.04.5 LTS) / x86_64 | OK | OK | OK |  | ||||||||
| palomino4 | Windows Server 2022 Datacenter / x64 | OK | OK | OK | OK |  | ||||||||
| lconway | macOS 12.5.1 Monterey / x86_64 | OK | OK | OK | OK |  | ||||||||
| Package: RTopper | 
| Version: 1.44.1 | 
| Command: /home/biocbuild/bbs-3.16-bioc/R/bin/R CMD check --install=check:RTopper.install-out.txt --library=/home/biocbuild/bbs-3.16-bioc/R/site-library --timings RTopper_1.44.1.tar.gz | 
| StartedAt: 2023-04-10 23:38:04 -0400 (Mon, 10 Apr 2023) | 
| EndedAt: 2023-04-10 23:40:42 -0400 (Mon, 10 Apr 2023) | 
| EllapsedTime: 158.0 seconds | 
| RetCode: 0 | 
| Status: OK | 
| CheckDir: RTopper.Rcheck | 
| Warnings: 0 | 
##############################################################################
##############################################################################
###
### Running command:
###
###   /home/biocbuild/bbs-3.16-bioc/R/bin/R CMD check --install=check:RTopper.install-out.txt --library=/home/biocbuild/bbs-3.16-bioc/R/site-library --timings RTopper_1.44.1.tar.gz
###
##############################################################################
##############################################################################
* using log directory ‘/home/biocbuild/bbs-3.16-bioc/meat/RTopper.Rcheck’
* using R version 4.2.3 (2023-03-15)
* using platform: x86_64-pc-linux-gnu (64-bit)
* using session charset: UTF-8
* checking for file ‘RTopper/DESCRIPTION’ ... OK
* checking extension type ... Package
* this is package ‘RTopper’ version ‘1.44.1’
* checking package namespace information ... OK
* checking package dependencies ... OK
* checking if this is a source package ... OK
* checking if there is a namespace ... OK
* checking for hidden files and directories ... OK
* checking for portable file names ... OK
* checking for sufficient/correct file permissions ... OK
* checking whether package ‘RTopper’ can be installed ... OK
* checking installed package size ... OK
* checking package directory ... OK
* checking ‘build’ directory ... OK
* checking DESCRIPTION meta-information ... OK
* checking top-level files ... OK
* checking for left-over files ... OK
* checking index information ... OK
* checking package subdirectories ... OK
* checking R files for non-ASCII characters ... OK
* checking R files for syntax errors ... OK
* checking whether the package can be loaded ... OK
* checking whether the package can be loaded with stated dependencies ... OK
* checking whether the package can be unloaded cleanly ... OK
* checking whether the namespace can be loaded with stated dependencies ... OK
* checking whether the namespace can be unloaded cleanly ... OK
* checking loading without being on the library search path ... OK
* checking dependencies in R code ... OK
* checking S3 generic/method consistency ... OK
* checking replacement functions ... OK
* checking foreign function calls ... OK
* checking R code for possible problems ... OK
* checking Rd files ... OK
* checking Rd metadata ... OK
* checking Rd cross-references ... OK
* checking for missing documentation entries ... OK
* checking for code/documentation mismatches ... OK
* checking Rd \usage sections ... OK
* checking Rd contents ... OK
* checking for unstated dependencies in examples ... OK
* checking contents of ‘data’ directory ... OK
* checking data for non-ASCII characters ... OK
* checking data for ASCII and uncompressed saves ... OK
* checking files in ‘vignettes’ ... OK
* checking examples ... OK
Examples with CPU (user + system) or elapsed time > 5s
                user system elapsed
computeDrStat 10.036  0.479  10.516
* checking for unstated dependencies in vignettes ... OK
* checking package vignettes in ‘inst/doc’ ... OK
* checking running R code from vignettes ...
  ‘RTopper.Rnw’... OK
 OK
* checking re-building of vignette outputs ... OK
* checking PDF version of manual ... OK
* DONE
Status: OK
RTopper.Rcheck/00install.out
############################################################################## ############################################################################## ### ### Running command: ### ### /home/biocbuild/bbs-3.16-bioc/R/bin/R CMD INSTALL RTopper ### ############################################################################## ############################################################################## * installing to library ‘/home/biocbuild/bbs-3.16-bioc/R/site-library’ * installing *source* package ‘RTopper’ ... ** using staged installation ** R ** data ** inst ** byte-compile and prepare package for lazy loading ** help *** installing help indices ** building package indices ** installing vignettes ** testing if installed package can be loaded from temporary location ** testing if installed package can be loaded from final location ** testing if installed package keeps a record of temporary installation path * DONE (RTopper)
RTopper.Rcheck/RTopper-Ex.timings
| name | user | system | elapsed | |
| adjustPvalGSE | 0.021 | 0.001 | 0.022 | |
| combineGSE | 0.222 | 0.000 | 0.222 | |
| computeDrStat | 10.036 | 0.479 | 10.516 | |
| convertToDr | 3.062 | 0.001 | 3.063 | |
| dat | 0.09 | 0.00 | 0.09 | |
| fgsList | 0.009 | 0.000 | 0.010 | |
| gseResultsSep | 0.013 | 0.000 | 0.013 | |
| intScores | 0.000 | 0.002 | 0.002 | |
| pheno | 0.091 | 0.002 | 0.091 | |
| runBatchGSE | 0.055 | 0.000 | 0.054 | |
| sepScores | 0.007 | 0.000 | 0.006 | |