| Back to Multiple platform build/check report for BioC 3.16: simplified long |
|
This page was generated on 2023-04-12 11:06:24 -0400 (Wed, 12 Apr 2023).
| Hostname | OS | Arch (*) | R version | Installed pkgs |
|---|---|---|---|---|
| nebbiolo2 | Linux (Ubuntu 20.04.5 LTS) | x86_64 | 4.2.3 (2023-03-15) -- "Shortstop Beagle" | 4502 |
| palomino4 | Windows Server 2022 Datacenter | x64 | 4.2.3 (2023-03-15 ucrt) -- "Shortstop Beagle" | 4282 |
| lconway | macOS 12.5.1 Monterey | x86_64 | 4.2.3 (2023-03-15) -- "Shortstop Beagle" | 4310 |
| Click on any hostname to see more info about the system (e.g. compilers) (*) as reported by 'uname -p', except on Windows and Mac OS X | ||||
|
To the developers/maintainers of the RTN package: - Please allow up to 24 hours (and sometimes 48 hours) for your latest push to git@git.bioconductor.org:packages/RTN.git to reflect on this report. See How and When does the builder pull? When will my changes propagate? for more information. - Make sure to use the following settings in order to reproduce any error or warning you see on this page. |
| Package 1743/2183 | Hostname | OS / Arch | INSTALL | BUILD | CHECK | BUILD BIN | ||||||||
| RTN 2.22.1 (landing page) Mauro Castro
| nebbiolo2 | Linux (Ubuntu 20.04.5 LTS) / x86_64 | OK | OK | OK | |||||||||
| palomino4 | Windows Server 2022 Datacenter / x64 | OK | OK | OK | OK | |||||||||
| lconway | macOS 12.5.1 Monterey / x86_64 | OK | OK | OK | OK | |||||||||
| Package: RTN |
| Version: 2.22.1 |
| Command: /Library/Frameworks/R.framework/Resources/bin/R CMD check --install=check:RTN.install-out.txt --library=/Library/Frameworks/R.framework/Resources/library --no-vignettes --timings RTN_2.22.1.tar.gz |
| StartedAt: 2023-04-10 22:23:51 -0400 (Mon, 10 Apr 2023) |
| EndedAt: 2023-04-10 22:27:21 -0400 (Mon, 10 Apr 2023) |
| EllapsedTime: 210.5 seconds |
| RetCode: 0 |
| Status: OK |
| CheckDir: RTN.Rcheck |
| Warnings: 0 |
##############################################################################
##############################################################################
###
### Running command:
###
### /Library/Frameworks/R.framework/Resources/bin/R CMD check --install=check:RTN.install-out.txt --library=/Library/Frameworks/R.framework/Resources/library --no-vignettes --timings RTN_2.22.1.tar.gz
###
##############################################################################
##############################################################################
* using log directory ‘/Users/biocbuild/bbs-3.16-bioc/meat/RTN.Rcheck’
* using R version 4.2.3 (2023-03-15)
* using platform: x86_64-apple-darwin17.0 (64-bit)
* using session charset: UTF-8
* using option ‘--no-vignettes’
* checking for file ‘RTN/DESCRIPTION’ ... OK
* checking extension type ... Package
* this is package ‘RTN’ version ‘2.22.1’
* checking package namespace information ... OK
* checking package dependencies ... OK
* checking if this is a source package ... OK
* checking if there is a namespace ... OK
* checking for hidden files and directories ... OK
* checking for portable file names ... OK
* checking for sufficient/correct file permissions ... OK
* checking whether package ‘RTN’ can be installed ... OK
* checking installed package size ... NOTE
installed size is 9.8Mb
sub-directories of 1Mb or more:
R 1.1Mb
data 8.6Mb
* checking package directory ... OK
* checking ‘build’ directory ... OK
* checking DESCRIPTION meta-information ... OK
* checking top-level files ... OK
* checking for left-over files ... OK
* checking index information ... OK
* checking package subdirectories ... OK
* checking R files for non-ASCII characters ... OK
* checking R files for syntax errors ... OK
* checking whether the package can be loaded ... OK
* checking whether the package can be loaded with stated dependencies ... OK
* checking whether the package can be unloaded cleanly ... OK
* checking whether the namespace can be loaded with stated dependencies ... OK
* checking whether the namespace can be unloaded cleanly ... OK
* checking dependencies in R code ... OK
* checking S3 generic/method consistency ... OK
* checking replacement functions ... OK
* checking foreign function calls ... OK
* checking R code for possible problems ... OK
* checking Rd files ... OK
* checking Rd metadata ... OK
* checking Rd cross-references ... OK
* checking for missing documentation entries ... OK
* checking for code/documentation mismatches ... OK
* checking Rd \usage sections ... OK
* checking Rd contents ... OK
* checking for unstated dependencies in examples ... OK
* checking contents of ‘data’ directory ... OK
* checking data for non-ASCII characters ... OK
* checking data for ASCII and uncompressed saves ... OK
* checking files in ‘vignettes’ ... OK
* checking examples ... OK
* checking for unstated dependencies in ‘tests’ ... OK
* checking tests ...
Running ‘runTests.R’
OK
* checking for unstated dependencies in vignettes ... OK
* checking package vignettes in ‘inst/doc’ ... OK
* checking running R code from vignettes ... SKIPPED
* checking re-building of vignette outputs ... SKIPPED
* checking PDF version of manual ... OK
* DONE
Status: 1 NOTE
See
‘/Users/biocbuild/bbs-3.16-bioc/meat/RTN.Rcheck/00check.log’
for details.
RTN.Rcheck/00install.out
############################################################################## ############################################################################## ### ### Running command: ### ### /Library/Frameworks/R.framework/Resources/bin/R CMD INSTALL RTN ### ############################################################################## ############################################################################## * installing to library ‘/Library/Frameworks/R.framework/Versions/4.2/Resources/library’ * installing *source* package ‘RTN’ ... ** using staged installation ** R ** data ** inst ** byte-compile and prepare package for lazy loading ** help *** installing help indices ** building package indices ** installing vignettes ** testing if installed package can be loaded from temporary location ** testing if installed package can be loaded from final location ** testing if installed package keeps a record of temporary installation path * DONE (RTN)
RTN.Rcheck/tests/runTests.Rout
R version 4.2.3 (2023-03-15) -- "Shortstop Beagle"
Copyright (C) 2023 The R Foundation for Statistical Computing
Platform: x86_64-apple-darwin17.0 (64-bit)
R is free software and comes with ABSOLUTELY NO WARRANTY.
You are welcome to redistribute it under certain conditions.
Type 'license()' or 'licence()' for distribution details.
R is a collaborative project with many contributors.
Type 'contributors()' for more information and
'citation()' on how to cite R or R packages in publications.
Type 'demo()' for some demos, 'help()' for on-line help, or
'help.start()' for an HTML browser interface to help.
Type 'q()' to quit R.
> BiocGenerics:::testPackage("RTN")
-Preprocessing for input data...
--Mapping 'expData' to 'rowAnnotation'...
--Checking 'regulatoryElements' in 'rowAnnotation'...
--Checking 'expData'...
-Preprocessing complete!
-Performing permutation analysis...
--For 5 regulons...
|
| | 0%
|
|======= | 10%
|
|============== | 20%
|
|===================== | 30%
|
|============================ | 40%
|
|=================================== | 50%
|
|========================================== | 60%
|
|================================================= | 70%
|
|======================================================== | 80%
|
|=============================================================== | 90%
|
|======================================================================| 100%
-Permutation analysis complete!
-Performing bootstrap analysis...
--For 5 regulons...
|
| | 0%
|
|======= | 10%
|
|============== | 20%
|
|===================== | 30%
|
|============================ | 40%
|
|=================================== | 50%
|
|========================================== | 60%
|
|================================================= | 70%
|
|======================================================== | 80%
|
|=============================================================== | 90%
|
|======================================================================| 100%
-Bootstrap analysis complete!
-Applying dpi filter...
-DPI filter complete!
-Preprocessing for input data...
--Mapping 'phenotype' to 'phenoIDs'...
--Removing genes without names or values in 'phenotype'...
--Removing duplicated genes...
--Mapping 'hits' to 'phenoIDs'...
--Removing duplicated hits...
--Mapping 'transcriptionalNetwork' annotation to 'phenotype'...
--Checking agreement between 'transcriptionalNetwork' and 'phenotype'... 99.8% !
--Removing 'hits' not listed in 'transcriptionalNetwork' universe...
--Extracting regulons...
-Preprocessing complete!
-Performing master regulatory analysis...
--For 5 regulons...
|
| | 0%
|
|============== | 20%
|
|============================ | 40%
|
|========================================== | 60%
|
|======================================================== | 80%
|
|======================================================================| 100%
-Master regulatory analysis complete
-Performing gene set enrichment analysis...
--For 5 regulons...
|
| | 0%
|
|============== | 20%
|
|============================ | 40%
|
|========================================== | 60%
|
|======================================================== | 80%
|
|======================================================================| 100%
-Gene set enrichment analysis complete
-Performing two-tailed GSEA analysis...
--For 5 regulons...
|
| | 0%
|
|============== | 20%
|
|============================ | 40%
|
|========================================== | 60%
|
|======================================================== | 80%
|
|======================================================================| 100%
|
| | 0%
|
|============== | 20%
|
|============================ | 40%
|
|========================================== | 60%
|
|======================================================== | 80%
|
|======================================================================| 100%
-GSEA2 analysis complete
-Preprocessing for input data...
--Mapping 'expData' to 'rowAnnotation'...
--Checking 'regulatoryElements' in 'rowAnnotation'...
--Checking 'expData'...
-Preprocessing complete!
-Performing permutation analysis...
--For 2 regulons...
|
| | 0%
|
|======= | 10%
|
|============== | 20%
|
|===================== | 30%
|
|============================ | 40%
|
|=================================== | 50%
|
|========================================== | 60%
|
|================================================= | 70%
|
|======================================================== | 80%
|
|=============================================================== | 90%
|
|======================================================================| 100%
-Permutation analysis complete!
-Performing bootstrap analysis...
--For 2 regulons...
|
| | 0%
|
|======= | 10%
|
|============== | 20%
|
|===================== | 30%
|
|============================ | 40%
|
|=================================== | 50%
|
|========================================== | 60%
|
|================================================= | 70%
|
|======================================================== | 80%
|
|=============================================================== | 90%
|
|======================================================================| 100%
-Bootstrap analysis complete!
-Applying dpi filter...
-DPI filter complete!
-Preprocessing for input data...
--Checking modulators in the dataset...
--Extracting TF-targets...
--Applying modulator independence constraint...
--Applying modulator range constraint...
--Selecting subsamples...
-Estimating mutual information threshold...
|
| | 0%
|
|======= | 10%
|
|============== | 20%
|
|===================== | 30%
|
|============================ | 40%
|
|=================================== | 50%
|
|========================================== | 60%
|
|================================================= | 70%
|
|======================================================== | 80%
|
|=============================================================== | 90%
|
|======================================================================| 100%
-Performing conditional mutual information analysis...
--For 2 tfs and 2 candidate modulator(s)
|
| | 0%
|
|=================================== | 50%
|
|======================================================================| 100%
-Conditional analysis complete!
RUNIT TEST PROTOCOL -- Mon Apr 10 22:27:12 2023
***********************************************
Number of test functions: 2
Number of errors: 0
Number of failures: 0
1 Test Suite :
RTN RUnit Tests - 2 test functions, 0 errors, 0 failures
Number of test functions: 2
Number of errors: 0
Number of failures: 0
>
> proc.time()
user system elapsed
32.557 3.076 35.717
RTN.Rcheck/RTN-Ex.timings
| name | user | system | elapsed | |
| AVS-class | 0 | 0 | 0 | |
| RTN.data | 0.225 | 0.010 | 0.235 | |
| TNA-class | 0 | 0 | 0 | |
| TNI-class | 0.000 | 0.001 | 0.001 | |
| TNI.data | 0.272 | 0.005 | 0.277 | |
| avs.evse | 0.000 | 0.001 | 0.001 | |
| avs.get | 0 | 0 | 0 | |
| avs.pevse | 0.000 | 0.000 | 0.001 | |
| avs.plot1 | 0 | 0 | 0 | |
| avs.plot2 | 0 | 0 | 0 | |
| avs.rvse | 0.000 | 0.000 | 0.001 | |
| avs.vse | 0.000 | 0.000 | 0.001 | |
| tna.get | 0.246 | 0.008 | 0.256 | |
| tna.gsea1 | 0.211 | 0.005 | 0.217 | |
| tna.gsea2 | 0.215 | 0.005 | 0.220 | |
| tna.mra | 0.271 | 0.008 | 0.279 | |
| tna.plot.gsea1 | 0.208 | 0.006 | 0.213 | |
| tna.plot.gsea2 | 0.206 | 0.006 | 0.212 | |
| tni.alpha.adjust | 0.086 | 0.007 | 0.094 | |
| tni.annotate.regulons | 0.046 | 0.004 | 0.050 | |
| tni.annotate.samples | 0.041 | 0.002 | 0.044 | |
| tni.area3 | 0.042 | 0.003 | 0.047 | |
| tni.bootstrap | 0.041 | 0.004 | 0.046 | |
| tni.conditional | 0.039 | 0.004 | 0.043 | |
| tni.constructor | 0.128 | 0.016 | 0.144 | |
| tni.dpi.filter | 0.038 | 0.002 | 0.040 | |
| tni.get | 0.039 | 0.003 | 0.042 | |
| tni.graph | 0.041 | 0.004 | 0.045 | |
| tni.gsea2 | 0.038 | 0.002 | 0.041 | |
| tni.overlap.genesets | 0.050 | 0.009 | 0.059 | |
| tni.permutation | 0.042 | 0.004 | 0.046 | |
| tni.plot.checks | 0.041 | 0.002 | 0.044 | |
| tni.plot.sre | 0.041 | 0.003 | 0.044 | |
| tni.preprocess | 0 | 0 | 0 | |
| tni.prune | 0.042 | 0.003 | 0.044 | |
| tni.regulon.summary | 0.042 | 0.004 | 0.046 | |
| tni.replace.samples | 0 | 0 | 0 | |
| tni.sre | 0.050 | 0.009 | 0.060 | |
| tni2tna.preprocess | 0.198 | 0.004 | 0.203 | |
| upgradeTNA | 0 | 0 | 0 | |
| upgradeTNI | 0 | 0 | 0 | |