| Back to Multiple platform build/check report for BioC 3.16: simplified long |
|
This page was generated on 2023-04-12 11:05:49 -0400 (Wed, 12 Apr 2023).
| Hostname | OS | Arch (*) | R version | Installed pkgs |
|---|---|---|---|---|
| nebbiolo2 | Linux (Ubuntu 20.04.5 LTS) | x86_64 | 4.2.3 (2023-03-15) -- "Shortstop Beagle" | 4502 |
| palomino4 | Windows Server 2022 Datacenter | x64 | 4.2.3 (2023-03-15 ucrt) -- "Shortstop Beagle" | 4282 |
| lconway | macOS 12.5.1 Monterey | x86_64 | 4.2.3 (2023-03-15) -- "Shortstop Beagle" | 4310 |
| Click on any hostname to see more info about the system (e.g. compilers) (*) as reported by 'uname -p', except on Windows and Mac OS X | ||||
|
To the developers/maintainers of the RNAmodR.ML package: - Please allow up to 24 hours (and sometimes 48 hours) for your latest push to git@git.bioconductor.org:packages/RNAmodR.ML.git to reflect on this report. See How and When does the builder pull? When will my changes propagate? for more information. - Make sure to use the following settings in order to reproduce any error or warning you see on this page. |
| Package 1704/2183 | Hostname | OS / Arch | INSTALL | BUILD | CHECK | BUILD BIN | ||||||||
| RNAmodR.ML 1.12.0 (landing page) Felix G.M. Ernst
| nebbiolo2 | Linux (Ubuntu 20.04.5 LTS) / x86_64 | OK | OK | OK | |||||||||
| palomino4 | Windows Server 2022 Datacenter / x64 | OK | OK | OK | OK | |||||||||
| lconway | macOS 12.5.1 Monterey / x86_64 | OK | OK | OK | OK | |||||||||
| Package: RNAmodR.ML |
| Version: 1.12.0 |
| Command: F:\biocbuild\bbs-3.16-bioc\R\bin\R.exe CMD check --no-multiarch --install=check:RNAmodR.ML.install-out.txt --library=F:\biocbuild\bbs-3.16-bioc\R\library --no-vignettes --timings RNAmodR.ML_1.12.0.tar.gz |
| StartedAt: 2023-04-11 05:21:07 -0400 (Tue, 11 Apr 2023) |
| EndedAt: 2023-04-11 05:28:09 -0400 (Tue, 11 Apr 2023) |
| EllapsedTime: 421.7 seconds |
| RetCode: 0 |
| Status: OK |
| CheckDir: RNAmodR.ML.Rcheck |
| Warnings: 0 |
############################################################################## ############################################################################## ### ### Running command: ### ### F:\biocbuild\bbs-3.16-bioc\R\bin\R.exe CMD check --no-multiarch --install=check:RNAmodR.ML.install-out.txt --library=F:\biocbuild\bbs-3.16-bioc\R\library --no-vignettes --timings RNAmodR.ML_1.12.0.tar.gz ### ############################################################################## ############################################################################## * using log directory 'F:/biocbuild/bbs-3.16-bioc/meat/RNAmodR.ML.Rcheck' * using R version 4.2.3 (2023-03-15 ucrt) * using platform: x86_64-w64-mingw32 (64-bit) * using session charset: UTF-8 * using option '--no-vignettes' * checking for file 'RNAmodR.ML/DESCRIPTION' ... OK * checking extension type ... Package * this is package 'RNAmodR.ML' version '1.12.0' * package encoding: UTF-8 * checking package namespace information ... OK * checking package dependencies ... OK * checking if this is a source package ... OK * checking if there is a namespace ... OK * checking for hidden files and directories ... OK * checking for portable file names ... OK * checking whether package 'RNAmodR.ML' can be installed ... OK * checking installed package size ... OK * checking package directory ... OK * checking 'build' directory ... OK * checking DESCRIPTION meta-information ... OK * checking top-level files ... OK * checking for left-over files ... OK * checking index information ... OK * checking package subdirectories ... OK * checking R files for non-ASCII characters ... OK * checking R files for syntax errors ... OK * checking whether the package can be loaded ... OK * checking whether the package can be loaded with stated dependencies ... OK * checking whether the package can be unloaded cleanly ... OK * checking whether the namespace can be loaded with stated dependencies ... OK * checking whether the namespace can be unloaded cleanly ... OK * checking dependencies in R code ... NOTE There are ::: calls to the package's namespace in its code. A package almost never needs to use ::: for its own objects: 'get_D_score' * checking S3 generic/method consistency ... OK * checking replacement functions ... OK * checking foreign function calls ... OK * checking R code for possible problems ... OK * checking Rd files ... OK * checking Rd metadata ... OK * checking Rd cross-references ... OK * checking for missing documentation entries ... OK * checking for code/documentation mismatches ... OK * checking Rd \usage sections ... OK * checking Rd contents ... OK * checking for unstated dependencies in examples ... OK * checking contents of 'data' directory ... OK * checking data for non-ASCII characters ... OK * checking data for ASCII and uncompressed saves ... OK * checking files in 'vignettes' ... OK * checking examples ... OK * checking for unstated dependencies in 'tests' ... OK * checking tests ... Running 'testthat.R' OK * checking for unstated dependencies in vignettes ... OK * checking package vignettes in 'inst/doc' ... OK * checking running R code from vignettes ... SKIPPED * checking re-building of vignette outputs ... SKIPPED * checking PDF version of manual ... OK * DONE Status: 1 NOTE See 'F:/biocbuild/bbs-3.16-bioc/meat/RNAmodR.ML.Rcheck/00check.log' for details.
RNAmodR.ML.Rcheck/00install.out
############################################################################## ############################################################################## ### ### Running command: ### ### F:\biocbuild\bbs-3.16-bioc\R\bin\R.exe CMD INSTALL RNAmodR.ML ### ############################################################################## ############################################################################## * installing to library 'F:/biocbuild/bbs-3.16-bioc/R/library' * installing *source* package 'RNAmodR.ML' ... ** using staged installation ** R ** data ** inst ** byte-compile and prepare package for lazy loading ** help *** installing help indices ** building package indices ** installing vignettes ** testing if installed package can be loaded from temporary location ** testing if installed package can be loaded from final location ** testing if installed package keeps a record of temporary installation path * DONE (RNAmodR.ML)
RNAmodR.ML.Rcheck/tests/testthat.Rout
R version 4.2.3 (2023-03-15 ucrt) -- "Shortstop Beagle"
Copyright (C) 2023 The R Foundation for Statistical Computing
Platform: x86_64-w64-mingw32/x64 (64-bit)
R is free software and comes with ABSOLUTELY NO WARRANTY.
You are welcome to redistribute it under certain conditions.
Type 'license()' or 'licence()' for distribution details.
R is a collaborative project with many contributors.
Type 'contributors()' for more information and
'citation()' on how to cite R or R packages in publications.
Type 'demo()' for some demos, 'help()' for on-line help, or
'help.start()' for an HTML browser interface to help.
Type 'q()' to quit R.
> library(testthat)
> library(RNAmodR.ML)
Loading required package: RNAmodR
Loading required package: S4Vectors
Loading required package: stats4
Loading required package: BiocGenerics
Attaching package: 'BiocGenerics'
The following objects are masked from 'package:stats':
IQR, mad, sd, var, xtabs
The following objects are masked from 'package:base':
Filter, Find, Map, Position, Reduce, anyDuplicated, aperm, append,
as.data.frame, basename, cbind, colnames, dirname, do.call,
duplicated, eval, evalq, get, grep, grepl, intersect, is.unsorted,
lapply, mapply, match, mget, order, paste, pmax, pmax.int, pmin,
pmin.int, rank, rbind, rownames, sapply, setdiff, sort, table,
tapply, union, unique, unsplit, which.max, which.min
Attaching package: 'S4Vectors'
The following objects are masked from 'package:base':
I, expand.grid, unname
Loading required package: IRanges
Attaching package: 'IRanges'
The following object is masked from 'package:grDevices':
windows
Loading required package: GenomicRanges
Loading required package: GenomeInfoDb
Loading required package: Modstrings
Loading required package: Biostrings
Loading required package: XVector
Attaching package: 'Biostrings'
The following object is masked from 'package:base':
strsplit
Attaching package: 'RNAmodR'
The following object is masked from 'package:testthat':
compare
>
> test_check("RNAmodR.ML")
[E::idx_find_and_load] Could not retrieve index file for 'F:\biocbuild\ExperimentHub_cache/26944165452b_2521'
[E::idx_find_and_load] Could not retrieve index file for 'F:\biocbuild\ExperimentHub_cache/29481f3853b4_2523'
[E::idx_find_and_load] Could not retrieve index file for 'F:\biocbuild\ExperimentHub_cache/2694a305c22_2525'
[E::idx_find_and_load] Could not retrieve index file for 'F:\biocbuild\ExperimentHub_cache/26944165452b_2521'
[E::idx_find_and_load] Could not retrieve index file for 'F:\biocbuild\ExperimentHub_cache/29481f3853b4_2523'
[E::idx_find_and_load] Could not retrieve index file for 'F:\biocbuild\ExperimentHub_cache/2694a305c22_2525'
[E::idx_find_and_load] Could not retrieve index file for 'F:\biocbuild\ExperimentHub_cache/26944165452b_2521'
[E::idx_find_and_load] Could not retrieve index file for 'F:\biocbuild\ExperimentHub_cache/26944165452b_2521'
[E::idx_find_and_load] Could not retrieve index file for 'F:\biocbuild\ExperimentHub_cache/29481f3853b4_2523'
[E::idx_find_and_load] Could not retrieve index file for 'F:\biocbuild\ExperimentHub_cache/29481f3853b4_2523'
[E::idx_find_and_load] Could not retrieve index file for 'F:\biocbuild\ExperimentHub_cache/2694a305c22_2525'
[E::idx_find_and_load] Could not retrieve index file for 'F:\biocbuild\ExperimentHub_cache/2694a305c22_2525'
[ FAIL 0 | WARN 4 | SKIP 0 | PASS 21 ]
[ FAIL 0 | WARN 4 | SKIP 0 | PASS 21 ]
>
> proc.time()
user system elapsed
74.79 4.45 77.35
RNAmodR.ML.Rcheck/RNAmodR.ML-Ex.timings
| name | user | system | elapsed | |
| ModifierML-class | 0.01 | 0.00 | 0.02 | |
| ModifierMLModel-class | 0.00 | 0.02 | 0.01 | |
| ModifierMLranger-class | 0 | 0 | 0 | |
| RNAmodR.ML-example | 0.01 | 0.00 | 0.02 | |
| trainingData | 2.19 | 0.19 | 2.37 | |