| Back to Multiple platform build/check report for BioC 3.16: simplified long |
|
This page was generated on 2023-04-12 11:05:49 -0400 (Wed, 12 Apr 2023).
| Hostname | OS | Arch (*) | R version | Installed pkgs |
|---|---|---|---|---|
| nebbiolo2 | Linux (Ubuntu 20.04.5 LTS) | x86_64 | 4.2.3 (2023-03-15) -- "Shortstop Beagle" | 4502 |
| palomino4 | Windows Server 2022 Datacenter | x64 | 4.2.3 (2023-03-15 ucrt) -- "Shortstop Beagle" | 4282 |
| lconway | macOS 12.5.1 Monterey | x86_64 | 4.2.3 (2023-03-15) -- "Shortstop Beagle" | 4310 |
| Click on any hostname to see more info about the system (e.g. compilers) (*) as reported by 'uname -p', except on Windows and Mac OS X | ||||
|
To the developers/maintainers of the RIPAT package: - Please allow up to 24 hours (and sometimes 48 hours) for your latest push to git@git.bioconductor.org:packages/RIPAT.git to reflect on this report. See How and When does the builder pull? When will my changes propagate? for more information. - Make sure to use the following settings in order to reproduce any error or warning you see on this page. |
| Package 1685/2183 | Hostname | OS / Arch | INSTALL | BUILD | CHECK | BUILD BIN | ||||||||
| RIPAT 1.8.0 (landing page) Min-Jeong Baek
| nebbiolo2 | Linux (Ubuntu 20.04.5 LTS) / x86_64 | OK | OK | OK | |||||||||
| palomino4 | Windows Server 2022 Datacenter / x64 | OK | OK | OK | OK | |||||||||
| lconway | macOS 12.5.1 Monterey / x86_64 | OK | OK | OK | OK | |||||||||
| Package: RIPAT |
| Version: 1.8.0 |
| Command: F:\biocbuild\bbs-3.16-bioc\R\bin\R.exe CMD check --no-multiarch --install=check:RIPAT.install-out.txt --library=F:\biocbuild\bbs-3.16-bioc\R\library --no-vignettes --timings RIPAT_1.8.0.tar.gz |
| StartedAt: 2023-04-11 05:15:24 -0400 (Tue, 11 Apr 2023) |
| EndedAt: 2023-04-11 05:16:48 -0400 (Tue, 11 Apr 2023) |
| EllapsedTime: 83.8 seconds |
| RetCode: 0 |
| Status: OK |
| CheckDir: RIPAT.Rcheck |
| Warnings: 0 |
##############################################################################
##############################################################################
###
### Running command:
###
### F:\biocbuild\bbs-3.16-bioc\R\bin\R.exe CMD check --no-multiarch --install=check:RIPAT.install-out.txt --library=F:\biocbuild\bbs-3.16-bioc\R\library --no-vignettes --timings RIPAT_1.8.0.tar.gz
###
##############################################################################
##############################################################################
* using log directory 'F:/biocbuild/bbs-3.16-bioc/meat/RIPAT.Rcheck'
* using R version 4.2.3 (2023-03-15 ucrt)
* using platform: x86_64-w64-mingw32 (64-bit)
* using session charset: UTF-8
* using option '--no-vignettes'
* checking for file 'RIPAT/DESCRIPTION' ... OK
* this is package 'RIPAT' version '1.8.0'
* package encoding: UTF-8
* checking package namespace information ... OK
* checking package dependencies ... OK
* checking if this is a source package ... OK
* checking if there is a namespace ... OK
* checking for hidden files and directories ... OK
* checking for portable file names ... OK
* checking whether package 'RIPAT' can be installed ... OK
* checking installed package size ... OK
* checking package directory ... OK
* checking 'build' directory ... OK
* checking DESCRIPTION meta-information ... OK
* checking top-level files ... OK
* checking for left-over files ... OK
* checking index information ... OK
* checking package subdirectories ... OK
* checking R files for non-ASCII characters ... OK
* checking R files for syntax errors ... OK
* checking whether the package can be loaded ... OK
* checking whether the package can be loaded with stated dependencies ... OK
* checking whether the package can be unloaded cleanly ... OK
* checking whether the namespace can be loaded with stated dependencies ... OK
* checking whether the namespace can be unloaded cleanly ... OK
* checking dependencies in R code ... OK
* checking S3 generic/method consistency ... OK
* checking replacement functions ... OK
* checking foreign function calls ... OK
* checking R code for possible problems ... NOTE
annoByCpG: no visible global function definition for 'hist'
annoByCpG: no visible binding for global variable 'Range'
annoByCpG: no visible binding for global variable 'Freq'
annoByCpG: no visible binding for global variable 'Group'
annoByGene: no visible global function definition for 'hist'
annoByGene: no visible binding for global variable 'Range'
annoByGene: no visible binding for global variable 'Freq'
annoByGene: no visible binding for global variable 'Group'
annoByRepeat: no visible global function definition for 'hist'
annoByRepeat: no visible binding for global variable 'all_dist_dup_m'
annoByRepeat: no visible binding for global variable 'Range'
annoByRepeat: no visible binding for global variable 'Freq'
annoByRepeat: no visible binding for global variable 'Group'
annoByVar: no visible global function definition for 'hist'
annoByVar: no visible binding for global variable 'Range'
annoByVar: no visible binding for global variable 'Freq'
annoByVar: no visible binding for global variable 'Group'
makeDocument : <anonymous>: no visible global function definition for
'hist'
makeDocument: no visible binding for global variable 'group'
makeDocument: no visible binding for global variable 'type'
makeDocument: no visible binding for global variable 'convert_p'
makeDocument: no visible global function definition for 'par'
Undefined global functions or variables:
Freq Group Range all_dist_dup_m convert_p group hist par type
Consider adding
importFrom("graphics", "hist", "par")
to your NAMESPACE file.
* checking Rd files ... OK
* checking Rd metadata ... OK
* checking Rd cross-references ... OK
* checking for missing documentation entries ... OK
* checking for code/documentation mismatches ... OK
* checking Rd \usage sections ... OK
* checking Rd contents ... OK
* checking for unstated dependencies in examples ... OK
* checking contents of 'data' directory ... OK
* checking data for non-ASCII characters ... OK
* checking data for ASCII and uncompressed saves ... OK
* checking files in 'vignettes' ... OK
* checking examples ... OK
Examples with CPU (user + system) or elapsed time > 5s
user system elapsed
drawingKaryo 10.48 0.70 11.22
makeData 5.22 0.14 6.49
makeDocument 3.96 0.75 5.62
* checking for unstated dependencies in vignettes ... OK
* checking package vignettes in 'inst/doc' ... OK
* checking running R code from vignettes ... SKIPPED
* checking re-building of vignette outputs ... SKIPPED
* checking PDF version of manual ... OK
* DONE
Status: 1 NOTE
See
'F:/biocbuild/bbs-3.16-bioc/meat/RIPAT.Rcheck/00check.log'
for details.
RIPAT.Rcheck/00install.out
############################################################################## ############################################################################## ### ### Running command: ### ### F:\biocbuild\bbs-3.16-bioc\R\bin\R.exe CMD INSTALL RIPAT ### ############################################################################## ############################################################################## * installing to library 'F:/biocbuild/bbs-3.16-bioc/R/library' * installing *source* package 'RIPAT' ... ** using staged installation ** R ** data ** inst ** byte-compile and prepare package for lazy loading ** help *** installing help indices ** building package indices ** installing vignettes ** testing if installed package can be loaded from temporary location ** testing if installed package can be loaded from final location ** testing if installed package keeps a record of temporary installation path * DONE (RIPAT)
RIPAT.Rcheck/RIPAT-Ex.timings
| name | user | system | elapsed | |
| annoByCpG | 3.75 | 0.33 | 4.10 | |
| annoByGene | 1.41 | 0.06 | 1.46 | |
| annoByRepeat | 1.43 | 0.07 | 1.52 | |
| annoByVar | 0.77 | 0.06 | 0.84 | |
| blast_gene | 0.06 | 0.00 | 0.06 | |
| blast_obj | 0 | 0 | 0 | |
| cpg_exam_db | 0.02 | 0.00 | 0.02 | |
| drawingKaryo | 10.48 | 0.70 | 11.22 | |
| gene_exam_db | 0.03 | 0.00 | 0.03 | |
| makeData | 5.22 | 0.14 | 6.49 | |
| makeDocument | 3.96 | 0.75 | 5.62 | |
| makeInputObj | 0.71 | 0.01 | 0.78 | |
| makeInputObj2 | 0.57 | 0.05 | 0.61 | |
| micro_exam_db | 0.01 | 0.00 | 0.02 | |
| repeat_exam_db | 0 | 0 | 0 | |
| tss_exam_db | 0.02 | 0.02 | 0.03 | |
| var_exam_db | 0.06 | 0.00 | 0.06 | |