| Back to Multiple platform build/check report for BioC 3.16: simplified long |
|
This page was generated on 2023-04-12 11:05:15 -0400 (Wed, 12 Apr 2023).
| Hostname | OS | Arch (*) | R version | Installed pkgs |
|---|---|---|---|---|
| nebbiolo2 | Linux (Ubuntu 20.04.5 LTS) | x86_64 | 4.2.3 (2023-03-15) -- "Shortstop Beagle" | 4502 |
| palomino4 | Windows Server 2022 Datacenter | x64 | 4.2.3 (2023-03-15 ucrt) -- "Shortstop Beagle" | 4282 |
| lconway | macOS 12.5.1 Monterey | x86_64 | 4.2.3 (2023-03-15) -- "Shortstop Beagle" | 4310 |
| Click on any hostname to see more info about the system (e.g. compilers) (*) as reported by 'uname -p', except on Windows and Mac OS X | ||||
|
To the developers/maintainers of the R453Plus1Toolbox package: - Please allow up to 24 hours (and sometimes 48 hours) for your latest push to git@git.bioconductor.org:packages/R453Plus1Toolbox.git to reflect on this report. See How and When does the builder pull? When will my changes propagate? for more information. - Make sure to use the following settings in order to reproduce any error or warning you see on this page. |
| Package 1583/2183 | Hostname | OS / Arch | INSTALL | BUILD | CHECK | BUILD BIN | ||||||||
| R453Plus1Toolbox 1.48.0 (landing page) Hans-Ulrich Klein
| nebbiolo2 | Linux (Ubuntu 20.04.5 LTS) / x86_64 | OK | OK | OK | |||||||||
| palomino4 | Windows Server 2022 Datacenter / x64 | OK | OK | OK | OK | |||||||||
| lconway | macOS 12.5.1 Monterey / x86_64 | OK | OK | OK | OK | |||||||||
| Package: R453Plus1Toolbox |
| Version: 1.48.0 |
| Command: /home/biocbuild/bbs-3.16-bioc/R/bin/R CMD check --install=check:R453Plus1Toolbox.install-out.txt --library=/home/biocbuild/bbs-3.16-bioc/R/site-library --timings R453Plus1Toolbox_1.48.0.tar.gz |
| StartedAt: 2023-04-10 23:14:32 -0400 (Mon, 10 Apr 2023) |
| EndedAt: 2023-04-10 23:21:54 -0400 (Mon, 10 Apr 2023) |
| EllapsedTime: 442.1 seconds |
| RetCode: 0 |
| Status: OK |
| CheckDir: R453Plus1Toolbox.Rcheck |
| Warnings: 0 |
##############################################################################
##############################################################################
###
### Running command:
###
### /home/biocbuild/bbs-3.16-bioc/R/bin/R CMD check --install=check:R453Plus1Toolbox.install-out.txt --library=/home/biocbuild/bbs-3.16-bioc/R/site-library --timings R453Plus1Toolbox_1.48.0.tar.gz
###
##############################################################################
##############################################################################
* using log directory ‘/home/biocbuild/bbs-3.16-bioc/meat/R453Plus1Toolbox.Rcheck’
* using R version 4.2.3 (2023-03-15)
* using platform: x86_64-pc-linux-gnu (64-bit)
* using session charset: UTF-8
* checking for file ‘R453Plus1Toolbox/DESCRIPTION’ ... OK
* checking extension type ... Package
* this is package ‘R453Plus1Toolbox’ version ‘1.48.0’
* checking package namespace information ... OK
* checking package dependencies ... OK
* checking if this is a source package ... OK
* checking if there is a namespace ... OK
* checking for hidden files and directories ... OK
* checking for portable file names ... OK
* checking for sufficient/correct file permissions ... OK
* checking whether package ‘R453Plus1Toolbox’ can be installed ... OK
* checking installed package size ... NOTE
installed size is 5.2Mb
sub-directories of 1Mb or more:
R 2.0Mb
extdata 2.8Mb
* checking package directory ... OK
* checking ‘build’ directory ... OK
* checking DESCRIPTION meta-information ... OK
* checking top-level files ... OK
* checking for left-over files ... OK
* checking index information ... OK
* checking package subdirectories ... OK
* checking R files for non-ASCII characters ... OK
* checking R files for syntax errors ... OK
* checking whether the package can be loaded ... OK
* checking whether the package can be loaded with stated dependencies ... OK
* checking whether the package can be unloaded cleanly ... OK
* checking whether the namespace can be loaded with stated dependencies ... OK
* checking whether the namespace can be unloaded cleanly ... OK
* checking loading without being on the library search path ... OK
* checking dependencies in R code ... NOTE
'library' or 'require' call to ‘BSgenome.Hsapiens.UCSC.hg19’ in package code.
Please use :: or requireNamespace() instead.
See section 'Suggested packages' in the 'Writing R Extensions' manual.
* checking S3 generic/method consistency ... OK
* checking replacement functions ... OK
* checking foreign function calls ... OK
* checking R code for possible problems ... NOTE
.annotateVariants_MapperSet: no visible binding for global variable
‘Hsapiens’
.ava2vcf: no visible binding for global variable ‘Hsapiens’
.detectBreakpoints: no visible binding for global variable ‘Hsapiens’
.getEnsemblInfo: no visible binding for global variable ‘cds_length’
.getEnsemblInfo: no visible binding for global variable
‘ensembl_transcript_id’
.getMutations: no visible binding for global variable ‘PatternStart’
.getMutations: no visible binding for global variable ‘PatternEnd’
.htmlReport: no visible binding for global variable ‘VarFreqForward’
.htmlReport: no visible binding for global variable ‘VarFreqReverse’
.plotVariants: no visible binding for global variable ‘mutation’
qualityReportSFF: no visible binding for '<<-' assignment to ‘tmp’
annotateVariants,MapperSet-BSgenome: no visible binding for global
variable ‘Hsapiens’
annotateVariants,MapperSet-missing: no visible binding for global
variable ‘Hsapiens’
ava2vcf,AVASet: no visible binding for global variable ‘Hsapiens’
detectBreakpoints,list: no visible binding for global variable
‘Hsapiens’
subset,AVASet: no visible binding for global variable ‘referenceSeqID’
Undefined global functions or variables:
Hsapiens PatternEnd PatternStart VarFreqForward VarFreqReverse
cds_length ensembl_transcript_id mutation referenceSeqID
* checking Rd files ... OK
* checking Rd metadata ... OK
* checking Rd cross-references ... OK
* checking for missing documentation entries ... OK
* checking for code/documentation mismatches ... OK
* checking Rd \usage sections ... OK
* checking Rd contents ... OK
* checking for unstated dependencies in examples ... OK
* checking contents of ‘data’ directory ... OK
* checking data for non-ASCII characters ... OK
* checking data for ASCII and uncompressed saves ... OK
* checking line endings in C/C++/Fortran sources/headers ... OK
* checking compiled code ... NOTE
Note: information on .o files is not available
* checking files in ‘vignettes’ ... OK
* checking examples ... OK
Examples with CPU (user + system) or elapsed time > 5s
user system elapsed
mergeBreakpoints 5.227 0.18 5.419
* checking for unstated dependencies in vignettes ... OK
* checking package vignettes in ‘inst/doc’ ... OK
* checking running R code from vignettes ...
‘vignette.Rnw’... OK
OK
* checking re-building of vignette outputs ... OK
* checking PDF version of manual ... OK
* DONE
Status: 4 NOTEs
See
‘/home/biocbuild/bbs-3.16-bioc/meat/R453Plus1Toolbox.Rcheck/00check.log’
for details.
R453Plus1Toolbox.Rcheck/00install.out
##############################################################################
##############################################################################
###
### Running command:
###
### /home/biocbuild/bbs-3.16-bioc/R/bin/R CMD INSTALL R453Plus1Toolbox
###
##############################################################################
##############################################################################
* installing to library ‘/home/biocbuild/bbs-3.16-bioc/R/site-library’
* installing *source* package ‘R453Plus1Toolbox’ ...
** using staged installation
** libs
gcc -I"/home/biocbuild/bbs-3.16-bioc/R/include" -DNDEBUG -I/usr/local/include -fpic -g -O2 -Wall -c readSFF.c -o readSFF.o
readSFF.c: In function ‘readSFF’:
readSFF.c:27:7: warning: variable ‘block_count’ set but not used [-Wunused-but-set-variable]
27 | int block_count;
| ^~~~~~~~~~~
gcc -I"/home/biocbuild/bbs-3.16-bioc/R/include" -DNDEBUG -I/usr/local/include -fpic -g -O2 -Wall -c writeSFF.c -o writeSFF.o
gcc -shared -L/home/biocbuild/bbs-3.16-bioc/R/lib -L/usr/local/lib -o R453Plus1Toolbox.so readSFF.o writeSFF.o -L/home/biocbuild/bbs-3.16-bioc/R/lib -lR
installing to /home/biocbuild/bbs-3.16-bioc/R/site-library/00LOCK-R453Plus1Toolbox/00new/R453Plus1Toolbox/libs
** R
** data
** inst
** byte-compile and prepare package for lazy loading
** help
*** installing help indices
** building package indices
** installing vignettes
** testing if installed package can be loaded from temporary location
** checking absolute paths in shared objects and dynamic libraries
** testing if installed package can be loaded from final location
** testing if installed package keeps a record of temporary installation path
* DONE (R453Plus1Toolbox)
R453Plus1Toolbox.Rcheck/R453Plus1Toolbox-Ex.timings
| name | user | system | elapsed | |
| AVASet-class | 0.167 | 0.000 | 0.169 | |
| AVASet | 1.055 | 0.004 | 1.059 | |
| AnnotatedVariants-class | 0.001 | 0.000 | 0.001 | |
| MapperSet-class | 0.02 | 0.00 | 0.02 | |
| MapperSet | 0.004 | 0.000 | 0.005 | |
| SFFContainer-class | 0.000 | 0.000 | 0.001 | |
| SFFRead-class | 0.000 | 0.000 | 0.001 | |
| alignShortReads | 2.189 | 0.104 | 2.297 | |
| annotateVariants | 0 | 0 | 0 | |
| assayDataAmp | 0.004 | 0.000 | 0.004 | |
| ava2vcf | 0.227 | 0.000 | 0.227 | |
| avaSetExample | 0.011 | 0.000 | 0.011 | |
| avaSetFiltered | 0.017 | 0.000 | 0.017 | |
| avaSetFiltered_annot | 0.001 | 0.000 | 0.001 | |
| breakpoints | 0.004 | 0.000 | 0.004 | |
| calculateTiTv | 0.008 | 0.000 | 0.008 | |
| captureArray | 0.001 | 0.000 | 0.001 | |
| coverageOnTarget | 0.179 | 0.012 | 0.191 | |
| demultiplexReads | 0.061 | 0.012 | 0.072 | |
| detectBreakpoints | 0.609 | 0.096 | 0.704 | |
| fDataAmp | 0.013 | 0.000 | 0.013 | |
| featureDataAmp | 0.012 | 0.000 | 0.012 | |
| filterChimericReads | 4.035 | 0.128 | 4.163 | |
| genomeSequencerMIDs | 0.019 | 0.000 | 0.019 | |
| getAlignedReads | 0.053 | 0.000 | 0.054 | |
| getVariantPercentages | 0.023 | 0.000 | 0.023 | |
| htmlReport | 2.129 | 0.052 | 2.188 | |
| mapperSetExample | 0.004 | 0.000 | 0.004 | |
| mergeBreakpoints | 5.227 | 0.180 | 5.419 | |
| mutationInfo | 0.002 | 0.000 | 0.002 | |
| plotAmpliconCoverage | 0 | 0 | 0 | |
| plotChimericReads | 1.809 | 0.000 | 1.809 | |
| plotVariants | 0.002 | 0.000 | 0.002 | |
| plotVariationFrequency | 0 | 0 | 0 | |
| qualityReportSFF | 0.000 | 0.000 | 0.001 | |
| readSFF | 0.080 | 0.004 | 0.084 | |
| readsOnTarget | 0.044 | 0.000 | 0.044 | |
| referenceSequences | 0.006 | 0.000 | 0.006 | |
| regions | 0.002 | 0.000 | 0.002 | |
| removeLinker | 0.015 | 0.004 | 0.020 | |
| sequenceCaptureLinkers | 0.004 | 0.000 | 0.004 | |
| setVariantFilter | 0.036 | 0.000 | 0.035 | |
| variants | 0.003 | 0.000 | 0.002 | |
| writeSFF | 0.028 | 0.000 | 0.028 | |