| Back to Multiple platform build/check report for BioC 3.16: simplified long |
|
This page was generated on 2023-04-12 11:05:45 -0400 (Wed, 12 Apr 2023).
| Hostname | OS | Arch (*) | R version | Installed pkgs |
|---|---|---|---|---|
| nebbiolo2 | Linux (Ubuntu 20.04.5 LTS) | x86_64 | 4.2.3 (2023-03-15) -- "Shortstop Beagle" | 4502 |
| palomino4 | Windows Server 2022 Datacenter | x64 | 4.2.3 (2023-03-15 ucrt) -- "Shortstop Beagle" | 4282 |
| lconway | macOS 12.5.1 Monterey | x86_64 | 4.2.3 (2023-03-15) -- "Shortstop Beagle" | 4310 |
| Click on any hostname to see more info about the system (e.g. compilers) (*) as reported by 'uname -p', except on Windows and Mac OS X | ||||
|
To the developers/maintainers of the PhosR package: - Please allow up to 24 hours (and sometimes 48 hours) for your latest push to git@git.bioconductor.org:packages/PhosR.git to reflect on this report. See How and When does the builder pull? When will my changes propagate? for more information. - Make sure to use the following settings in order to reproduce any error or warning you see on this page. |
| Package 1479/2183 | Hostname | OS / Arch | INSTALL | BUILD | CHECK | BUILD BIN | ||||||||
| PhosR 1.8.0 (landing page) Taiyun Kim
| nebbiolo2 | Linux (Ubuntu 20.04.5 LTS) / x86_64 | OK | OK | OK | |||||||||
| palomino4 | Windows Server 2022 Datacenter / x64 | OK | OK | OK | OK | |||||||||
| lconway | macOS 12.5.1 Monterey / x86_64 | OK | OK | OK | OK | |||||||||
| Package: PhosR |
| Version: 1.8.0 |
| Command: F:\biocbuild\bbs-3.16-bioc\R\bin\R.exe CMD check --no-multiarch --install=check:PhosR.install-out.txt --library=F:\biocbuild\bbs-3.16-bioc\R\library --no-vignettes --timings PhosR_1.8.0.tar.gz |
| StartedAt: 2023-04-11 04:31:37 -0400 (Tue, 11 Apr 2023) |
| EndedAt: 2023-04-11 04:35:08 -0400 (Tue, 11 Apr 2023) |
| EllapsedTime: 211.4 seconds |
| RetCode: 0 |
| Status: OK |
| CheckDir: PhosR.Rcheck |
| Warnings: 0 |
##############################################################################
##############################################################################
###
### Running command:
###
### F:\biocbuild\bbs-3.16-bioc\R\bin\R.exe CMD check --no-multiarch --install=check:PhosR.install-out.txt --library=F:\biocbuild\bbs-3.16-bioc\R\library --no-vignettes --timings PhosR_1.8.0.tar.gz
###
##############################################################################
##############################################################################
* using log directory 'F:/biocbuild/bbs-3.16-bioc/meat/PhosR.Rcheck'
* using R version 4.2.3 (2023-03-15 ucrt)
* using platform: x86_64-w64-mingw32 (64-bit)
* using session charset: UTF-8
* using option '--no-vignettes'
* checking for file 'PhosR/DESCRIPTION' ... OK
* checking extension type ... Package
* this is package 'PhosR' version '1.8.0'
* package encoding: UTF-8
* checking package namespace information ... OK
* checking package dependencies ... OK
* checking if this is a source package ... OK
* checking if there is a namespace ... OK
* checking for hidden files and directories ... NOTE
Found the following hidden files and directories:
.travis.yml
These were most likely included in error. See section 'Package
structure' in the 'Writing R Extensions' manual.
* checking for portable file names ... OK
* checking whether package 'PhosR' can be installed ... OK
* checking installed package size ... OK
* checking package directory ... OK
* checking 'build' directory ... OK
* checking DESCRIPTION meta-information ... OK
* checking top-level files ... OK
* checking for left-over files ... OK
* checking index information ... OK
* checking package subdirectories ... OK
* checking R files for non-ASCII characters ... OK
* checking R files for syntax errors ... OK
* checking whether the package can be loaded ... OK
* checking whether the package can be loaded with stated dependencies ... OK
* checking whether the package can be unloaded cleanly ... OK
* checking whether the namespace can be loaded with stated dependencies ... OK
* checking whether the namespace can be unloaded cleanly ... OK
* checking dependencies in R code ... NOTE
Unexported objects imported by ':::' calls:
'BiocGenerics:::replaceSlots' 'S4Vectors:::disableValidity'
'SummarizedExperiment:::.SummarizedExperiment.charbound'
See the note in ?`:::` about the use of this operator.
* checking S3 generic/method consistency ... OK
* checking replacement functions ... OK
* checking foreign function calls ... OK
* checking R code for possible problems ... OK
* checking Rd files ... OK
* checking Rd metadata ... OK
* checking Rd cross-references ... OK
* checking for missing documentation entries ... OK
* checking for code/documentation mismatches ... OK
* checking Rd \usage sections ... OK
* checking Rd contents ... OK
* checking for unstated dependencies in examples ... OK
* checking contents of 'data' directory ... OK
* checking data for non-ASCII characters ... OK
* checking data for ASCII and uncompressed saves ... OK
* checking files in 'vignettes' ... OK
* checking examples ... OK
Examples with CPU (user + system) or elapsed time > 5s
user system elapsed
plotQC 4.97 0.16 5.16
* checking for unstated dependencies in 'tests' ... OK
* checking tests ...
Running 'testthat.R'
OK
* checking for unstated dependencies in vignettes ... OK
* checking package vignettes in 'inst/doc' ... OK
* checking running R code from vignettes ... SKIPPED
* checking re-building of vignette outputs ... SKIPPED
* checking PDF version of manual ... OK
* DONE
Status: 2 NOTEs
See
'F:/biocbuild/bbs-3.16-bioc/meat/PhosR.Rcheck/00check.log'
for details.
PhosR.Rcheck/00install.out
############################################################################## ############################################################################## ### ### Running command: ### ### F:\biocbuild\bbs-3.16-bioc\R\bin\R.exe CMD INSTALL PhosR ### ############################################################################## ############################################################################## * installing to library 'F:/biocbuild/bbs-3.16-bioc/R/library' * installing *source* package 'PhosR' ... ** using staged installation ** R ** data ** inst ** byte-compile and prepare package for lazy loading ** help *** installing help indices *** copying figures ** building package indices ** installing vignettes ** testing if installed package can be loaded from temporary location ** testing if installed package can be loaded from final location ** testing if installed package keeps a record of temporary installation path * DONE (PhosR)
PhosR.Rcheck/tests/testthat.Rout
R version 4.2.3 (2023-03-15 ucrt) -- "Shortstop Beagle"
Copyright (C) 2023 The R Foundation for Statistical Computing
Platform: x86_64-w64-mingw32/x64 (64-bit)
R is free software and comes with ABSOLUTELY NO WARRANTY.
You are welcome to redistribute it under certain conditions.
Type 'license()' or 'licence()' for distribution details.
R is a collaborative project with many contributors.
Type 'contributors()' for more information and
'citation()' on how to cite R or R packages in publications.
Type 'demo()' for some demos, 'help()' for on-line help, or
'help.start()' for an HTML browser interface to help.
Type 'q()' to quit R.
> library(testthat)
> library(PhosR)
>
> test_check("PhosR")
[ FAIL 0 | WARN 0 | SKIP 0 | PASS 58 ]
>
> proc.time()
user system elapsed
7.65 0.75 8.37
PhosR.Rcheck/PhosR-Ex.timings
| name | user | system | elapsed | |
| PhosphoExperiment-methods | 0.40 | 0.02 | 0.40 | |
| PhosphoExperiment-operate | 0.54 | 0.03 | 0.58 | |
| PhosphoExperiment | 0.33 | 0.03 | 0.36 | |
| RUVphospho | 0.78 | 0.00 | 0.78 | |
| Signalomes | 0 | 0 | 0 | |
| createFrequencyMat | 0.09 | 0.00 | 0.09 | |
| frequencyScoring | 0.28 | 0.03 | 0.31 | |
| getSPS | 1.42 | 0.10 | 1.53 | |
| kinaseSubstrateHeatmap | 0 | 0 | 0 | |
| kinaseSubstratePred | 0 | 0 | 0 | |
| kinaseSubstrateProfile | 0 | 0 | 0 | |
| kinaseSubstrateScore | 0 | 0 | 0 | |
| mIntersect | 1.03 | 0.06 | 1.09 | |
| matANOVA | 0 | 0 | 0 | |
| meanAbundance | 0.32 | 0.09 | 0.42 | |
| medianScaling | 0.24 | 0.00 | 0.24 | |
| minmax | 0 | 0 | 0 | |
| pathwayOverrepresent | 0 | 0 | 0 | |
| pathwayRankBasedEnrichment | 0 | 0 | 0 | |
| phosCollapse | 1.11 | 0.00 | 1.11 | |
| plotQC | 4.97 | 0.16 | 5.16 | |
| ptImpute | 0.22 | 0.00 | 0.22 | |
| scImpute | 0.45 | 0.05 | 0.50 | |
| selectGrps | 0.10 | 0.01 | 0.11 | |
| selectLocalisedSites | 0.06 | 0.00 | 0.06 | |
| selectOverallPercent | 0.03 | 0.02 | 0.05 | |
| selectTimes | 0.02 | 0.00 | 0.01 | |
| siteAnnotate | 0 | 0 | 0 | |
| standardise | 0 | 0 | 0 | |
| tImpute | 0.14 | 0.01 | 0.16 | |