| Back to Multiple platform build/check report for BioC 3.16: simplified long |
|
This page was generated on 2023-04-12 11:05:44 -0400 (Wed, 12 Apr 2023).
| Hostname | OS | Arch (*) | R version | Installed pkgs |
|---|---|---|---|---|
| nebbiolo2 | Linux (Ubuntu 20.04.5 LTS) | x86_64 | 4.2.3 (2023-03-15) -- "Shortstop Beagle" | 4502 |
| palomino4 | Windows Server 2022 Datacenter | x64 | 4.2.3 (2023-03-15 ucrt) -- "Shortstop Beagle" | 4282 |
| lconway | macOS 12.5.1 Monterey | x86_64 | 4.2.3 (2023-03-15) -- "Shortstop Beagle" | 4310 |
| Click on any hostname to see more info about the system (e.g. compilers) (*) as reported by 'uname -p', except on Windows and Mac OS X | ||||
|
To the developers/maintainers of the OSAT package: - Please allow up to 24 hours (and sometimes 48 hours) for your latest push to git@git.bioconductor.org:packages/OSAT.git to reflect on this report. See How and When does the builder pull? When will my changes propagate? for more information. - Make sure to use the following settings in order to reproduce any error or warning you see on this page. |
| Package 1417/2183 | Hostname | OS / Arch | INSTALL | BUILD | CHECK | BUILD BIN | ||||||||
| OSAT 1.46.0 (landing page) Li Yan
| nebbiolo2 | Linux (Ubuntu 20.04.5 LTS) / x86_64 | OK | OK | OK | |||||||||
| palomino4 | Windows Server 2022 Datacenter / x64 | OK | OK | OK | OK | |||||||||
| lconway | macOS 12.5.1 Monterey / x86_64 | OK | OK | OK | OK | |||||||||
| Package: OSAT |
| Version: 1.46.0 |
| Command: F:\biocbuild\bbs-3.16-bioc\R\bin\R.exe CMD check --no-multiarch --install=check:OSAT.install-out.txt --library=F:\biocbuild\bbs-3.16-bioc\R\library --no-vignettes --timings OSAT_1.46.0.tar.gz |
| StartedAt: 2023-04-11 04:15:20 -0400 (Tue, 11 Apr 2023) |
| EndedAt: 2023-04-11 04:15:58 -0400 (Tue, 11 Apr 2023) |
| EllapsedTime: 38.7 seconds |
| RetCode: 0 |
| Status: OK |
| CheckDir: OSAT.Rcheck |
| Warnings: 0 |
##############################################################################
##############################################################################
###
### Running command:
###
### F:\biocbuild\bbs-3.16-bioc\R\bin\R.exe CMD check --no-multiarch --install=check:OSAT.install-out.txt --library=F:\biocbuild\bbs-3.16-bioc\R\library --no-vignettes --timings OSAT_1.46.0.tar.gz
###
##############################################################################
##############################################################################
* using log directory 'F:/biocbuild/bbs-3.16-bioc/meat/OSAT.Rcheck'
* using R version 4.2.3 (2023-03-15 ucrt)
* using platform: x86_64-w64-mingw32 (64-bit)
* using session charset: UTF-8
* using option '--no-vignettes'
* checking for file 'OSAT/DESCRIPTION' ... OK
* checking extension type ... Package
* this is package 'OSAT' version '1.46.0'
* checking package namespace information ... OK
* checking package dependencies ... OK
* checking if this is a source package ... OK
* checking if there is a namespace ... OK
* checking for hidden files and directories ... OK
* checking for portable file names ... OK
* checking whether package 'OSAT' can be installed ... OK
* checking installed package size ... OK
* checking package directory ... OK
* checking 'build' directory ... OK
* checking DESCRIPTION meta-information ... OK
* checking top-level files ... OK
* checking for left-over files ... OK
* checking index information ... OK
* checking package subdirectories ... OK
* checking R files for non-ASCII characters ... OK
* checking R files for syntax errors ... OK
* checking whether the package can be loaded ... OK
* checking whether the package can be loaded with stated dependencies ... OK
* checking whether the package can be unloaded cleanly ... OK
* checking whether the namespace can be loaded with stated dependencies ... OK
* checking whether the namespace can be unloaded cleanly ... OK
* checking dependencies in R code ... OK
* checking S3 generic/method consistency ... OK
* checking replacement functions ... OK
* checking foreign function calls ... OK
* checking R code for possible problems ... NOTE
assign.sample.to.container: no visible global function definition for
'head'
barplot.gExperimentSetup: no visible global function definition for
'layout'
barplot.gExperimentSetup: no visible global function definition for
'barplot'
barplot.gExperimentSetup: no visible global function definition for
'gray'
barplot.gExperimentSetup: no visible global function definition for
'points'
barplot.gExperimentSetup: no visible global function definition for
'mtext'
multi.barplot: no visible global function definition for 'layout'
multi.barplot: no visible global function definition for 'barplot'
multi.barplot: no visible global function definition for 'gray'
multi.barplot: no visible global function definition for 'mtext'
show,gAssembly: no visible global function definition for 'head'
show,gAssembly: no visible global function definition for 'tail'
show,gContainer: no visible global function definition for 'head'
show,gContainer: no visible global function definition for 'tail'
show,gExperimentSetup: no visible global function definition for 'head'
show,gExperimentSetup: no visible global function definition for 'tail'
show,gPlate: no visible global function definition for 'head'
show,gPlate: no visible global function definition for 'tail'
show,gSample: no visible global function definition for 'head'
show,gSample: no visible global function definition for 'tail'
Undefined global functions or variables:
barplot gray head layout mtext points tail
Consider adding
importFrom("grDevices", "gray")
importFrom("graphics", "barplot", "layout", "mtext", "points")
importFrom("utils", "head", "tail")
to your NAMESPACE file.
* checking Rd files ... OK
* checking Rd metadata ... OK
* checking Rd cross-references ... OK
* checking for missing documentation entries ... OK
* checking for code/documentation mismatches ... OK
* checking Rd \usage sections ... OK
* checking Rd contents ... OK
* checking for unstated dependencies in examples ... OK
* checking contents of 'data' directory ... OK
* checking data for non-ASCII characters ... OK
* checking data for ASCII and uncompressed saves ... OK
* checking sizes of PDF files under 'inst/doc' ... OK
* checking files in 'vignettes' ... OK
* checking examples ... OK
* checking for unstated dependencies in vignettes ... OK
* checking package vignettes in 'inst/doc' ... OK
* checking running R code from vignettes ... SKIPPED
* checking re-building of vignette outputs ... SKIPPED
* checking PDF version of manual ... OK
* DONE
Status: 1 NOTE
See
'F:/biocbuild/bbs-3.16-bioc/meat/OSAT.Rcheck/00check.log'
for details.
OSAT.Rcheck/00install.out
############################################################################## ############################################################################## ### ### Running command: ### ### F:\biocbuild\bbs-3.16-bioc\R\bin\R.exe CMD INSTALL OSAT ### ############################################################################## ############################################################################## * installing to library 'F:/biocbuild/bbs-3.16-bioc/R/library' * installing *source* package 'OSAT' ... ** using staged installation ** R ** data ** inst ** byte-compile and prepare package for lazy loading ** help *** installing help indices ** building package indices ** installing vignettes ** testing if installed package can be loaded from temporary location ** testing if installed package can be loaded from final location ** testing if installed package keeps a record of temporary installation path * DONE (OSAT)
OSAT.Rcheck/OSAT-Ex.timings
| name | user | system | elapsed | |
| BeadChip-class | 0.01 | 0.00 | 0.02 | |
| BeadPlate-class | 0 | 0 | 0 | |
| MSAroboticPlate-class | 0.20 | 0.02 | 0.22 | |
| QC | 0.97 | 0.01 | 0.99 | |
| create.optimized.setup | 0.83 | 0.02 | 0.84 | |
| example.setup | 0.03 | 0.02 | 0.05 | |
| gContainer-class | 0.00 | 0.01 | 0.01 | |
| gExperimentSetup-class | 0.05 | 0.00 | 0.05 | |
| gSample-class | 0 | 0 | 0 | |
| gSlide-class | 0.03 | 0.00 | 0.03 | |
| get.experiment.setup | 0.84 | 0.00 | 0.84 | |
| multi.barplot | 0.02 | 0.02 | 0.04 | |
| multi.chisq.test | 0 | 0 | 0 | |
| optimal.block | 1.12 | 0.00 | 1.12 | |
| optimal.shuffle | 0.82 | 0.04 | 0.86 | |