| Back to Multiple platform build/check report for BioC 3.16: simplified long |
|
This page was generated on 2023-04-12 11:06:18 -0400 (Wed, 12 Apr 2023).
| Hostname | OS | Arch (*) | R version | Installed pkgs |
|---|---|---|---|---|
| nebbiolo2 | Linux (Ubuntu 20.04.5 LTS) | x86_64 | 4.2.3 (2023-03-15) -- "Shortstop Beagle" | 4502 |
| palomino4 | Windows Server 2022 Datacenter | x64 | 4.2.3 (2023-03-15 ucrt) -- "Shortstop Beagle" | 4282 |
| lconway | macOS 12.5.1 Monterey | x86_64 | 4.2.3 (2023-03-15) -- "Shortstop Beagle" | 4310 |
| Click on any hostname to see more info about the system (e.g. compilers) (*) as reported by 'uname -p', except on Windows and Mac OS X | ||||
|
To the developers/maintainers of the ORFik package: - Please allow up to 24 hours (and sometimes 48 hours) for your latest push to git@git.bioconductor.org:packages/ORFik.git to reflect on this report. See How and When does the builder pull? When will my changes propagate? for more information. - Make sure to use the following settings in order to reproduce any error or warning you see on this page. |
| Package 1413/2183 | Hostname | OS / Arch | INSTALL | BUILD | CHECK | BUILD BIN | ||||||||
| ORFik 1.18.2 (landing page) Haakon Tjeldnes
| nebbiolo2 | Linux (Ubuntu 20.04.5 LTS) / x86_64 | OK | OK | OK | |||||||||
| palomino4 | Windows Server 2022 Datacenter / x64 | OK | OK | OK | OK | |||||||||
| lconway | macOS 12.5.1 Monterey / x86_64 | OK | OK | OK | OK | |||||||||
| Package: ORFik |
| Version: 1.18.2 |
| Command: /Library/Frameworks/R.framework/Resources/bin/R CMD check --install=check:ORFik.install-out.txt --library=/Library/Frameworks/R.framework/Resources/library --no-vignettes --timings ORFik_1.18.2.tar.gz |
| StartedAt: 2023-04-10 21:40:12 -0400 (Mon, 10 Apr 2023) |
| EndedAt: 2023-04-10 21:49:20 -0400 (Mon, 10 Apr 2023) |
| EllapsedTime: 547.7 seconds |
| RetCode: 0 |
| Status: OK |
| CheckDir: ORFik.Rcheck |
| Warnings: 0 |
##############################################################################
##############################################################################
###
### Running command:
###
### /Library/Frameworks/R.framework/Resources/bin/R CMD check --install=check:ORFik.install-out.txt --library=/Library/Frameworks/R.framework/Resources/library --no-vignettes --timings ORFik_1.18.2.tar.gz
###
##############################################################################
##############################################################################
* using log directory ‘/Users/biocbuild/bbs-3.16-bioc/meat/ORFik.Rcheck’
* using R version 4.2.3 (2023-03-15)
* using platform: x86_64-apple-darwin17.0 (64-bit)
* using session charset: UTF-8
* using option ‘--no-vignettes’
* checking for file ‘ORFik/DESCRIPTION’ ... OK
* checking extension type ... Package
* this is package ‘ORFik’ version ‘1.18.2’
* package encoding: UTF-8
* checking package namespace information ... OK
* checking package dependencies ... OK
* checking if this is a source package ... OK
* checking if there is a namespace ... OK
* checking for hidden files and directories ... OK
* checking for portable file names ... OK
* checking for sufficient/correct file permissions ... OK
* checking whether package ‘ORFik’ can be installed ... OK
* checking installed package size ... OK
* checking package directory ... OK
* checking ‘build’ directory ... OK
* checking DESCRIPTION meta-information ... OK
* checking top-level files ... OK
* checking for left-over files ... OK
* checking index information ... OK
* checking package subdirectories ... OK
* checking R files for non-ASCII characters ... OK
* checking R files for syntax errors ... OK
* checking whether the package can be loaded ... OK
* checking whether the package can be loaded with stated dependencies ... OK
* checking whether the package can be unloaded cleanly ... OK
* checking whether the namespace can be loaded with stated dependencies ... OK
* checking whether the namespace can be unloaded cleanly ... OK
* checking dependencies in R code ... NOTE
Unexported objects imported by ':::' calls:
‘GenomicFeatures:::.merge_seqinfo_and_infer_missing_seqlengths’
‘IRanges:::regroupBySupergroup’ ‘S4Vectors:::normarg_mcols’
‘biomartr:::getENSEMBL.Seq’ ‘biomartr:::getENSEMBL.gtf’
See the note in ?`:::` about the use of this operator.
There are ::: calls to the package's namespace in its code. A package
almost never needs to use ::: for its own objects:
‘find_url_ebi’ ‘revElementsF’ ‘save.fstwig’ ‘trimming.table’
* checking S3 generic/method consistency ... OK
* checking replacement functions ... OK
* checking foreign function calls ... OK
* checking R code for possible problems ... NOTE
DEG.plot.static: no visible binding for global variable ‘Regulation’
DEG.plot.static: no visible binding for global variable ‘meanCounts’
DEG.plot.static: no visible binding for global variable ‘LFC’
DTEG.plot: no visible binding for global variable ‘Regulation’
DTEG.plot: no visible binding for global variable ‘rna’
DTEG.plot: no visible binding for global variable ‘rfp’
QCplots: no visible binding for global variable ‘leaders’
QCplots: no visible binding for global variable ‘trailers’
QCstats.plot: no visible binding for global variable ‘variable’
QCstats.plot: no visible binding for global variable ‘sample_total’
QCstats.plot: no visible binding for global variable ‘value’
QCstats.plot: no visible global function definition for ‘.’
QCstats.plot: no visible binding for global variable ‘sample_id’
QCstats.plot: no visible binding for global variable ‘percentage’
QCstats.plot: no visible binding for global variable
‘perc_of_counts_per_sample’
QCstats.plot: no visible binding for global variable ‘read length’
RiboQC.plot: no visible binding for global variable ‘variable’
RiboQC.plot: no visible binding for global variable ‘sample_total’
RiboQC.plot: no visible binding for global variable ‘value’
RiboQC.plot: no visible global function definition for ‘.’
RiboQC.plot: no visible binding for global variable ‘sample_id’
RiboQC.plot: no visible binding for global variable ‘percentage’
RiboQC.plot: no visible binding for global variable ‘percent’
RiboQC.plot: no visible binding for global variable ‘frame’
STAR.multiQC: no visible binding for global variable ‘sample_id’
STAR.multiQC: no visible binding for global variable ‘value’
TOP.Motif.ecdf: no visible binding for global variable ‘seq1’
TOP.Motif.ecdf: no visible binding for global variable ‘TOP’
alignmentFeatureStatistics : <anonymous>: no visible binding for global
variable ‘percentage_mrna_aligned’
alignmentFeatureStatistics : <anonymous>: no visible binding for global
variable ‘mRNA’
alignmentFeatureStatistics : <anonymous>: no visible binding for global
variable ‘percentage_tx_aligned’
alignmentFeatureStatistics : <anonymous>: no visible binding for global
variable ‘Transcript’
alignmentFeatureStatistics : <anonymous>: no visible binding for global
variable ‘ratio_cds_mrna’
alignmentFeatureStatistics : <anonymous>: no visible binding for global
variable ‘CDS’
alignmentFeatureStatistics : <anonymous>: no visible binding for global
variable ‘ratio_cds_leader’
alignmentFeatureStatistics : <anonymous>: no visible binding for global
variable ‘LEADERS’
allFeaturesHelper: no visible binding for global variable ‘te’
allFeaturesHelper: no visible binding for global variable ‘fpkmRFP’
allFeaturesHelper: no visible binding for global variable ‘fpkmRNA’
allFeaturesHelper: no visible binding for global variable ‘countRFP’
allFeaturesHelper: no visible binding for global variable ‘entropyRFP’
allFeaturesHelper: no visible binding for global variable
‘disengagementScores’
allFeaturesHelper: no visible binding for global variable ‘RRS’
allFeaturesHelper: no visible binding for global variable ‘RSS’
allFeaturesHelper: no visible binding for global variable ‘ORFScores’
allFeaturesHelper: no visible binding for global variable ‘ioScore’
allFeaturesHelper: no visible binding for global variable
‘startCodonCoverage’
allFeaturesHelper: no visible binding for global variable
‘startRegionRelative’
allFeaturesHelper: no visible binding for global variable ‘kozak’
allFeaturesHelper: no visible binding for global variable ‘StartCodons’
allFeaturesHelper: no visible binding for global variable ‘StopCodons’
allFeaturesHelper: no visible binding for global variable
‘fractionLengths’
allFeaturesHelper: no visible binding for global variable ‘distORFCDS’
allFeaturesHelper: no visible binding for global variable ‘inFrameCDS’
allFeaturesHelper: no visible binding for global variable
‘isOverlappingCds’
allFeaturesHelper: no visible binding for global variable ‘rankInTx’
appendZeroes: no visible binding for global variable ‘frame’
appendZeroes: no visible binding for global variable ‘position’
appendZeroes: no visible binding for global variable ‘count’
artificial.orfs: no visible binding for global variable ‘random’
artificial.orfs: no visible binding for global variable ‘pick’
artificial.orfs: no visible global function definition for ‘.’
codon_usage_exp: no visible global function definition for ‘translate’
codon_usage_exp: no visible binding for global variable ‘type’
collapse.by.scores: no visible global function definition for ‘.’
collapse.fastq.internal: no visible binding for global variable ‘N’
cor_plot: no visible binding for global variable ‘Var2’
cor_plot: no visible binding for global variable ‘Var1’
cor_plot: no visible binding for global variable ‘Cor’
cor_table: no visible binding for global variable ‘Var1’
cor_table: no visible binding for global variable ‘Var2’
cor_table: no visible binding for global variable ‘Cor’
coverageHeatMap: no visible binding for global variable ‘position’
coverageHeatMap: no visible binding for global variable ‘fraction’
coverageScorings: no visible binding for global variable ‘count’
coverageScorings: no visible binding for global variable ‘zscore’
coverageScorings: no visible binding for global variable ‘windowMean’
coverageScorings: no visible binding for global variable ‘windowSD’
coverageScorings: no visible global function definition for ‘.’
coverageScorings: no visible binding for global variable ‘gene_sum’
coverageScorings: no visible binding for global variable ‘fraction’
coverage_random_access_file: no visible binding for global variable
‘position’
coverage_random_access_file: no visible binding for global variable
‘frame’
coverage_to_dt: no visible binding for global variable ‘frame’
coverage_to_dt: no visible binding for global variable ‘position’
detectRibosomeShifts: no visible global function definition for ‘.’
detectRibosomeShifts: no visible binding for global variable ‘size’
detectRibosomeShifts: no visible binding for global variable ‘fraction’
detectRibosomeShifts: no visible binding for global variable ‘pShifted’
detectRibosomeShifts: no visible binding for global variable
‘sum.count’
detectRibosomeShifts: no visible binding for global variable ‘count’
detectRibosomeShifts: no visible binding for global variable
‘frac.score’
download.SRA.metadata: no visible binding for global variable ‘spots’
download.SRA.metadata: no visible binding for global variable ‘MONTH’
download.SRA.metadata: no visible binding for global variable
‘ReleaseDate’
download.SRA.metadata: no visible binding for global variable ‘YEAR’
entropy: no visible binding for global variable ‘Hx’
entropy: no visible binding for global variable ‘codonSums’
entropy: no visible global function definition for ‘.’
filterExtremePeakGenes: no visible binding for global variable ‘count’
filterExtremePeakGenes: no visible binding for global variable
‘median_per_gene’
filterExtremePeakGenes: no visible global function definition for ‘.’
filterTranscripts: no visible binding for global variable ‘utr5_len’
filterTranscripts: no visible binding for global variable ‘utr3_len’
findNGSPairs: no visible global function definition for ‘.’
findNGSPairs: no visible binding for global variable ‘forward’
findPeaksPerGene: no visible binding for global variable ‘sum_per_gene’
findPeaksPerGene: no visible binding for global variable ‘count’
findPeaksPerGene: no visible binding for global variable
‘mean_per_gene’
findPeaksPerGene: no visible binding for global variable ‘sd_per_gene’
findPeaksPerGene: no visible binding for global variable ‘zscore’
findPeaksPerGene: no visible binding for global variable ‘gene_id’
find_url_ebi_safe: no visible binding for global variable
‘run_accession’
flankPerGroup: no visible global function definition for ‘.’
flankPerGroup: no visible binding for global variable ‘group_name’
floss: no visible binding for global variable ‘ORFGrouping’
floss: no visible binding for global variable ‘widths’
floss: no visible global function definition for ‘.’
floss: no visible binding for global variable ‘CDSGrouping’
floss: no visible binding for global variable ‘fraction.x’
floss: no visible binding for global variable ‘fraction.y’
gSort: no visible binding for global variable ‘grnames’
geneToSymbol: no visible binding for global variable ‘ensembl_gene_id’
getNGenesCoverage: no visible global function definition for ‘.’
getNGenesCoverage: no visible binding for global variable ‘fraction’
get_phix_genome: no visible binding for global variable ‘phix.url’
initiationScore: no visible global function definition for ‘.’
initiationScore: no visible binding for global variable ‘dif’
initiationScore: no visible binding for global variable ‘fraction’
initiationScore: no visible binding for global variable ‘difPer’
isPeriodic: no visible binding for global variable ‘spec’
kozakHeatmap: no visible global function definition for ‘.’
kozakHeatmap: no visible binding for global variable ‘variable’
kozakHeatmap: no visible binding for global variable ‘value’
kozakHeatmap: no visible binding for global variable
‘count_seq_pos_with_count’
kozakHeatmap: no visible binding for global variable ‘median_score’
kozak_IR_ranking: no visible global function definition for ‘.’
kozak_IR_ranking: no visible binding for global variable ‘IR’
kozak_IR_ranking: no visible binding for global variable
‘upstream_kozak_strength’
kozak_IR_ranking: no visible binding for global variable ‘count’
kozak_IR_ranking: no visible binding for global variable ‘mean_IR’
list.genomes: no visible binding for global variable ‘STAR_index’
longestORFs: no visible global function definition for ‘.’
metaWindow: no visible binding for global variable ‘position’
metaWindow: no visible binding for global variable ‘frame’
metadata.autnaming: no visible binding for global variable
‘LIBRARYTYPE’
metadata.autnaming: no visible binding for global variable
‘LibraryStrategy’
orfFrameDistributions : <anonymous>: no visible binding for global
variable ‘fraction’
orfFrameDistributions: no visible binding for global variable ‘percent’
orfFrameDistributions: no visible binding for global variable
‘fraction’
orfFrameDistributions: no visible binding for global variable
‘percent_length’
orfFrameDistributions: no visible global function definition for ‘.’
orfFrameDistributions: no visible binding for global variable
‘best_frame’
orfScore: no visible binding for global variable ‘frame’
orfScore: no visible binding for global variable ‘frame_one_RP’
orfScore: no visible binding for global variable ‘frame_two_RP’
pSitePlot: no visible binding for global variable ‘count’
pSitePlot: no visible binding for global variable ‘frame’
pSitePlot: no visible binding for global variable ‘position’
pcaExperiment: no visible binding for global variable ‘PC1’
pcaExperiment: no visible binding for global variable ‘PC2’
readLengthTable: no visible binding for global variable
‘counts_per_sample’
readLengthTable: no visible binding for global variable
‘perc_of_counts_per_sample’
regionPerReadLength : <anonymous>: no visible binding for global
variable ‘fraction’
remakeTxdbExonIds: no visible global function definition for ‘.’
remakeTxdbExonIds: no visible binding for global variable ‘chr’
removeTxdbExons: no visible binding for global variable ‘exon_rank’
removeTxdbExons: no visible binding for global variable ‘ranks’
ribo_fft: no visible binding for global variable ‘fraction’
ribo_fft_plot: no visible binding for global variable ‘periods’
ribo_fft_plot: no visible binding for global variable ‘amplitude’
rnaNormalize: no visible binding for global variable ‘feature’
sample_info_append_SRA: no visible binding for global variable ‘Run’
scaledWindowPositions: no visible binding for global variable
‘scalingFactor’
scaledWindowPositions: no visible binding for global variable
‘position’
scaledWindowPositions: no visible global function definition for ‘.’
scoreSummarizedExperiment: no visible global function definition for
‘rowSums2’
seq_usage: no visible binding for global variable ‘variable’
seq_usage: no visible binding for global variable ‘codon_sum’
seq_usage: no visible global function definition for ‘frollsum’
seq_usage: no visible global function definition for ‘.’
seq_usage: no visible binding for global variable ‘gene_sum’
seq_usage: no visible binding for global variable
‘N_AA_of_type_per_gene’
seq_usage: no visible binding for global variable ‘as_prob_normalized’
seq_usage: no visible binding for global variable ‘N_total’
seq_usage: no visible binding for global variable ‘N’
seq_usage: no visible binding for global variable ‘mean_txNorm’
seq_usage: no visible binding for global variable ‘sum_txNorm’
seq_usage: no visible binding for global variable ‘dispersion’
seq_usage: no visible binding for global variable ‘dispersion_txNorm’
seq_usage: no visible binding for global variable ‘var_txNorm’
seq_usage: no visible binding for global variable ‘mean_percentage’
seq_usage: no visible binding for global variable ‘mean_txNorm_prob’
seq_usage: no visible binding for global variable
‘mean_txNorm_percentage’
seq_usage: no visible global function definition for ‘setorderv’
shiftPlots : <anonymous>: no visible binding for global variable
‘frame’
shiftPlots : <anonymous>: no visible binding for global variable
‘position’
te.plot: no visible global function definition for ‘rowMin’
te.plot: no visible binding for global variable ‘variable’
te.plot: no visible binding for global variable ‘LFC_TE’
te.plot: no visible binding for global variable ‘rfp_log2’
te.plot: no visible binding for global variable ‘rna_log2’
te.plot: no visible binding for global variable ‘rna_log10’
te.table: no visible global function definition for ‘rowMin’
te.table: no visible binding for global variable ‘variable’
te.table: no visible binding for global variable ‘TE_log2’
te.table: no visible binding for global variable ‘rfp_log2’
te.table: no visible binding for global variable ‘rna_log2’
te_rna.plot: no visible binding for global variable ‘subtitle’
te_rna.plot: no visible binding for global variable ‘rna_log10’
te_rna.plot: no visible binding for global variable ‘TE_log2’
topMotif: no visible binding for global variable ‘seq1’
topMotif: no visible binding for global variable ‘seq2’
topMotif: no visible binding for global variable ‘seq3’
topMotif: no visible binding for global variable ‘seq4’
topMotif: no visible binding for global variable ‘seq5’
transcriptWindow: no visible binding for global variable ‘fractions’
transcriptWindow: no visible binding for global variable ‘feature’
windowCoveragePlot: no visible binding for global variable ‘feature’
windowCoveragePlot: no visible binding for global variable ‘fraction’
windowCoveragePlot: no visible binding for global variable
‘fraction_min’
windowCoveragePlot: no visible binding for global variable ‘position’
collapseDuplicatedReads,GAlignmentPairs: no visible global function
definition for ‘.’
collapseDuplicatedReads,GAlignmentPairs: no visible binding for global
variable ‘start1’
collapseDuplicatedReads,GAlignmentPairs: no visible binding for global
variable ‘start2’
collapseDuplicatedReads,GAlignmentPairs: no visible binding for global
variable ‘cigar1’
collapseDuplicatedReads,GAlignmentPairs: no visible binding for global
variable ‘cigar2’
collapseDuplicatedReads,GAlignments: no visible global function
definition for ‘.’
collapseDuplicatedReads,GRanges: no visible binding for global variable
‘size’
collapseDuplicatedReads,GRanges: no visible global function definition
for ‘.’
design,experiment: no visible binding for global variable ‘..formula’
seqlevels,experiment: no visible binding for global variable ‘df’
show,covRleList: no visible global function definition for ‘head’
Undefined global functions or variables:
. ..formula CDS CDSGrouping Cor Hx IR LEADERS LFC LFC_TE LIBRARYTYPE
LibraryStrategy MONTH N N_AA_of_type_per_gene N_total ORFGrouping
ORFScores PC1 PC2 RRS RSS Regulation ReleaseDate Run STAR_index
StartCodons StopCodons TE_log2 TOP Transcript Var1 Var2 YEAR
amplitude as_prob_normalized best_frame chr cigar1 cigar2 codonSums
codon_sum count countRFP count_seq_pos_with_count counts_per_sample
df dif difPer disengagementScores dispersion dispersion_txNorm
distORFCDS ensembl_gene_id entropyRFP exon_rank feature forward
fpkmRFP fpkmRNA frac.score fraction fraction.x fraction.y
fractionLengths fraction_min fractions frame frame_one_RP
frame_two_RP frollsum gene_id gene_sum grnames group_name head
inFrameCDS ioScore isOverlappingCds kozak leaders mRNA meanCounts
mean_IR mean_per_gene mean_percentage mean_txNorm
mean_txNorm_percentage mean_txNorm_prob median_per_gene median_score
pShifted perc_of_counts_per_sample percent percent_length percentage
percentage_mrna_aligned percentage_tx_aligned periods phix.url pick
position random rankInTx ranks ratio_cds_leader ratio_cds_mrna read
length rfp rfp_log2 rna rna_log10 rna_log2 rowMin rowSums2
run_accession sample_id sample_total scalingFactor sd_per_gene seq1
seq2 seq3 seq4 seq5 setorderv size spec spots start1 start2
startCodonCoverage startRegionRelative subtitle sum.count
sum_per_gene sum_txNorm te trailers translate type
upstream_kozak_strength utr3_len utr5_len value var_txNorm variable
widths windowMean windowSD zscore
Consider adding
importFrom("base", "length")
importFrom("graphics", "frame")
importFrom("stats", "df")
importFrom("utils", "head")
to your NAMESPACE file.
* checking Rd files ... OK
* checking Rd metadata ... OK
* checking Rd cross-references ... OK
* checking for missing documentation entries ... OK
* checking for code/documentation mismatches ... OK
* checking Rd \usage sections ... OK
* checking Rd contents ... OK
* checking for unstated dependencies in examples ... OK
* checking line endings in C/C++/Fortran sources/headers ... OK
* checking line endings in Makefiles ... OK
* checking compilation flags in Makevars ... OK
* checking for GNU extensions in Makefiles ... OK
* checking for portable use of $(BLAS_LIBS) and $(LAPACK_LIBS) ... OK
* checking use of PKG_*FLAGS in Makefiles ... OK
* checking compiled code ... NOTE
Note: information on .o files is not available
* checking files in ‘vignettes’ ... OK
* checking examples ... OK
Examples with CPU (user + system) or elapsed time > 5s
user system elapsed
computeFeatures 6.469 0.040 9.894
download.SRA.metadata 0.216 0.035 7.644
* checking for unstated dependencies in ‘tests’ ... OK
* checking tests ...
Running ‘testthat.R’
OK
* checking for unstated dependencies in vignettes ... OK
* checking package vignettes in ‘inst/doc’ ... OK
* checking running R code from vignettes ... SKIPPED
* checking re-building of vignette outputs ... SKIPPED
* checking PDF version of manual ... OK
* DONE
Status: 3 NOTEs
See
‘/Users/biocbuild/bbs-3.16-bioc/meat/ORFik.Rcheck/00check.log’
for details.
ORFik.Rcheck/00install.out
##############################################################################
##############################################################################
###
### Running command:
###
### /Library/Frameworks/R.framework/Resources/bin/R CMD INSTALL ORFik
###
##############################################################################
##############################################################################
* installing to library ‘/Library/Frameworks/R.framework/Versions/4.2/Resources/library’
* installing *source* package ‘ORFik’ ...
** using staged installation
** libs
clang++ -mmacosx-version-min=10.13 -std=gnu++11 -I"/Library/Frameworks/R.framework/Resources/include" -DNDEBUG -I'/Library/Frameworks/R.framework/Versions/4.2/Resources/library/Rcpp/include' -I/usr/local/include -fPIC -Wall -g -O2 -c RcppExports.cpp -o RcppExports.o
clang++ -mmacosx-version-min=10.13 -std=gnu++11 -I"/Library/Frameworks/R.framework/Resources/include" -DNDEBUG -I'/Library/Frameworks/R.framework/Versions/4.2/Resources/library/Rcpp/include' -I/usr/local/include -fPIC -Wall -g -O2 -c findORFsHelpers.cpp -o findORFsHelpers.o
clang++ -mmacosx-version-min=10.13 -std=gnu++11 -I"/Library/Frameworks/R.framework/Resources/include" -DNDEBUG -I'/Library/Frameworks/R.framework/Versions/4.2/Resources/library/Rcpp/include' -I/usr/local/include -fPIC -Wall -g -O2 -c findOrfs.cpp -o findOrfs.o
clang++ -mmacosx-version-min=10.13 -std=gnu++11 -I"/Library/Frameworks/R.framework/Resources/include" -DNDEBUG -I'/Library/Frameworks/R.framework/Versions/4.2/Resources/library/Rcpp/include' -I/usr/local/include -fPIC -Wall -g -O2 -c findOrfsFasta.cpp -o findOrfsFasta.o
clang++ -mmacosx-version-min=10.13 -std=gnu++11 -I"/Library/Frameworks/R.framework/Resources/include" -DNDEBUG -I'/Library/Frameworks/R.framework/Versions/4.2/Resources/library/Rcpp/include' -I/usr/local/include -fPIC -Wall -g -O2 -c pmapFromTranscripts.cpp -o pmapFromTranscripts.o
clang++ -mmacosx-version-min=10.13 -std=gnu++11 -I"/Library/Frameworks/R.framework/Resources/include" -DNDEBUG -I'/Library/Frameworks/R.framework/Versions/4.2/Resources/library/Rcpp/include' -I/usr/local/include -fPIC -Wall -g -O2 -c pmapToTranscripts.cpp -o pmapToTranscripts.o
pmapToTranscripts.cpp:22:7: warning: variable 'currentWidth' set but not used [-Wunused-but-set-variable]
int currentWidth = 0;
^
pmapToTranscripts.cpp:68:7: warning: variable 'currentWidth' set but not used [-Wunused-but-set-variable]
int currentWidth = 0;
^
2 warnings generated.
clang++ -mmacosx-version-min=10.13 -std=gnu++11 -dynamiclib -Wl,-headerpad_max_install_names -undefined dynamic_lookup -single_module -multiply_defined suppress -L/Library/Frameworks/R.framework/Resources/lib -L/usr/local/lib -o ORFik.so RcppExports.o findORFsHelpers.o findOrfs.o findOrfsFasta.o pmapFromTranscripts.o pmapToTranscripts.o -F/Library/Frameworks/R.framework/.. -framework R -Wl,-framework -Wl,CoreFoundation
installing to /Library/Frameworks/R.framework/Versions/4.2/Resources/library/00LOCK-ORFik/00new/ORFik/libs
** R
** inst
** byte-compile and prepare package for lazy loading
Creating a new generic function for ‘symbols’ in package ‘ORFik’
** help
*** installing help indices
** building package indices
** installing vignettes
** testing if installed package can be loaded from temporary location
** checking absolute paths in shared objects and dynamic libraries
** testing if installed package can be loaded from final location
** testing if installed package keeps a record of temporary installation path
* DONE (ORFik)
ORFik.Rcheck/tests/testthat.Rout
R version 4.2.3 (2023-03-15) -- "Shortstop Beagle"
Copyright (C) 2023 The R Foundation for Statistical Computing
Platform: x86_64-apple-darwin17.0 (64-bit)
R is free software and comes with ABSOLUTELY NO WARRANTY.
You are welcome to redistribute it under certain conditions.
Type 'license()' or 'licence()' for distribution details.
R is a collaborative project with many contributors.
Type 'contributors()' for more information and
'citation()' on how to cite R or R packages in publications.
Type 'demo()' for some demos, 'help()' for on-line help, or
'help.start()' for an HTML browser interface to help.
Type 'q()' to quit R.
> library(testthat)
> library(ORFik)
Loading required package: IRanges
Loading required package: BiocGenerics
Attaching package: 'BiocGenerics'
The following objects are masked from 'package:stats':
IQR, mad, sd, var, xtabs
The following objects are masked from 'package:base':
Filter, Find, Map, Position, Reduce, anyDuplicated, aperm, append,
as.data.frame, basename, cbind, colnames, dirname, do.call,
duplicated, eval, evalq, get, grep, grepl, intersect, is.unsorted,
lapply, mapply, match, mget, order, paste, pmax, pmax.int, pmin,
pmin.int, rank, rbind, rownames, sapply, setdiff, sort, table,
tapply, union, unique, unsplit, which.max, which.min
Loading required package: S4Vectors
Loading required package: stats4
Attaching package: 'S4Vectors'
The following objects are masked from 'package:base':
I, expand.grid, unname
Loading required package: GenomicRanges
Loading required package: GenomeInfoDb
Loading required package: GenomicAlignments
Loading required package: SummarizedExperiment
Loading required package: MatrixGenerics
Loading required package: matrixStats
Attaching package: 'MatrixGenerics'
The following objects are masked from 'package:matrixStats':
colAlls, colAnyNAs, colAnys, colAvgsPerRowSet, colCollapse,
colCounts, colCummaxs, colCummins, colCumprods, colCumsums,
colDiffs, colIQRDiffs, colIQRs, colLogSumExps, colMadDiffs,
colMads, colMaxs, colMeans2, colMedians, colMins, colOrderStats,
colProds, colQuantiles, colRanges, colRanks, colSdDiffs, colSds,
colSums2, colTabulates, colVarDiffs, colVars, colWeightedMads,
colWeightedMeans, colWeightedMedians, colWeightedSds,
colWeightedVars, rowAlls, rowAnyNAs, rowAnys, rowAvgsPerColSet,
rowCollapse, rowCounts, rowCummaxs, rowCummins, rowCumprods,
rowCumsums, rowDiffs, rowIQRDiffs, rowIQRs, rowLogSumExps,
rowMadDiffs, rowMads, rowMaxs, rowMeans2, rowMedians, rowMins,
rowOrderStats, rowProds, rowQuantiles, rowRanges, rowRanks,
rowSdDiffs, rowSds, rowSums2, rowTabulates, rowVarDiffs, rowVars,
rowWeightedMads, rowWeightedMeans, rowWeightedMedians,
rowWeightedSds, rowWeightedVars
Loading required package: Biobase
Welcome to Bioconductor
Vignettes contain introductory material; view with
'browseVignettes()'. To cite Bioconductor, see
'citation("Biobase")', and for packages 'citation("pkgname")'.
Attaching package: 'Biobase'
The following object is masked from 'package:MatrixGenerics':
rowMedians
The following objects are masked from 'package:matrixStats':
anyMissing, rowMedians
Loading required package: Biostrings
Loading required package: XVector
Attaching package: 'Biostrings'
The following object is masked from 'package:base':
strsplit
Loading required package: Rsamtools
Attaching package: 'ORFik'
The following object is masked from 'package:graphics':
symbols
>
> test_check("ORFik")
Regulation
No change
6
widths group.size
Min. : 6 Min. :1.000
1st Qu.: 9 1st Qu.:1.500
Median :12 Median :2.000
Mean :12 Mean :1.667
3rd Qu.:15 3rd Qu.:2.000
Max. :18 Max. :2.000
Error in x$.self$finalize() : attempt to apply non-function
Error in (function (x) : attempt to apply non-function
In addition: Warning message:
call dbDisconnect() when finished working with a connection
[1] "CAGE_Mutant_r1"
[1] "CAGE_Mutant_r2"
[1] "CAGE_WT_r1"
[1] "CAGE_WT_r2"
[1] "PAS_Mutant_r1"
[1] "PAS_Mutant_r2"
[1] "PAS_WT_r1"
[1] "PAS_WT_r2"
[1] "RFP_Mutant_r1"
[1] "RFP_Mutant_r2"
[1] "RFP_WT_r1"
[1] "RFP_WT_r2"
[1] "RNA_Mutant_r1"
[1] "RNA_Mutant_r2"
[1] "RNA_WT_r1"
[1] "RNA_WT_r2"
[1] "RFP"
[1] "RFP"
[1] "RFP"
[1] "RFP"
[ FAIL 0 | WARN 0 | SKIP 0 | PASS 405 ]
>
> proc.time()
user system elapsed
70.794 3.692 74.188
ORFik.Rcheck/ORFik-Ex.timings
| name | user | system | elapsed | |
| DEG.analysis | 0.668 | 0.036 | 0.812 | |
| DEG.plot.static | 1.384 | 0.008 | 1.397 | |
| DTEG.analysis | 0.527 | 0.027 | 0.560 | |
| DTEG.plot | 0.491 | 0.047 | 0.539 | |
| ORFik.template.experiment | 0.504 | 0.054 | 0.562 | |
| ORFik.template.experiment.zf | 0.077 | 0.009 | 0.087 | |
| ORFikQC | 0.445 | 0.037 | 0.504 | |
| QCreport | 0.348 | 0.008 | 0.364 | |
| QCstats | 0.316 | 0.006 | 0.350 | |
| QCstats.plot | 0.320 | 0.004 | 0.325 | |
| RiboQC.plot | 0.335 | 0.004 | 0.340 | |
| STAR.align.folder | 0.000 | 0.000 | 0.001 | |
| STAR.align.single | 0.001 | 0.000 | 0.001 | |
| STAR.index | 0.000 | 0.000 | 0.001 | |
| STAR.install | 0.001 | 0.000 | 0.000 | |
| STAR.remove.crashed.genome | 0.000 | 0.001 | 0.000 | |
| TOP.Motif.ecdf | 0 | 0 | 0 | |
| artificial.orfs | 0.327 | 0.004 | 0.332 | |
| asTX | 0.689 | 0.007 | 0.701 | |
| assignTSSByCage | 0.002 | 0.001 | 0.002 | |
| bamVarName | 0.837 | 0.008 | 0.848 | |
| collapse.by.scores | 0.126 | 0.002 | 0.130 | |
| collapse.fastq | 0.000 | 0.001 | 0.001 | |
| collapseDuplicatedReads-GAlignmentPairs-method | 0.076 | 0.002 | 0.078 | |
| collapseDuplicatedReads-GAlignments-method | 0.029 | 0.001 | 0.030 | |
| collapseDuplicatedReads-GRanges-method | 0.051 | 0.002 | 0.053 | |
| collapseDuplicatedReads | 0.029 | 0.000 | 0.029 | |
| combn.pairs | 0.348 | 0.003 | 0.352 | |
| computeFeatures | 6.469 | 0.040 | 9.894 | |
| computeFeaturesCage | 0.001 | 0.000 | 0.000 | |
| config | 0.000 | 0.000 | 0.001 | |
| config.exper | 0 | 0 | 0 | |
| config.save | 0 | 0 | 0 | |
| convertLibs | 0.507 | 0.005 | 0.671 | |
| convertToOneBasedRanges | 0.165 | 0.002 | 0.179 | |
| convert_bam_to_ofst | 0.193 | 0.010 | 0.215 | |
| convert_to_bigWig | 0.917 | 0.038 | 1.034 | |
| convert_to_covRle | 0.454 | 0.009 | 0.467 | |
| convert_to_covRleList | 0.742 | 0.010 | 0.755 | |
| countOverlapsW | 0.077 | 0.001 | 0.077 | |
| countTable | 0.390 | 0.003 | 0.395 | |
| countTable_regions | 0.321 | 0.004 | 0.326 | |
| covRle | 0.046 | 0.001 | 0.047 | |
| covRleFromGR | 0.102 | 0.002 | 0.103 | |
| covRleList | 0.016 | 0.000 | 0.017 | |
| coverageHeatMap | 1.575 | 0.015 | 2.404 | |
| coveragePerTiling | 1.106 | 0.007 | 1.801 | |
| coverageScorings | 0.009 | 0.001 | 0.019 | |
| create.experiment | 0.494 | 0.003 | 0.859 | |
| defineTrailer | 0.214 | 0.001 | 0.356 | |
| design-experiment-method | 0.539 | 0.004 | 0.897 | |
| detectRibosomeShifts | 0.002 | 0.001 | 0.003 | |
| disengagementScore | 0.855 | 0.004 | 1.364 | |
| distToCds | 0.295 | 0.002 | 0.467 | |
| distToTSS | 0.280 | 0.002 | 0.468 | |
| download.SRA | 0 | 0 | 0 | |
| download.SRA.metadata | 0.216 | 0.035 | 7.644 | |
| entropy | 0.758 | 0.015 | 0.787 | |
| experiment-class | 0.339 | 0.003 | 0.344 | |
| export.bed12 | 0.015 | 0.000 | 0.015 | |
| export.bigWig | 0.027 | 0.000 | 0.028 | |
| export.fstwig | 0.043 | 0.001 | 0.043 | |
| export.ofst-GAlignmentPairs-method | 0.052 | 0.000 | 0.052 | |
| export.ofst-GAlignments-method | 0.052 | 0.000 | 0.053 | |
| export.ofst-GRanges-method | 0.060 | 0.001 | 0.061 | |
| export.ofst | 0.057 | 0.000 | 0.058 | |
| export.wiggle | 0.033 | 0.000 | 0.033 | |
| extendLeaders | 1.087 | 0.042 | 1.137 | |
| extendTrailers | 0.582 | 0.010 | 0.595 | |
| filepath | 0.335 | 0.003 | 0.339 | |
| filterTranscripts | 1.135 | 0.007 | 1.144 | |
| fimport | 0.211 | 0.012 | 0.224 | |
| findFa | 0.002 | 0.000 | 0.003 | |
| findMapORFs | 0.440 | 0.005 | 0.446 | |
| findORFs | 0.142 | 0.002 | 0.145 | |
| findORFsFasta | 0.080 | 0.004 | 0.086 | |
| findPeaksPerGene | 0.957 | 0.012 | 0.970 | |
| findUORFs | 0.000 | 0.000 | 0.001 | |
| find_url_ebi | 0.030 | 0.007 | 2.967 | |
| firstEndPerGroup | 0.046 | 0.001 | 0.048 | |
| firstExonPerGroup | 0.054 | 0.001 | 0.056 | |
| firstStartPerGroup | 0.051 | 0.001 | 0.051 | |
| flankPerGroup | 0.072 | 0.001 | 0.073 | |
| floss | 0.227 | 0.001 | 0.228 | |
| fpkm | 0.097 | 0.001 | 0.097 | |
| fractionLength | 0.055 | 0.001 | 0.056 | |
| fread.bed | 0.031 | 0.012 | 0.056 | |
| gcContent | 0.358 | 0.002 | 0.361 | |
| geneToSymbol | 0.000 | 0.000 | 0.001 | |
| getGenomeAndAnnotation | 0.000 | 0.000 | 0.001 | |
| get_bioproject_candidates | 0 | 0 | 0 | |
| get_genome_fasta | 0.000 | 0.001 | 0.001 | |
| get_genome_gtf | 0.001 | 0.001 | 0.001 | |
| get_noncoding_rna | 0.000 | 0.001 | 0.001 | |
| get_phix_genome | 0.000 | 0.001 | 0.001 | |
| get_silva_rRNA | 0.000 | 0.001 | 0.000 | |
| groupGRangesBy | 0.053 | 0.001 | 0.053 | |
| groupings | 0.035 | 0.000 | 0.035 | |
| heatMapRegion | 1.248 | 0.005 | 1.256 | |
| import.ofst | 0.071 | 0.001 | 0.071 | |
| initiationScore | 0.789 | 0.003 | 0.793 | |
| insideOutsideORF | 0.692 | 0.004 | 0.697 | |
| install.fastp | 0.001 | 0.000 | 0.000 | |
| install.sratoolkit | 0.000 | 0.001 | 0.000 | |
| isInFrame | 0.171 | 0.001 | 0.172 | |
| isOverlapping | 0.181 | 0.001 | 0.182 | |
| kozakHeatmap | 0.000 | 0.001 | 0.000 | |
| kozakSequenceScore | 0.441 | 0.003 | 0.450 | |
| lastExonEndPerGroup | 0.057 | 0.001 | 0.058 | |
| lastExonPerGroup | 0.060 | 0.001 | 0.061 | |
| lastExonStartPerGroup | 0.055 | 0.001 | 0.056 | |
| libraryTypes | 0.343 | 0.003 | 0.348 | |
| list.experiments | 0.166 | 0.002 | 0.169 | |
| list.genomes | 0.001 | 0.000 | 0.001 | |
| loadRegion | 0.498 | 0.012 | 0.512 | |
| loadRegions | 0.656 | 0.014 | 0.672 | |
| loadTranscriptType | 0 | 0 | 0 | |
| loadTxdb | 0.136 | 0.006 | 0.143 | |
| longestORFs | 0.096 | 0.001 | 0.098 | |
| makeORFNames | 0.058 | 0.001 | 0.059 | |
| makeSummarizedExperimentFromBam | 0.294 | 0.002 | 0.295 | |
| makeTxdbFromGenome | 0 | 0 | 0 | |
| mergeFastq | 0.000 | 0.000 | 0.001 | |
| mergeLibs | 0.326 | 0.003 | 0.331 | |
| metaWindow | 0.188 | 0.002 | 0.191 | |
| numExonsPerGroup | 0.027 | 0.000 | 0.028 | |
| optimizedTranscriptLengths | 0.813 | 0.012 | 0.827 | |
| orfFrameDistributions | 2.667 | 0.478 | 3.108 | |
| orfScore | 0.619 | 0.078 | 0.699 | |
| organism-experiment-method | 0.289 | 0.029 | 0.317 | |
| outputLibs | 1.078 | 0.519 | 1.015 | |
| pSitePlot | 0.293 | 0.038 | 0.334 | |
| pcaExperiment | 1.039 | 0.085 | 1.126 | |
| pmapFromTranscriptF | 0.080 | 0.002 | 0.082 | |
| pmapToTranscriptF | 0.693 | 0.015 | 0.712 | |
| rankOrder | 0.072 | 0.001 | 0.073 | |
| read.experiment | 0.251 | 0.001 | 0.252 | |
| readBam | 0.095 | 0.007 | 0.103 | |
| readWidths | 0.01 | 0.00 | 0.01 | |
| reassignTSSbyCage | 0.439 | 0.008 | 0.446 | |
| reassignTxDbByCage | 0 | 0 | 0 | |
| reduceKeepAttr | 0.105 | 0.001 | 0.107 | |
| regionPerReadLength | 0.341 | 0.313 | 1.004 | |
| remove.experiments | 0.596 | 0.294 | 0.483 | |
| ribo_fft | 2.348 | 0.118 | 2.471 | |
| ribo_fft_plot | 2.240 | 0.027 | 2.271 | |
| ribosomeReleaseScore | 0.168 | 0.001 | 0.170 | |
| ribosomeStallingScore | 0.285 | 0.002 | 0.288 | |
| save.experiment | 0.264 | 0.002 | 0.265 | |
| scaledWindowPositions | 0.255 | 0.002 | 0.258 | |
| seqnamesPerGroup | 0.045 | 0.001 | 0.046 | |
| shiftFootprints | 0.001 | 0.000 | 0.002 | |
| shiftFootprintsByExperiment | 0.813 | 0.031 | 4.612 | |
| shiftPlots | 3.129 | 0.810 | 0.125 | |
| shifts.load | 0.352 | 0.054 | 0.408 | |
| simpleLibs | 0.351 | 0.028 | 0.380 | |
| sortPerGroup | 0.253 | 0.026 | 0.279 | |
| startCodons | 0.388 | 0.028 | 0.415 | |
| startDefinition | 0.000 | 0.000 | 0.001 | |
| startRegion | 0.449 | 0.007 | 0.458 | |
| startSites | 0.218 | 0.002 | 0.220 | |
| stopCodons | 0.452 | 0.004 | 0.457 | |
| stopDefinition | 0 | 0 | 0 | |
| stopRegion | 0.485 | 0.004 | 0.491 | |
| stopSites | 0.263 | 0.002 | 0.267 | |
| strandBool | 0.007 | 0.000 | 0.008 | |
| strandPerGroup | 0.046 | 0.000 | 0.047 | |
| subsetToFrame | 0.017 | 0.001 | 0.018 | |
| te.plot | 0 | 0 | 0 | |
| te.table | 0.322 | 0.004 | 0.326 | |
| te_rna.plot | 0.379 | 0.005 | 0.386 | |
| tile1 | 0.206 | 0.002 | 0.211 | |
| topMotif | 0.000 | 0.000 | 0.001 | |
| transcriptWindow | 0.967 | 0.021 | 0.993 | |
| translationalEff | 0.118 | 0.001 | 0.120 | |
| trimming.table | 0.000 | 0.000 | 0.001 | |
| txNames | 0.028 | 0.001 | 0.029 | |
| txNamesToGeneNames | 0.855 | 0.081 | 0.955 | |
| uORFSearchSpace | 0.415 | 0.006 | 0.422 | |
| uniqueGroups | 0.147 | 0.007 | 0.156 | |
| uniqueOrder | 0.179 | 0.008 | 0.188 | |
| unlistGrl | 0.032 | 0.003 | 0.035 | |
| widthPerGroup | 0.033 | 0.001 | 0.034 | |
| windowCoveragePlot | 0.568 | 0.021 | 0.591 | |
| windowPerGroup | 0.327 | 0.002 | 0.331 | |
| windowPerReadLength | 0.745 | 0.005 | 0.752 | |