| Back to Multiple platform build/check report for BioC 3.16: simplified long |
|
This page was generated on 2023-04-12 11:05:43 -0400 (Wed, 12 Apr 2023).
| Hostname | OS | Arch (*) | R version | Installed pkgs |
|---|---|---|---|---|
| nebbiolo2 | Linux (Ubuntu 20.04.5 LTS) | x86_64 | 4.2.3 (2023-03-15) -- "Shortstop Beagle" | 4502 |
| palomino4 | Windows Server 2022 Datacenter | x64 | 4.2.3 (2023-03-15 ucrt) -- "Shortstop Beagle" | 4282 |
| lconway | macOS 12.5.1 Monterey | x86_64 | 4.2.3 (2023-03-15) -- "Shortstop Beagle" | 4310 |
| Click on any hostname to see more info about the system (e.g. compilers) (*) as reported by 'uname -p', except on Windows and Mac OS X | ||||
|
To the developers/maintainers of the NxtIRFcore package: - Please allow up to 24 hours (and sometimes 48 hours) for your latest push to git@git.bioconductor.org:packages/NxtIRFcore.git to reflect on this report. See How and When does the builder pull? When will my changes propagate? for more information. - Make sure to use the following settings in order to reproduce any error or warning you see on this page. |
| Package 1371/2183 | Hostname | OS / Arch | INSTALL | BUILD | CHECK | BUILD BIN | ||||||||
| NxtIRFcore 1.4.0 (landing page) Alex Chit Hei Wong
| nebbiolo2 | Linux (Ubuntu 20.04.5 LTS) / x86_64 | OK | OK | OK | |||||||||
| palomino4 | Windows Server 2022 Datacenter / x64 | OK | OK | OK | OK | |||||||||
| lconway | macOS 12.5.1 Monterey / x86_64 | OK | OK | OK | OK | |||||||||
| Package: NxtIRFcore |
| Version: 1.4.0 |
| Command: F:\biocbuild\bbs-3.16-bioc\R\bin\R.exe CMD check --no-multiarch --install=check:NxtIRFcore.install-out.txt --library=F:\biocbuild\bbs-3.16-bioc\R\library --no-vignettes --timings NxtIRFcore_1.4.0.tar.gz |
| StartedAt: 2023-04-11 04:01:47 -0400 (Tue, 11 Apr 2023) |
| EndedAt: 2023-04-11 04:08:53 -0400 (Tue, 11 Apr 2023) |
| EllapsedTime: 425.8 seconds |
| RetCode: 0 |
| Status: OK |
| CheckDir: NxtIRFcore.Rcheck |
| Warnings: 0 |
##############################################################################
##############################################################################
###
### Running command:
###
### F:\biocbuild\bbs-3.16-bioc\R\bin\R.exe CMD check --no-multiarch --install=check:NxtIRFcore.install-out.txt --library=F:\biocbuild\bbs-3.16-bioc\R\library --no-vignettes --timings NxtIRFcore_1.4.0.tar.gz
###
##############################################################################
##############################################################################
* using log directory 'F:/biocbuild/bbs-3.16-bioc/meat/NxtIRFcore.Rcheck'
* using R version 4.2.3 (2023-03-15 ucrt)
* using platform: x86_64-w64-mingw32 (64-bit)
* using session charset: UTF-8
* using option '--no-vignettes'
* checking for file 'NxtIRFcore/DESCRIPTION' ... OK
* this is package 'NxtIRFcore' version '1.4.0'
* package encoding: UTF-8
* checking package namespace information ... OK
* checking package dependencies ... OK
* checking if this is a source package ... OK
* checking if there is a namespace ... OK
* checking for hidden files and directories ... OK
* checking for portable file names ... OK
* checking whether package 'NxtIRFcore' can be installed ... OK
* checking installed package size ... OK
* checking package directory ... OK
* checking 'build' directory ... OK
* checking DESCRIPTION meta-information ... OK
* checking top-level files ... OK
* checking for left-over files ... OK
* checking index information ... OK
* checking package subdirectories ... OK
* checking R files for non-ASCII characters ... OK
* checking R files for syntax errors ... OK
* checking whether the package can be loaded ... OK
* checking whether the package can be loaded with stated dependencies ... OK
* checking whether the package can be unloaded cleanly ... OK
* checking whether the namespace can be loaded with stated dependencies ... OK
* checking whether the namespace can be unloaded cleanly ... OK
* checking dependencies in R code ... OK
* checking S3 generic/method consistency ... OK
* checking replacement functions ... OK
* checking foreign function calls ... OK
* checking R code for possible problems ... OK
* checking Rd files ... OK
* checking Rd metadata ... OK
* checking Rd cross-references ... OK
* checking for missing documentation entries ... OK
* checking for code/documentation mismatches ... OK
* checking Rd \usage sections ... OK
* checking Rd contents ... OK
* checking for unstated dependencies in examples ... OK
* checking line endings in shell scripts ... OK
* checking line endings in C/C++/Fortran sources/headers ... OK
* checking line endings in Makefiles ... OK
* checking compilation flags in Makevars ... OK
* checking for GNU extensions in Makefiles ... OK
* checking for portable use of $(BLAS_LIBS) and $(LAPACK_LIBS) ... OK
* checking use of PKG_*FLAGS in Makefiles ... OK
* checking compiled code ... NOTE
Note: information on .o files for x64 is not available
File 'F:/biocbuild/bbs-3.16-bioc/R/library/NxtIRFcore/libs/x64/NxtIRFcore.dll':
Found '_assert', possibly from 'assert' (C)
Found 'abort', possibly from 'abort' (C), 'runtime' (Fortran)
Found 'exit', possibly from 'exit' (C), 'stop' (Fortran)
Compiled code should not call entry points which might terminate R nor
write to stdout/stderr instead of to the console, nor use Fortran I/O
nor system RNGs. The detected symbols are linked into the code but
might come from libraries and not actually be called.
See 'Writing portable packages' in the 'Writing R Extensions' manual.
* checking files in 'vignettes' ... OK
* checking examples ... OK
Examples with CPU (user + system) or elapsed time > 5s
user system elapsed
BuildReference 18.07 0.26 19.61
CollateData 13.81 0.59 15.26
* checking for unstated dependencies in 'tests' ... OK
* checking tests ...
Running 'testthat.R'
OK
* checking for unstated dependencies in vignettes ... OK
* checking package vignettes in 'inst/doc' ... OK
* checking running R code from vignettes ... SKIPPED
* checking re-building of vignette outputs ... SKIPPED
* checking PDF version of manual ... OK
* DONE
Status: 1 NOTE
See
'F:/biocbuild/bbs-3.16-bioc/meat/NxtIRFcore.Rcheck/00check.log'
for details.
NxtIRFcore.Rcheck/00install.out
############################################################################## ############################################################################## ### ### Running command: ### ### F:\biocbuild\bbs-3.16-bioc\R\bin\R.exe CMD INSTALL NxtIRFcore ### ############################################################################## ############################################################################## * installing to library 'F:/biocbuild/bbs-3.16-bioc/R/library' * installing *source* package 'NxtIRFcore' ... ** using staged installation ** libs g++ -std=gnu++11 -I"F:/biocbuild/bbs-3.16-bioc/R/include" -DNDEBUG -I'F:/biocbuild/bbs-3.16-bioc/R/library/Rcpp/include' -I'F:/biocbuild/bbs-3.16-bioc/R/library/zlibbioc/include' -I'F:/biocbuild/bbs-3.16-bioc/R/library/RcppProgress/include' -I"C:/rtools42/x86_64-w64-mingw32.static.posix/include" -fopenmp -DRNXTIRF -O2 -Wall -mfpmath=sse -msse2 -mstackrealign -c BAM2blocks.cpp -o BAM2blocks.o g++ -std=gnu++11 -I"F:/biocbuild/bbs-3.16-bioc/R/include" -DNDEBUG -I'F:/biocbuild/bbs-3.16-bioc/R/library/Rcpp/include' -I'F:/biocbuild/bbs-3.16-bioc/R/library/zlibbioc/include' -I'F:/biocbuild/bbs-3.16-bioc/R/library/RcppProgress/include' -I"C:/rtools42/x86_64-w64-mingw32.static.posix/include" -fopenmp -DRNXTIRF -O2 -Wall -mfpmath=sse -msse2 -mstackrealign -c FastaReader.cpp -o FastaReader.o g++ -std=gnu++11 -I"F:/biocbuild/bbs-3.16-bioc/R/include" -DNDEBUG -I'F:/biocbuild/bbs-3.16-bioc/R/library/Rcpp/include' -I'F:/biocbuild/bbs-3.16-bioc/R/library/zlibbioc/include' -I'F:/biocbuild/bbs-3.16-bioc/R/library/RcppProgress/include' -I"C:/rtools42/x86_64-w64-mingw32.static.posix/include" -fopenmp -DRNXTIRF -O2 -Wall -mfpmath=sse -msse2 -mstackrealign -c FragmentBlocks.cpp -o FragmentBlocks.o g++ -std=gnu++11 -I"F:/biocbuild/bbs-3.16-bioc/R/include" -DNDEBUG -I'F:/biocbuild/bbs-3.16-bioc/R/library/Rcpp/include' -I'F:/biocbuild/bbs-3.16-bioc/R/library/zlibbioc/include' -I'F:/biocbuild/bbs-3.16-bioc/R/library/RcppProgress/include' -I"C:/rtools42/x86_64-w64-mingw32.static.posix/include" -fopenmp -DRNXTIRF -O2 -Wall -mfpmath=sse -msse2 -mstackrealign -c GZTools.cpp -o GZTools.o g++ -std=gnu++11 -I"F:/biocbuild/bbs-3.16-bioc/R/include" -DNDEBUG -I'F:/biocbuild/bbs-3.16-bioc/R/library/Rcpp/include' -I'F:/biocbuild/bbs-3.16-bioc/R/library/zlibbioc/include' -I'F:/biocbuild/bbs-3.16-bioc/R/library/RcppProgress/include' -I"C:/rtools42/x86_64-w64-mingw32.static.posix/include" -fopenmp -DRNXTIRF -O2 -Wall -mfpmath=sse -msse2 -mstackrealign -c IRFinder.cpp -o IRFinder.o g++ -std=gnu++11 -I"F:/biocbuild/bbs-3.16-bioc/R/include" -DNDEBUG -I'F:/biocbuild/bbs-3.16-bioc/R/library/Rcpp/include' -I'F:/biocbuild/bbs-3.16-bioc/R/library/zlibbioc/include' -I'F:/biocbuild/bbs-3.16-bioc/R/library/RcppProgress/include' -I"C:/rtools42/x86_64-w64-mingw32.static.posix/include" -fopenmp -DRNXTIRF -O2 -Wall -mfpmath=sse -msse2 -mstackrealign -c RcppExports.cpp -o RcppExports.o g++ -std=gnu++11 -I"F:/biocbuild/bbs-3.16-bioc/R/include" -DNDEBUG -I'F:/biocbuild/bbs-3.16-bioc/R/library/Rcpp/include' -I'F:/biocbuild/bbs-3.16-bioc/R/library/zlibbioc/include' -I'F:/biocbuild/bbs-3.16-bioc/R/library/RcppProgress/include' -I"C:/rtools42/x86_64-w64-mingw32.static.posix/include" -fopenmp -DRNXTIRF -O2 -Wall -mfpmath=sse -msse2 -mstackrealign -c ReadBlockProcessor.cpp -o ReadBlockProcessor.o g++ -std=gnu++11 -I"F:/biocbuild/bbs-3.16-bioc/R/include" -DNDEBUG -I'F:/biocbuild/bbs-3.16-bioc/R/library/Rcpp/include' -I'F:/biocbuild/bbs-3.16-bioc/R/library/zlibbioc/include' -I'F:/biocbuild/bbs-3.16-bioc/R/library/RcppProgress/include' -I"C:/rtools42/x86_64-w64-mingw32.static.posix/include" -fopenmp -DRNXTIRF -O2 -Wall -mfpmath=sse -msse2 -mstackrealign -c ReadBlockProcessor_CoverageBlocks.cpp -o ReadBlockProcessor_CoverageBlocks.o g++ -std=gnu++11 -I"F:/biocbuild/bbs-3.16-bioc/R/include" -DNDEBUG -I'F:/biocbuild/bbs-3.16-bioc/R/library/Rcpp/include' -I'F:/biocbuild/bbs-3.16-bioc/R/library/zlibbioc/include' -I'F:/biocbuild/bbs-3.16-bioc/R/library/RcppProgress/include' -I"C:/rtools42/x86_64-w64-mingw32.static.posix/include" -fopenmp -DRNXTIRF -O2 -Wall -mfpmath=sse -msse2 -mstackrealign -c covTools.cpp -o covTools.o g++ -shared -s -static-libgcc -o NxtIRFcore.dll tmp.def BAM2blocks.o FastaReader.o FragmentBlocks.o GZTools.o IRFinder.o RcppExports.o ReadBlockProcessor.o ReadBlockProcessor_CoverageBlocks.o covTools.o -fopenmp -DRNXTIRF -LF:/biocbuild/bbs-3.16-bioc/R/library/zlibbioc/libs/x64 -lzlib1bioc -LC:/rtools42/x86_64-w64-mingw32.static.posix/lib/x64 -LC:/rtools42/x86_64-w64-mingw32.static.posix/lib -LF:/biocbuild/bbs-3.16-bioc/R/bin/x64 -lR installing to F:/biocbuild/bbs-3.16-bioc/R/library/00LOCK-NxtIRFcore/00new/NxtIRFcore/libs/x64 ** R ** inst ** byte-compile and prepare package for lazy loading ** help *** installing help indices ** building package indices ** installing vignettes ** testing if installed package can be loaded from temporary location ** testing if installed package can be loaded from final location ** testing if installed package keeps a record of temporary installation path * DONE (NxtIRFcore)
NxtIRFcore.Rcheck/tests/testthat.Rout
R version 4.2.3 (2023-03-15 ucrt) -- "Shortstop Beagle"
Copyright (C) 2023 The R Foundation for Statistical Computing
Platform: x86_64-w64-mingw32/x64 (64-bit)
R is free software and comes with ABSOLUTELY NO WARRANTY.
You are welcome to redistribute it under certain conditions.
Type 'license()' or 'licence()' for distribution details.
R is a collaborative project with many contributors.
Type 'contributors()' for more information and
'citation()' on how to cite R or R packages in publications.
Type 'demo()' for some demos, 'help()' for on-line help, or
'help.start()' for an HTML browser interface to help.
Type 'q()' to quit R.
> library(testthat)
> library(NxtIRFcore)
Loading required package: NxtIRFdata
>
> test_check("NxtIRFcore")
Apr 11 4:08:06 AM Reference generated without non-polyA reference
Apr 11 4:08:06 AM Reference generated without Mappability reference
Apr 11 4:08:06 AM Reference generated without Blacklist exclusion
Apr 11 4:08:06 AM Converting FASTA to local TwoBitFile...done
Apr 11 4:08:07 AM Connecting to genome TwoBitFile...done
Apr 11 4:08:07 AM Making local copy of GTF file...done
Apr 11 4:08:08 AM Reading source GTF file...done
Apr 11 4:08:08 AM Processing gtf file...
...genes
...transcripts
...CDS
...exons
done
Apr 11 4:08:10 AM Processing introns...
...data
...basic annotations
...splice motifs
...other info
...defining flanking exon islands
done
Apr 11 4:08:14 AM Generating IRFinder reference
...prepping data
...determining measurable introns (directional)
...determining measurable introns (non-directional)
...writing ref-cover.bed
...writing ref-ROI.bed
...writing ref-read-continues.ref
...writing ref-sj.ref
IRFinder reference generation completed
Apr 11 4:08:20 AM Predicting NMD transcripts from genome sequence
...exonic transcripts
...retained introns
|
| | 0%
|
|======================================================================| 100%
done
Apr 11 4:08:22 AM Annotating Splice Events
Annotating Mutually-Exclusive-Exon Splice Events...done
Annotating Skipped-Exon Splice Events...done
Annotating Alternate 5' / 3' Splice Site Splice Events...done
Annotating Alternate First / Last Exon Splice Events...done
Annotating known retained introns...done
Apr 11 4:08:24 AM Splice Annotations Filtered
Apr 11 4:08:24 AM Translating Alternate Splice Peptides...done
Apr 11 4:08:25 AM Splice Annotations finished
Reference build finished
Apr 11 4:08:25 AM Running IRFinder
Reading reference file
Running IRFinder with OpenMP using 1 threads
F:\biocbuild\bbs-3.16-bioc\tmpdir\Rtmp6dSQVI\02H003.bam processed
F:\biocbuild\bbs-3.16-bioc\tmpdir\Rtmp6dSQVI\02H025.bam processed
F:\biocbuild\bbs-3.16-bioc\tmpdir\Rtmp6dSQVI\02H026.bam processed
F:\biocbuild\bbs-3.16-bioc\tmpdir\Rtmp6dSQVI\02H033.bam processed
F:\biocbuild\bbs-3.16-bioc\tmpdir\Rtmp6dSQVI\02H043.bam processed
F:\biocbuild\bbs-3.16-bioc\tmpdir\Rtmp6dSQVI\02H046.bam processed
Apr 11 4:08:27 AM Validating Experiment; checking COV files...
Apr 11 4:08:27 AM Using SnowParam 1 threads
Apr 11 4:08:27 AM Compiling Sample Stats
Apr 11 4:08:27 AM Compiling Junction List...merging...done
Apr 11 4:08:29 AM Compiling Intron Retention List...done
Apr 11 4:08:30 AM Tidying up splice junctions and intron retentions...
...annotating splice junctions
...grouping splice junctions
...grouping introns
...loading splice events
...saving annotations
...compiling rowEvents
done
Apr 11 4:08:32 AM Generating NxtIRF assays
Apr 11 4:08:32 AM Using SnowParam 1 threads
|
| | 0%
|
|============ | 17%
|
|======================= | 33%
|
|=================================== | 50%
|
|=============================================== | 67%
|
|========================================================== | 83%
|
|======================================================================| 100%
Building Final SummarizedExperiment Object
|
| | 0%
|
|============ | 17%
|
|======================= | 33%
|
|=================================== | 50%
|
|=============================================== | 67%
|
|========================================================== | 83%
|
|======================================================================| 100%
NxtIRF Collation Finished
Apr 11 4:08:37 AM Loading NxtSE object from file...done
Apr 11 4:08:38 AM Removing overlapping introns...
Apr 11 4:08:38 AM Iterating through IR events to determine introns of main isoforms
Apr 11 4:08:38 AM Iteration 1
Apr 11 4:08:38 AM Iteration 2
Apr 11 4:08:40 AM Running IRFinder
Reading reference file
Running IRFinder with OpenMP using 1 threads
Processing BAM file F:\biocbuild\bbs-3.16-bioc\tmpdir\Rtmp6dSQVI\02H003.bam
0% 10 20 30 40 50 60 70 80 90 100%
[----|----|----|----|----|----|----|----|----|----|
**************************************************|
Performing final sort of fragment maps
Writing COV file
**************************************************|
0% 10 20 30 40 50 60 70 80 90 100%
[----|----|----|----|----|----|----|----|----|----|
**************************************************|
Writing output file
F:\biocbuild\bbs-3.16-bioc\tmpdir\Rtmp6dSQVI\02H003.bam processed
Apr 11 4:08:40 AM Running IRFinder
Reading reference file
Running IRFinder with OpenMP using 2 threads
Processing BAM file F:\biocbuild\bbs-3.16-bioc\tmpdir\Rtmp6dSQVI\02H003.bam
0% 10 20 30 40 50 60 70 80 90 100%
[----|----|----|----|----|----|----|----|----|----|
**************************************************|
Compiling data from threads
Performing final sort of fragment maps
Writing COV file
**************************************************|
0% 10 20 30 40 50 60 70 80 90 100%
[----|----|----|----|----|----|----|----|----|----|
**************************************************|
Writing output file
F:\biocbuild\bbs-3.16-bioc\tmpdir\Rtmp6dSQVI\02H003.bam processed
[ FAIL 0 | WARN 0 | SKIP 0 | PASS 18 ]
>
> # bump to trigger r cmd check
>
> proc.time()
user system elapsed
49.50 2.26 53.39
NxtIRFcore.Rcheck/NxtIRFcore-Ex.timings
| name | user | system | elapsed | |
| ASE-methods | 0.65 | 0.10 | 0.76 | |
| BuildReference | 18.07 | 0.26 | 19.61 | |
| CollateData | 13.81 | 0.59 | 15.26 | |
| CoordToGR | 0.01 | 0.00 | 0.02 | |
| Coverage | 0.86 | 0.03 | 0.89 | |
| Find_Samples | 0.00 | 0.02 | 0.01 | |
| IRFinder | 2.35 | 0.08 | 2.43 | |
| IsCOV | 0.01 | 0.00 | 0.01 | |
| MakeSE | 2.22 | 0.40 | 2.67 | |
| Mappability-methods | 0.05 | 0.02 | 0.08 | |
| NxtFilter-class | 0.05 | 0.02 | 0.06 | |
| NxtSE-class | 3.32 | 0.89 | 4.22 | |
| Plot_Coverage | 4.30 | 0.14 | 4.46 | |
| Run_NxtIRF_Filters | 0.55 | 0.00 | 0.54 | |
| STAR-methods | 0 | 0 | 0 | |
| example-NxtIRF-data | 0.01 | 0.00 | 0.02 | |
| make_plot_data | 0.03 | 0.00 | 0.03 | |
| theme_white | 0.15 | 0.00 | 0.14 | |