| Back to Multiple platform build/check report for BioC 3.16: simplified long |
|
This page was generated on 2023-04-12 11:05:43 -0400 (Wed, 12 Apr 2023).
| Hostname | OS | Arch (*) | R version | Installed pkgs |
|---|---|---|---|---|
| nebbiolo2 | Linux (Ubuntu 20.04.5 LTS) | x86_64 | 4.2.3 (2023-03-15) -- "Shortstop Beagle" | 4502 |
| palomino4 | Windows Server 2022 Datacenter | x64 | 4.2.3 (2023-03-15 ucrt) -- "Shortstop Beagle" | 4282 |
| lconway | macOS 12.5.1 Monterey | x86_64 | 4.2.3 (2023-03-15) -- "Shortstop Beagle" | 4310 |
| Click on any hostname to see more info about the system (e.g. compilers) (*) as reported by 'uname -p', except on Windows and Mac OS X | ||||
|
To the developers/maintainers of the NanoStringNCTools package: - Please allow up to 24 hours (and sometimes 48 hours) for your latest push to git@git.bioconductor.org:packages/NanoStringNCTools.git to reflect on this report. See How and When does the builder pull? When will my changes propagate? for more information. - Make sure to use the following settings in order to reproduce any error or warning you see on this page. |
| Package 1323/2183 | Hostname | OS / Arch | INSTALL | BUILD | CHECK | BUILD BIN | ||||||||
| NanoStringNCTools 1.6.1 (landing page) Nicole Ortogero
| nebbiolo2 | Linux (Ubuntu 20.04.5 LTS) / x86_64 | OK | OK | OK | |||||||||
| palomino4 | Windows Server 2022 Datacenter / x64 | OK | OK | OK | OK | |||||||||
| lconway | macOS 12.5.1 Monterey / x86_64 | OK | OK | OK | OK | |||||||||
| Package: NanoStringNCTools |
| Version: 1.6.1 |
| Command: F:\biocbuild\bbs-3.16-bioc\R\bin\R.exe CMD check --no-multiarch --install=check:NanoStringNCTools.install-out.txt --library=F:\biocbuild\bbs-3.16-bioc\R\library --no-vignettes --timings NanoStringNCTools_1.6.1.tar.gz |
| StartedAt: 2023-04-11 03:53:16 -0400 (Tue, 11 Apr 2023) |
| EndedAt: 2023-04-11 03:55:20 -0400 (Tue, 11 Apr 2023) |
| EllapsedTime: 124.8 seconds |
| RetCode: 0 |
| Status: OK |
| CheckDir: NanoStringNCTools.Rcheck |
| Warnings: 0 |
############################################################################## ############################################################################## ### ### Running command: ### ### F:\biocbuild\bbs-3.16-bioc\R\bin\R.exe CMD check --no-multiarch --install=check:NanoStringNCTools.install-out.txt --library=F:\biocbuild\bbs-3.16-bioc\R\library --no-vignettes --timings NanoStringNCTools_1.6.1.tar.gz ### ############################################################################## ############################################################################## * using log directory 'F:/biocbuild/bbs-3.16-bioc/meat/NanoStringNCTools.Rcheck' * using R version 4.2.3 (2023-03-15 ucrt) * using platform: x86_64-w64-mingw32 (64-bit) * using session charset: UTF-8 * using option '--no-vignettes' * checking for file 'NanoStringNCTools/DESCRIPTION' ... OK * this is package 'NanoStringNCTools' version '1.6.1' * package encoding: UTF-8 * checking package namespace information ... OK * checking package dependencies ... OK * checking if this is a source package ... OK * checking if there is a namespace ... OK * checking for hidden files and directories ... OK * checking for portable file names ... OK * checking whether package 'NanoStringNCTools' can be installed ... OK * checking installed package size ... OK * checking package directory ... OK * checking 'build' directory ... OK * checking DESCRIPTION meta-information ... NOTE License components which are templates and need '+ file LICENSE': MIT * checking top-level files ... NOTE File LICENSE is not mentioned in the DESCRIPTION file. * checking for left-over files ... OK * checking index information ... OK * checking package subdirectories ... OK * checking R files for non-ASCII characters ... OK * checking R files for syntax errors ... OK * checking whether the package can be loaded ... OK * checking whether the package can be loaded with stated dependencies ... OK * checking whether the package can be unloaded cleanly ... OK * checking whether the namespace can be loaded with stated dependencies ... OK * checking whether the namespace can be unloaded cleanly ... OK * checking dependencies in R code ... OK * checking S3 generic/method consistency ... OK * checking replacement functions ... OK * checking foreign function calls ... OK * checking R code for possible problems ... NOTE autoplot.NanoStringRccSet : <anonymous>: warning in switch(x[2], A = qcCutoffs[["BindingDensity"]][["maximumBD"]], B = qcCutoffs[["BindingDensity"]][["maximumBD"]], C = qcCutoffs[["BindingDensity"]][["maximumBD"]], D = qcCutoffs[["BindingDensity"]][["maximumBD"]], E = qcCutoffs[["BindingDensity"]][["maximumBD"]], G = qcCutoffs[["BindingDensity"]][["maximumBD"]], H = qcCutoffs[["BindingDensity"]][["maximumBD"]], P = qcCutoffs[["BindingDensity"]][["maximumBDSprint"]], default = qcCutoffs[["BindingDensity"]][["maximumBD"]]): partial argument match of 'E' to 'EXPR' setQCFlags,NanoStringRccSet : <anonymous>: warning in switch(x[2], A = maxBindDen, B = maxBindDen, C = maxBindDen, D = maxBindDen, E = maxBindDen, G = maxBindDen, H = maxBindDen, P = maxBindDenSprint, default = maxBindDen): partial argument match of 'E' to 'EXPR' autoplot.NanoStringRccSet: no visible binding for global variable 'xend' autoplot.NanoStringRccSet: no visible binding for global variable 'passingThreshold' autoplot.NanoStringRccSet: no visible binding for global variable 'GeomMean' autoplot.NanoStringRccSet: no visible binding for global variable 'h' autoplot.NanoStringRccSet: no visible binding for global variable 'label' Undefined global functions or variables: GeomMean h label passingThreshold xend * checking Rd files ... OK * checking Rd metadata ... OK * checking Rd cross-references ... OK * checking for missing documentation entries ... OK * checking for code/documentation mismatches ... OK * checking Rd \usage sections ... OK * checking Rd contents ... OK * checking for unstated dependencies in examples ... OK * checking files in 'vignettes' ... OK * checking examples ... OK * checking for unstated dependencies in 'tests' ... OK * checking tests ... Running 'run_unitTests.R' OK * checking for unstated dependencies in vignettes ... OK * checking package vignettes in 'inst/doc' ... OK * checking running R code from vignettes ... SKIPPED * checking re-building of vignette outputs ... SKIPPED * checking PDF version of manual ... OK * DONE Status: 3 NOTEs See 'F:/biocbuild/bbs-3.16-bioc/meat/NanoStringNCTools.Rcheck/00check.log' for details.
NanoStringNCTools.Rcheck/00install.out
############################################################################## ############################################################################## ### ### Running command: ### ### F:\biocbuild\bbs-3.16-bioc\R\bin\R.exe CMD INSTALL NanoStringNCTools ### ############################################################################## ############################################################################## * installing to library 'F:/biocbuild/bbs-3.16-bioc/R/library' * installing *source* package 'NanoStringNCTools' ... ** using staged installation ** R ** inst ** byte-compile and prepare package for lazy loading ** help *** installing help indices ** building package indices ** installing vignettes ** testing if installed package can be loaded from temporary location ** testing if installed package can be loaded from final location ** testing if installed package keeps a record of temporary installation path * DONE (NanoStringNCTools)
NanoStringNCTools.Rcheck/tests/run_unitTests.Rout
R version 4.2.3 (2023-03-15 ucrt) -- "Shortstop Beagle"
Copyright (C) 2023 The R Foundation for Statistical Computing
Platform: x86_64-w64-mingw32/x64 (64-bit)
R is free software and comes with ABSOLUTELY NO WARRANTY.
You are welcome to redistribute it under certain conditions.
Type 'license()' or 'licence()' for distribution details.
R is a collaborative project with many contributors.
Type 'contributors()' for more information and
'citation()' on how to cite R or R packages in publications.
Type 'demo()' for some demos, 'help()' for on-line help, or
'help.start()' for an HTML browser interface to help.
Type 'q()' to quit R.
> require("NanoStringNCTools") || stop("unable to load NanoStringNCTools package")
Loading required package: NanoStringNCTools
Loading required package: Biobase
Loading required package: BiocGenerics
Attaching package: 'BiocGenerics'
The following objects are masked from 'package:stats':
IQR, mad, sd, var, xtabs
The following objects are masked from 'package:base':
Filter, Find, Map, Position, Reduce, anyDuplicated, aperm, append,
as.data.frame, basename, cbind, colnames, dirname, do.call,
duplicated, eval, evalq, get, grep, grepl, intersect, is.unsorted,
lapply, mapply, match, mget, order, paste, pmax, pmax.int, pmin,
pmin.int, rank, rbind, rownames, sapply, setdiff, sort, table,
tapply, union, unique, unsplit, which.max, which.min
Welcome to Bioconductor
Vignettes contain introductory material; view with
'browseVignettes()'. To cite Bioconductor, see
'citation("Biobase")', and for packages 'citation("pkgname")'.
Loading required package: S4Vectors
Loading required package: stats4
Attaching package: 'S4Vectors'
The following objects are masked from 'package:base':
I, expand.grid, unname
Loading required package: ggplot2
[1] TRUE
> BiocGenerics:::testPackage("NanoStringNCTools")
RUNIT TEST PROTOCOL -- Tue Apr 11 03:55:05 2023
***********************************************
Number of test functions: 52
Number of errors: 0
Number of failures: 0
1 Test Suite :
NanoStringNCTools RUnit Tests - 52 test functions, 0 errors, 0 failures
Number of test functions: 52
Number of errors: 0
Number of failures: 0
>
> proc.time()
user system elapsed
10.64 0.62 11.51
NanoStringNCTools.Rcheck/NanoStringNCTools-Ex.timings
| name | user | system | elapsed | |
| NanoStringRccSet-autoplot | 0.39 | 0.00 | 0.39 | |
| NanoStringRccSet-class | 1.33 | 0.09 | 1.42 | |
| SignatureSet | 0.03 | 0.00 | 0.03 | |
| geom_beeswarm_interactive | 0.30 | 0.05 | 0.35 | |
| log2t | 0 | 0 | 0 | |
| normalize | 0.29 | 0.01 | 0.31 | |
| readNanoStringRccSet | 0.75 | 0.02 | 0.76 | |
| readRccFile | 0.07 | 0.00 | 0.07 | |
| readRlfFile | 0.04 | 0.00 | 0.04 | |
| sScale | 0 | 0 | 0 | |
| setQCFlags | 0.46 | 0.03 | 0.49 | |
| writeNanoStringRccSet | 0.37 | 0.00 | 0.37 | |