| Back to Multiple platform build/check report for BioC 3.16: simplified long |
|
This page was generated on 2023-04-12 11:05:40 -0400 (Wed, 12 Apr 2023).
| Hostname | OS | Arch (*) | R version | Installed pkgs |
|---|---|---|---|---|
| nebbiolo2 | Linux (Ubuntu 20.04.5 LTS) | x86_64 | 4.2.3 (2023-03-15) -- "Shortstop Beagle" | 4502 |
| palomino4 | Windows Server 2022 Datacenter | x64 | 4.2.3 (2023-03-15 ucrt) -- "Shortstop Beagle" | 4282 |
| lconway | macOS 12.5.1 Monterey | x86_64 | 4.2.3 (2023-03-15) -- "Shortstop Beagle" | 4310 |
| Click on any hostname to see more info about the system (e.g. compilers) (*) as reported by 'uname -p', except on Windows and Mac OS X | ||||
|
To the developers/maintainers of the MicrobiotaProcess package: - Please allow up to 24 hours (and sometimes 48 hours) for your latest push to git@git.bioconductor.org:packages/MicrobiotaProcess.git to reflect on this report. See How and When does the builder pull? When will my changes propagate? for more information. - Make sure to use the following settings in order to reproduce any error or warning you see on this page. |
| Package 1198/2183 | Hostname | OS / Arch | INSTALL | BUILD | CHECK | BUILD BIN | ||||||||
| MicrobiotaProcess 1.10.3 (landing page) Shuangbin Xu
| nebbiolo2 | Linux (Ubuntu 20.04.5 LTS) / x86_64 | OK | OK | OK | |||||||||
| palomino4 | Windows Server 2022 Datacenter / x64 | OK | OK | OK | OK | |||||||||
| lconway | macOS 12.5.1 Monterey / x86_64 | OK | OK | OK | OK | |||||||||
| Package: MicrobiotaProcess |
| Version: 1.10.3 |
| Command: F:\biocbuild\bbs-3.16-bioc\R\bin\R.exe CMD check --no-multiarch --install=check:MicrobiotaProcess.install-out.txt --library=F:\biocbuild\bbs-3.16-bioc\R\library --no-vignettes --timings MicrobiotaProcess_1.10.3.tar.gz |
| StartedAt: 2023-04-11 03:21:52 -0400 (Tue, 11 Apr 2023) |
| EndedAt: 2023-04-11 03:27:09 -0400 (Tue, 11 Apr 2023) |
| EllapsedTime: 317.4 seconds |
| RetCode: 0 |
| Status: OK |
| CheckDir: MicrobiotaProcess.Rcheck |
| Warnings: 0 |
##############################################################################
##############################################################################
###
### Running command:
###
### F:\biocbuild\bbs-3.16-bioc\R\bin\R.exe CMD check --no-multiarch --install=check:MicrobiotaProcess.install-out.txt --library=F:\biocbuild\bbs-3.16-bioc\R\library --no-vignettes --timings MicrobiotaProcess_1.10.3.tar.gz
###
##############################################################################
##############################################################################
* using log directory 'F:/biocbuild/bbs-3.16-bioc/meat/MicrobiotaProcess.Rcheck'
* using R version 4.2.3 (2023-03-15 ucrt)
* using platform: x86_64-w64-mingw32 (64-bit)
* using session charset: UTF-8
* using option '--no-vignettes'
* checking for file 'MicrobiotaProcess/DESCRIPTION' ... OK
* checking extension type ... Package
* this is package 'MicrobiotaProcess' version '1.10.3'
* package encoding: UTF-8
* checking package namespace information ... OK
* checking package dependencies ... OK
* checking if this is a source package ... OK
* checking if there is a namespace ... OK
* checking for hidden files and directories ... OK
* checking for portable file names ... OK
* checking whether package 'MicrobiotaProcess' can be installed ... OK
* checking installed package size ... NOTE
installed size is 5.7Mb
sub-directories of 1Mb or more:
R 2.6Mb
figures 1.9Mb
* checking package directory ... OK
* checking 'build' directory ... OK
* checking DESCRIPTION meta-information ... OK
* checking top-level files ... OK
* checking for left-over files ... OK
* checking index information ... OK
* checking package subdirectories ... OK
* checking R files for non-ASCII characters ... OK
* checking R files for syntax errors ... OK
* checking whether the package can be loaded ... OK
* checking whether the package can be loaded with stated dependencies ... OK
* checking whether the package can be unloaded cleanly ... OK
* checking whether the namespace can be loaded with stated dependencies ... OK
* checking whether the namespace can be unloaded cleanly ... OK
* checking dependencies in R code ... OK
* checking S3 generic/method consistency ... OK
* checking replacement functions ... OK
* checking foreign function calls ... OK
* checking R code for possible problems ... OK
* checking Rd files ... OK
* checking Rd metadata ... OK
* checking Rd cross-references ... OK
* checking for missing documentation entries ... OK
* checking for code/documentation mismatches ... OK
* checking Rd \usage sections ... OK
* checking Rd contents ... OK
* checking for unstated dependencies in examples ... OK
* checking contents of 'data' directory ... OK
* checking data for non-ASCII characters ... OK
* checking data for ASCII and uncompressed saves ... OK
* checking files in 'vignettes' ... OK
* checking examples ... OK
Examples with CPU (user + system) or elapsed time > 5s
user system elapsed
mp_cal_abundance-methods 9.36 0.25 9.75
mp_plot_diff_boxplot-methods 7.00 0.17 7.17
mp_cal_rarecurve-methods 5.78 0.09 5.88
mp_diff_analysis-methods 5.44 0.14 5.58
* checking for unstated dependencies in 'tests' ... OK
* checking tests ...
Running 'testthat.R'
OK
* checking for unstated dependencies in vignettes ... OK
* checking package vignettes in 'inst/doc' ... OK
* checking running R code from vignettes ... SKIPPED
* checking re-building of vignette outputs ... SKIPPED
* checking PDF version of manual ... OK
* DONE
Status: 1 NOTE
See
'F:/biocbuild/bbs-3.16-bioc/meat/MicrobiotaProcess.Rcheck/00check.log'
for details.
MicrobiotaProcess.Rcheck/00install.out
############################################################################## ############################################################################## ### ### Running command: ### ### F:\biocbuild\bbs-3.16-bioc\R\bin\R.exe CMD INSTALL MicrobiotaProcess ### ############################################################################## ############################################################################## * installing to library 'F:/biocbuild/bbs-3.16-bioc/R/library' * installing *source* package 'MicrobiotaProcess' ... ** using staged installation ** R ** data ** inst ** byte-compile and prepare package for lazy loading in method for 'taxonomy<-' with signature 'x="MPSE",value="taxonomyTable"': no definition for class "taxonomyTable" Creating a generic function for 'rownames<-' from package 'base' in package 'MicrobiotaProcess' in method for 'get_alltaxadf' with signature '"phyloseq"': no definition for class "phyloseq" in method for 'get_taxadf' with signature '"phyloseq"': no definition for class "phyloseq" in method for 'get_alphaindex' with signature '"phyloseq"': no definition for class "phyloseq" in method for 'get_NRI_NTI' with signature '"phyloseq"': no definition for class "phyloseq" in method for 'get_rarecurve' with signature '"phyloseq"': no definition for class "phyloseq" in method for 'get_upset' with signature '"phyloseq"': no definition for class "phyloseq" in method for 'get_vennlist' with signature '"phyloseq"': no definition for class "phyloseq" in method for 'drop_taxa' with signature '"phyloseq"': no definition for class "phyloseq" ** help *** installing help indices ** building package indices ** installing vignettes ** testing if installed package can be loaded from temporary location ** testing if installed package can be loaded from final location ** testing if installed package keeps a record of temporary installation path * DONE (MicrobiotaProcess)
MicrobiotaProcess.Rcheck/tests/testthat.Rout
R version 4.2.3 (2023-03-15 ucrt) -- "Shortstop Beagle"
Copyright (C) 2023 The R Foundation for Statistical Computing
Platform: x86_64-w64-mingw32/x64 (64-bit)
R is free software and comes with ABSOLUTELY NO WARRANTY.
You are welcome to redistribute it under certain conditions.
Type 'license()' or 'licence()' for distribution details.
R is a collaborative project with many contributors.
Type 'contributors()' for more information and
'citation()' on how to cite R or R packages in publications.
Type 'demo()' for some demos, 'help()' for on-line help, or
'help.start()' for an HTML browser interface to help.
Type 'q()' to quit R.
> library("testthat")
> library("MicrobiotaProcess")
MicrobiotaProcess v1.10.3 For help:
https://github.com/YuLab-SMU/MicrobiotaProcess/issues
If you use MicrobiotaProcess in published research, please cite the
paper:
Shuangbin Xu, Li Zhan, Wenli Tang, Qianwen Wang, Zehan Dai, Land Zhou,
Tingze Feng, Meijun Chen, Tianzhi Wu, Erqiang Hu, Guangchuang Yu.
MicrobiotaProcess: A comprehensive R package for deep mining
microbiome. The Innovation. 2023, 100388. doi:
10.1016/j.xinn.2023.100388
Export the citation to BibTex by citation('MicrobiotaProcess')
This message can be suppressed by:
suppressPackageStartupMessages(library(MicrobiotaProcess))
Attaching package: 'MicrobiotaProcess'
The following object is masked from 'package:stats':
filter
> test_check("MicrobiotaProcess")
[ FAIL 0 | WARN 9 | SKIP 0 | PASS 13 ]
[ FAIL 0 | WARN 9 | SKIP 0 | PASS 13 ]
>
> proc.time()
user system elapsed
12.50 0.64 13.14
MicrobiotaProcess.Rcheck/MicrobiotaProcess-Ex.timings
| name | user | system | elapsed | |
| ImportDada2 | 1.96 | 0.05 | 2.01 | |
| ImportQiime2 | 2.82 | 0.08 | 3.00 | |
| MPSE | 0.11 | 0.00 | 0.11 | |
| as.treedata | 0 | 0 | 0 | |
| build_tree | 0 | 0 | 0 | |
| convert_to_treedata | 0 | 0 | 0 | |
| data-hmp_aerobiosis_small | 0.01 | 0.00 | 0.02 | |
| data-kostic2012crc | 0.02 | 0.00 | 0.01 | |
| data-test_otu_data | 0.00 | 0.02 | 0.02 | |
| diff_analysis | 0 | 0 | 0 | |
| dr_extract | 0 | 0 | 0 | |
| drop_taxa | 0 | 0 | 0 | |
| generalizedFC | 0 | 0 | 0 | |
| get_alltaxadf | 0 | 0 | 0 | |
| get_alphaindex | 0 | 0 | 0 | |
| get_clust | 0 | 0 | 0 | |
| get_coord | 0 | 0 | 0 | |
| get_count | 0 | 0 | 0 | |
| get_dist | 0 | 0 | 0 | |
| get_mean_median | 0 | 0 | 0 | |
| get_pca | 0 | 0 | 0 | |
| get_pcoa | 0 | 0 | 0 | |
| get_pvalue | 0.06 | 0.00 | 0.06 | |
| get_rarecurve | 0 | 0 | 0 | |
| get_sampledflist | 0 | 0 | 0 | |
| get_taxadf | 0 | 0 | 0 | |
| get_upset | 0 | 0 | 0 | |
| get_varct | 0 | 0 | 0 | |
| get_vennlist | 0 | 0 | 0 | |
| ggbartax | 0 | 0 | 0 | |
| ggbox | 0 | 0 | 0 | |
| ggclust | 0 | 0 | 0 | |
| ggdiffbox | 0 | 0 | 0 | |
| ggdiffclade | 0 | 0 | 0 | |
| ggdifftaxbar | 0 | 0 | 0 | |
| ggeffectsize | 0 | 0 | 0 | |
| ggordpoint | 0 | 0 | 0 | |
| ggrarecurve | 0 | 0 | 0 | |
| mp_adonis-methods | 0.09 | 0.00 | 0.09 | |
| mp_aggregate-methods | 0.00 | 0.02 | 0.02 | |
| mp_aggregate_clade-methods | 0 | 0 | 0 | |
| mp_anosim-methods | 2.05 | 0.01 | 2.06 | |
| mp_balance_clade-methods | 0 | 0 | 0 | |
| mp_cal_abundance-methods | 9.36 | 0.25 | 9.75 | |
| mp_cal_alpha-methods | 1.06 | 0.03 | 1.11 | |
| mp_cal_cca-methods | 0.94 | 0.03 | 1.06 | |
| mp_cal_clust-methods | 0.52 | 0.00 | 0.58 | |
| mp_cal_dist-methods | 2.45 | 0.08 | 2.55 | |
| mp_cal_divergence-methods | 0 | 0 | 0 | |
| mp_cal_nmds-methods | 0.22 | 0.02 | 0.23 | |
| mp_cal_pca-methods | 1.54 | 0.09 | 1.64 | |
| mp_cal_pcoa-methods | 0.60 | 0.02 | 0.61 | |
| mp_cal_pd_metric-methods | 0 | 0 | 0 | |
| mp_cal_rarecurve-methods | 5.78 | 0.09 | 5.88 | |
| mp_cal_rda-methods | 0.69 | 0.03 | 0.72 | |
| mp_cal_upset-methods | 1.15 | 0.05 | 1.23 | |
| mp_cal_venn-methods | 1.83 | 0.17 | 2.33 | |
| mp_decostand-methods | 0.33 | 0.02 | 0.34 | |
| mp_diff_analysis-methods | 5.44 | 0.14 | 5.58 | |
| mp_diff_clade-methods | 0 | 0 | 0 | |
| mp_dmn-methods | 0 | 0 | 0 | |
| mp_dmngroup-methods | 0 | 0 | 0 | |
| mp_envfit-methods | 1.75 | 0.03 | 1.78 | |
| mp_filter_taxa-methods | 1.00 | 0.04 | 1.03 | |
| mp_import_metaphlan | 2.41 | 0.04 | 2.46 | |
| mp_mantel-methods | 0.34 | 0.02 | 0.36 | |
| mp_mrpp-methods | 0.27 | 0.00 | 0.27 | |
| mp_plot_abundance-methods | 0 | 0 | 0 | |
| mp_plot_alpha-methods | 0 | 0 | 0 | |
| mp_plot_diff_boxplot-methods | 7.00 | 0.17 | 7.17 | |
| mp_plot_diff_cladogram | 0 | 0 | 0 | |
| mp_plot_diff_manhattan-methods | 3.38 | 0.09 | 3.46 | |
| mp_plot_dist-methods | 0 | 0 | 0 | |
| mp_plot_ord-methods | 0 | 0 | 0 | |
| mp_plot_rarecurve-methods | 0 | 0 | 0 | |
| mp_plot_upset-methods | 0 | 0 | 0 | |
| mp_plot_venn-methods | 0 | 0 | 0 | |
| mp_rrarefy-methods | 0.37 | 0.00 | 0.38 | |
| mp_select_as_tip-methods | 0.02 | 0.00 | 0.00 | |
| mp_stat_taxa-methods | 1.17 | 0.00 | 1.17 | |
| multi_compare | 0.02 | 0.00 | 0.02 | |
| read_qza | 0 | 0 | 0 | |
| show-methods | 0 | 0 | 0 | |
| split_data | 0.00 | 0.00 | 0.01 | |
| split_str_to_list | 0 | 0 | 0 | |
| theme_taxbar | 0 | 0 | 0 | |