| Back to Multiple platform build/check report for BioC 3.16: simplified long |
|
This page was generated on 2023-04-12 11:05:40 -0400 (Wed, 12 Apr 2023).
| Hostname | OS | Arch (*) | R version | Installed pkgs |
|---|---|---|---|---|
| nebbiolo2 | Linux (Ubuntu 20.04.5 LTS) | x86_64 | 4.2.3 (2023-03-15) -- "Shortstop Beagle" | 4502 |
| palomino4 | Windows Server 2022 Datacenter | x64 | 4.2.3 (2023-03-15 ucrt) -- "Shortstop Beagle" | 4282 |
| lconway | macOS 12.5.1 Monterey | x86_64 | 4.2.3 (2023-03-15) -- "Shortstop Beagle" | 4310 |
| Click on any hostname to see more info about the system (e.g. compilers) (*) as reported by 'uname -p', except on Windows and Mac OS X | ||||
|
To the developers/maintainers of the MicrobiomeProfiler package: - Please allow up to 24 hours (and sometimes 48 hours) for your latest push to git@git.bioconductor.org:packages/MicrobiomeProfiler.git to reflect on this report. See How and When does the builder pull? When will my changes propagate? for more information. - Make sure to use the following settings in order to reproduce any error or warning you see on this page. |
| Package 1197/2183 | Hostname | OS / Arch | INSTALL | BUILD | CHECK | BUILD BIN | ||||||||
| MicrobiomeProfiler 1.4.0 (landing page) Meijun Chen
| nebbiolo2 | Linux (Ubuntu 20.04.5 LTS) / x86_64 | OK | OK | OK | |||||||||
| palomino4 | Windows Server 2022 Datacenter / x64 | OK | OK | OK | OK | |||||||||
| lconway | macOS 12.5.1 Monterey / x86_64 | OK | OK | OK | OK | |||||||||
| Package: MicrobiomeProfiler |
| Version: 1.4.0 |
| Command: F:\biocbuild\bbs-3.16-bioc\R\bin\R.exe CMD check --no-multiarch --install=check:MicrobiomeProfiler.install-out.txt --library=F:\biocbuild\bbs-3.16-bioc\R\library --no-vignettes --timings MicrobiomeProfiler_1.4.0.tar.gz |
| StartedAt: 2023-04-11 03:21:50 -0400 (Tue, 11 Apr 2023) |
| EndedAt: 2023-04-11 03:24:53 -0400 (Tue, 11 Apr 2023) |
| EllapsedTime: 183.2 seconds |
| RetCode: 0 |
| Status: OK |
| CheckDir: MicrobiomeProfiler.Rcheck |
| Warnings: 0 |
##############################################################################
##############################################################################
###
### Running command:
###
### F:\biocbuild\bbs-3.16-bioc\R\bin\R.exe CMD check --no-multiarch --install=check:MicrobiomeProfiler.install-out.txt --library=F:\biocbuild\bbs-3.16-bioc\R\library --no-vignettes --timings MicrobiomeProfiler_1.4.0.tar.gz
###
##############################################################################
##############################################################################
* using log directory 'F:/biocbuild/bbs-3.16-bioc/meat/MicrobiomeProfiler.Rcheck'
* using R version 4.2.3 (2023-03-15 ucrt)
* using platform: x86_64-w64-mingw32 (64-bit)
* using session charset: UTF-8
* using option '--no-vignettes'
* checking for file 'MicrobiomeProfiler/DESCRIPTION' ... OK
* this is package 'MicrobiomeProfiler' version '1.4.0'
* package encoding: UTF-8
* checking package namespace information ... OK
* checking package dependencies ... OK
* checking if this is a source package ... OK
* checking if there is a namespace ... OK
* checking for hidden files and directories ... OK
* checking for portable file names ... OK
* checking whether package 'MicrobiomeProfiler' can be installed ... OK
* checking installed package size ... OK
* checking package directory ... OK
* checking 'build' directory ... OK
* checking DESCRIPTION meta-information ... OK
* checking top-level files ... OK
* checking for left-over files ... OK
* checking index information ... OK
* checking package subdirectories ... OK
* checking R files for non-ASCII characters ... OK
* checking R files for syntax errors ... OK
* checking whether the package can be loaded ... OK
* checking whether the package can be loaded with stated dependencies ... OK
* checking whether the package can be unloaded cleanly ... OK
* checking whether the namespace can be loaded with stated dependencies ... OK
* checking whether the namespace can be unloaded cleanly ... OK
* checking dependencies in R code ... OK
* checking S3 generic/method consistency ... OK
* checking replacement functions ... OK
* checking foreign function calls ... OK
* checking R code for possible problems ... NOTE
enrichCOG: no visible global function definition for 'slot<-'
enrichHMDB: no visible global function definition for 'slot<-'
enrichKO: no visible global function definition for 'slot<-'
enrichMBKEGG: no visible global function definition for 'slot<-'
enrichMDA: no visible global function definition for 'slot<-'
enrichSMPDB: no visible global function definition for 'slot<-'
Undefined global functions or variables:
slot<-
Consider adding
importFrom("methods", "slot<-")
to your NAMESPACE file (and ensure that your DESCRIPTION Imports field
contains 'methods').
* checking Rd files ... OK
* checking Rd metadata ... OK
* checking Rd cross-references ... OK
* checking for missing documentation entries ... OK
* checking for code/documentation mismatches ... OK
* checking Rd \usage sections ... OK
* checking Rd contents ... OK
* checking for unstated dependencies in examples ... OK
* checking contents of 'data' directory ... OK
* checking data for non-ASCII characters ... OK
* checking data for ASCII and uncompressed saves ... OK
* checking R/sysdata.rda ... OK
* checking files in 'vignettes' ... OK
* checking examples ... OK
* checking for unstated dependencies in 'tests' ... OK
* checking tests ...
Running 'testthat.R'
OK
* checking for unstated dependencies in vignettes ... OK
* checking package vignettes in 'inst/doc' ... OK
* checking running R code from vignettes ... SKIPPED
* checking re-building of vignette outputs ... SKIPPED
* checking PDF version of manual ... OK
* DONE
Status: 1 NOTE
See
'F:/biocbuild/bbs-3.16-bioc/meat/MicrobiomeProfiler.Rcheck/00check.log'
for details.
MicrobiomeProfiler.Rcheck/00install.out
############################################################################## ############################################################################## ### ### Running command: ### ### F:\biocbuild\bbs-3.16-bioc\R\bin\R.exe CMD INSTALL MicrobiomeProfiler ### ############################################################################## ############################################################################## * installing to library 'F:/biocbuild/bbs-3.16-bioc/R/library' * installing *source* package 'MicrobiomeProfiler' ... ** using staged installation ** R ** data ** inst ** byte-compile and prepare package for lazy loading ** help *** installing help indices ** building package indices ** installing vignettes ** testing if installed package can be loaded from temporary location ** testing if installed package can be loaded from final location ** testing if installed package keeps a record of temporary installation path * DONE (MicrobiomeProfiler)
MicrobiomeProfiler.Rcheck/tests/testthat.Rout
R version 4.2.3 (2023-03-15 ucrt) -- "Shortstop Beagle"
Copyright (C) 2023 The R Foundation for Statistical Computing
Platform: x86_64-w64-mingw32/x64 (64-bit)
R is free software and comes with ABSOLUTELY NO WARRANTY.
You are welcome to redistribute it under certain conditions.
Type 'license()' or 'licence()' for distribution details.
R is a collaborative project with many contributors.
Type 'contributors()' for more information and
'citation()' on how to cite R or R packages in publications.
Type 'demo()' for some demos, 'help()' for on-line help, or
'help.start()' for an HTML browser interface to help.
Type 'q()' to quit R.
> library(testthat)
> library(MicrobiomeProfiler)
> test_check("MicrobiomeProfiler")
--> No gene can be mapped....
--> Expected input gene ID: K19813,K01229,K05942,K07026,K02771,K01053
--> return NULL...
--> No gene can be mapped....
--> Expected input gene ID: COG0742,COG1364,COG0072,COG3411,COG1092,COG0547
--> return NULL...
--> No gene can be mapped....
--> Expected input gene ID: 118747,1280,196082,1308,39948,820
--> return NULL...
--> No gene can be mapped....
--> Expected input gene ID: PW_C000186,PW_C001435,PW_C000123,PW_C000396,PW_C000170,PW_C000749
--> return NULL...
--> No gene can be mapped....
--> Expected input gene ID: C00880,C03289,C02670,C00712,C05125,C05796
--> return NULL...
--> No gene can be mapped....
--> Expected input gene ID: HMDB0000060,HMDB0002111,HMDB0000464,HMDB0000134,HMDB0002275,HMDB0001352
--> return NULL...
[ FAIL 0 | WARN 0 | SKIP 0 | PASS 13 ]
>
>
> proc.time()
user system elapsed
10.78 0.78 11.53
MicrobiomeProfiler.Rcheck/MicrobiomeProfiler-Ex.timings
| name | user | system | elapsed | |
| Psoriasis_data | 0.00 | 0.02 | 0.02 | |
| Rat_data | 0 | 0 | 0 | |
| bitr_smpdb | 0.60 | 0.01 | 0.61 | |
| enrichCOG | 0.01 | 0.00 | 0.01 | |
| enrichHMDB | 0.10 | 0.02 | 0.11 | |
| enrichKO | 0.28 | 0.01 | 0.30 | |
| enrichMBKEGG | 0.14 | 0.00 | 0.14 | |
| enrichMDA | 0.09 | 0.02 | 0.11 | |
| enrichSMPDB | 0.11 | 0.00 | 0.11 | |
| microbiota_taxlist | 0 | 0 | 0 | |
| run_MicrobiomeProfiler | 0 | 0 | 0 | |