| Back to Multiple platform build/check report for BioC 3.16: simplified long |
|
This page was generated on 2023-04-12 11:05:40 -0400 (Wed, 12 Apr 2023).
| Hostname | OS | Arch (*) | R version | Installed pkgs |
|---|---|---|---|---|
| nebbiolo2 | Linux (Ubuntu 20.04.5 LTS) | x86_64 | 4.2.3 (2023-03-15) -- "Shortstop Beagle" | 4502 |
| palomino4 | Windows Server 2022 Datacenter | x64 | 4.2.3 (2023-03-15 ucrt) -- "Shortstop Beagle" | 4282 |
| lconway | macOS 12.5.1 Monterey | x86_64 | 4.2.3 (2023-03-15) -- "Shortstop Beagle" | 4310 |
| Click on any hostname to see more info about the system (e.g. compilers) (*) as reported by 'uname -p', except on Windows and Mac OS X | ||||
|
To the developers/maintainers of the MetaboSignal package: - Please allow up to 24 hours (and sometimes 48 hours) for your latest push to git@git.bioconductor.org:packages/MetaboSignal.git to reflect on this report. See How and When does the builder pull? When will my changes propagate? for more information. - Make sure to use the following settings in order to reproduce any error or warning you see on this page. |
| Package 1145/2183 | Hostname | OS / Arch | INSTALL | BUILD | CHECK | BUILD BIN | ||||||||
| MetaboSignal 1.28.0 (landing page) Andrea Rodriguez-Martinez
| nebbiolo2 | Linux (Ubuntu 20.04.5 LTS) / x86_64 | OK | OK | OK | |||||||||
| palomino4 | Windows Server 2022 Datacenter / x64 | OK | OK | OK | OK | |||||||||
| lconway | macOS 12.5.1 Monterey / x86_64 | OK | OK | OK | OK | |||||||||
| Package: MetaboSignal |
| Version: 1.28.0 |
| Command: F:\biocbuild\bbs-3.16-bioc\R\bin\R.exe CMD check --no-multiarch --install=check:MetaboSignal.install-out.txt --library=F:\biocbuild\bbs-3.16-bioc\R\library --no-vignettes --timings MetaboSignal_1.28.0.tar.gz |
| StartedAt: 2023-04-11 03:07:34 -0400 (Tue, 11 Apr 2023) |
| EndedAt: 2023-04-11 03:13:05 -0400 (Tue, 11 Apr 2023) |
| EllapsedTime: 331.3 seconds |
| RetCode: 0 |
| Status: OK |
| CheckDir: MetaboSignal.Rcheck |
| Warnings: 0 |
##############################################################################
##############################################################################
###
### Running command:
###
### F:\biocbuild\bbs-3.16-bioc\R\bin\R.exe CMD check --no-multiarch --install=check:MetaboSignal.install-out.txt --library=F:\biocbuild\bbs-3.16-bioc\R\library --no-vignettes --timings MetaboSignal_1.28.0.tar.gz
###
##############################################################################
##############################################################################
* using log directory 'F:/biocbuild/bbs-3.16-bioc/meat/MetaboSignal.Rcheck'
* using R version 4.2.3 (2023-03-15 ucrt)
* using platform: x86_64-w64-mingw32 (64-bit)
* using session charset: UTF-8
* using option '--no-vignettes'
* checking for file 'MetaboSignal/DESCRIPTION' ... OK
* checking extension type ... Package
* this is package 'MetaboSignal' version '1.28.0'
* package encoding: UTF-8
* checking package namespace information ... OK
* checking package dependencies ... OK
* checking if this is a source package ... OK
* checking if there is a namespace ... OK
* checking for hidden files and directories ... OK
* checking for portable file names ... OK
* checking whether package 'MetaboSignal' can be installed ... OK
* checking installed package size ... OK
* checking package directory ... OK
* checking 'build' directory ... OK
* checking DESCRIPTION meta-information ... OK
* checking top-level files ... OK
* checking for left-over files ... OK
* checking index information ... OK
* checking package subdirectories ... OK
* checking R files for non-ASCII characters ... OK
* checking R files for syntax errors ... OK
* checking whether the package can be loaded ... OK
* checking whether the package can be loaded with stated dependencies ... OK
* checking whether the package can be unloaded cleanly ... OK
* checking whether the namespace can be loaded with stated dependencies ... OK
* checking whether the namespace can be unloaded cleanly ... OK
* checking dependencies in R code ... OK
* checking S3 generic/method consistency ... OK
* checking replacement functions ... OK
* checking foreign function calls ... OK
* checking R code for possible problems ... NOTE
MS_tissueFilter: no visible binding for global variable
'hpaNormalTissue'
get_molecule_type: no visible binding for global variable
'regulatory_interactions'
Undefined global functions or variables:
hpaNormalTissue regulatory_interactions
* checking Rd files ... OK
* checking Rd metadata ... OK
* checking Rd cross-references ... OK
* checking for missing documentation entries ... OK
* checking for code/documentation mismatches ... OK
* checking Rd \usage sections ... OK
* checking Rd contents ... OK
* checking for unstated dependencies in examples ... OK
* checking contents of 'data' directory ... OK
* checking data for non-ASCII characters ... OK
* checking LazyData ... OK
* checking data for ASCII and uncompressed saves ... OK
* checking installed files from 'inst/doc' ... OK
* checking files in 'vignettes' ... OK
* checking examples ... OK
Examples with CPU (user + system) or elapsed time > 5s
user system elapsed
MS_keggFinder 0.53 0.03 5.55
* checking for unstated dependencies in 'tests' ... OK
* checking tests ...
Running 'runTests.R'
OK
* checking for unstated dependencies in vignettes ... OK
* checking package vignettes in 'inst/doc' ... OK
* checking running R code from vignettes ... SKIPPED
* checking re-building of vignette outputs ... SKIPPED
* checking PDF version of manual ... OK
* DONE
Status: 1 NOTE
See
'F:/biocbuild/bbs-3.16-bioc/meat/MetaboSignal.Rcheck/00check.log'
for details.
MetaboSignal.Rcheck/00install.out
############################################################################## ############################################################################## ### ### Running command: ### ### F:\biocbuild\bbs-3.16-bioc\R\bin\R.exe CMD INSTALL MetaboSignal ### ############################################################################## ############################################################################## * installing to library 'F:/biocbuild/bbs-3.16-bioc/R/library' * installing *source* package 'MetaboSignal' ... ** using staged installation ** R ** data *** moving datasets to lazyload DB ** inst ** byte-compile and prepare package for lazy loading ** help *** installing help indices ** building package indices ** installing vignettes ** testing if installed package can be loaded from temporary location ** testing if installed package can be loaded from final location ** testing if installed package keeps a record of temporary installation path * DONE (MetaboSignal)
MetaboSignal.Rcheck/tests/runTests.Rout
R version 4.2.3 (2023-03-15 ucrt) -- "Shortstop Beagle"
Copyright (C) 2023 The R Foundation for Statistical Computing
Platform: x86_64-w64-mingw32/x64 (64-bit)
R is free software and comes with ABSOLUTELY NO WARRANTY.
You are welcome to redistribute it under certain conditions.
Type 'license()' or 'licence()' for distribution details.
R is a collaborative project with many contributors.
Type 'contributors()' for more information and
'citation()' on how to cite R or R packages in publications.
Type 'demo()' for some demos, 'help()' for on-line help, or
'help.start()' for an HTML browser interface to help.
Type 'q()' to quit R.
> BiocGenerics:::testPackage("MetaboSignal")
Note: some source_nodes or target_nodes were not mapped onto the network
Calculating distances
Building shortest path network
Note that all source_nodes and target_nodes were successfully mapped onto the network
Calculating distances
Building shortest path network
Note that all source_nodes and target_nodes were successfully mapped onto the network
Calculating distances
Building shortest path network
Note that all source_nodes and target_nodes were successfully mapped onto the network
Network features:
Number of nodes:59
Number of edges:100
Network features:
Number of nodes:59
Number of edges:100
RUNIT TEST PROTOCOL -- Tue Apr 11 03:12:53 2023
***********************************************
Number of test functions: 9
Number of errors: 0
Number of failures: 0
1 Test Suite :
MetaboSignal RUnit Tests - 9 test functions, 0 errors, 0 failures
Number of test functions: 9
Number of errors: 0
Number of failures: 0
Warning messages:
1: In betweenness(networkBW_i, gene, directed = TRUE, weights = NULL, :
'nobigint' is deprecated since igraph 1.3 and will be removed in igraph 1.4
2: In betweenness(networkBW_i, gene, directed = TRUE, weights = NULL, :
'nobigint' is deprecated since igraph 1.3 and will be removed in igraph 1.4
3: In betweenness(networkBW_i, gene, directed = TRUE, weights = NULL, :
'nobigint' is deprecated since igraph 1.3 and will be removed in igraph 1.4
4: In betweenness(networkBW_i, gene, directed = TRUE, weights = NULL, :
'nobigint' is deprecated since igraph 1.3 and will be removed in igraph 1.4
5: In betweenness(network_i, all_nodes, directed = FALSE, weights = NULL, :
'nobigint' is deprecated since igraph 1.3 and will be removed in igraph 1.4
6: In betweenness(network_i, nodes, directed = FALSE, weights = NULL, :
'nobigint' is deprecated since igraph 1.3 and will be removed in igraph 1.4
7: In betweenness(network_i, nodes, directed = FALSE, weights = NULL, :
'nobigint' is deprecated since igraph 1.3 and will be removed in igraph 1.4
8: In betweenness(network_i, all_nodes, directed = FALSE, weights = NULL, :
'nobigint' is deprecated since igraph 1.3 and will be removed in igraph 1.4
>
> proc.time()
user system elapsed
15.31 0.98 17.04
MetaboSignal.Rcheck/MetaboSignal-Ex.timings
| name | user | system | elapsed | |
| MS2_mergeNetworks | 0.05 | 0.00 | 0.05 | |
| MS2_ppiNetwork | 0.90 | 0.00 | 0.91 | |
| MS_changeNames | 0 | 0 | 0 | |
| MS_convertGene | 0.03 | 0.03 | 1.19 | |
| MS_distances | 0.06 | 0.02 | 0.08 | |
| MS_exportCytoscape | 0 | 0 | 0 | |
| MS_findMappedNodes | 0 | 0 | 0 | |
| MS_getPathIds | 0 | 0 | 0 | |
| MS_keggFinder | 0.53 | 0.03 | 5.55 | |
| MS_keggNetwork | 0 | 0 | 0 | |
| MS_nodeBW | 0.16 | 0.00 | 0.16 | |
| MS_reactionNetwork | 0 | 0 | 0 | |
| MS_removeDrugs | 0 | 0 | 0 | |
| MS_removeNode | 0.01 | 0.00 | 0.02 | |
| MS_replaceNode | 0.02 | 0.00 | 0.01 | |
| MS_shortestPaths | 0.01 | 0.00 | 0.02 | |
| MS_shortestPathsNetwork | 0 | 0 | 0 | |
| MS_tissueFilter | 0 | 0 | 0 | |
| MS_topologyFilter | 1.19 | 0.04 | 1.23 | |