| Back to Multiple platform build/check report for BioC 3.16: simplified long |
|
This page was generated on 2023-04-12 11:06:14 -0400 (Wed, 12 Apr 2023).
| Hostname | OS | Arch (*) | R version | Installed pkgs |
|---|---|---|---|---|
| nebbiolo2 | Linux (Ubuntu 20.04.5 LTS) | x86_64 | 4.2.3 (2023-03-15) -- "Shortstop Beagle" | 4502 |
| palomino4 | Windows Server 2022 Datacenter | x64 | 4.2.3 (2023-03-15 ucrt) -- "Shortstop Beagle" | 4282 |
| lconway | macOS 12.5.1 Monterey | x86_64 | 4.2.3 (2023-03-15) -- "Shortstop Beagle" | 4310 |
| Click on any hostname to see more info about the system (e.g. compilers) (*) as reported by 'uname -p', except on Windows and Mac OS X | ||||
|
To the developers/maintainers of the MetCirc package: - Please allow up to 24 hours (and sometimes 48 hours) for your latest push to git@git.bioconductor.org:packages/MetCirc.git to reflect on this report. See How and When does the builder pull? When will my changes propagate? for more information. - Make sure to use the following settings in order to reproduce any error or warning you see on this page. |
| Package 1161/2183 | Hostname | OS / Arch | INSTALL | BUILD | CHECK | BUILD BIN | ||||||||
| MetCirc 1.28.0 (landing page) Thomas Naake
| nebbiolo2 | Linux (Ubuntu 20.04.5 LTS) / x86_64 | OK | OK | OK | |||||||||
| palomino4 | Windows Server 2022 Datacenter / x64 | OK | OK | OK | OK | |||||||||
| lconway | macOS 12.5.1 Monterey / x86_64 | OK | OK | OK | OK | |||||||||
| Package: MetCirc |
| Version: 1.28.0 |
| Command: /Library/Frameworks/R.framework/Resources/bin/R CMD check --install=check:MetCirc.install-out.txt --library=/Library/Frameworks/R.framework/Resources/library --no-vignettes --timings MetCirc_1.28.0.tar.gz |
| StartedAt: 2023-04-10 21:07:05 -0400 (Mon, 10 Apr 2023) |
| EndedAt: 2023-04-10 21:10:16 -0400 (Mon, 10 Apr 2023) |
| EllapsedTime: 190.9 seconds |
| RetCode: 0 |
| Status: OK |
| CheckDir: MetCirc.Rcheck |
| Warnings: 0 |
############################################################################## ############################################################################## ### ### Running command: ### ### /Library/Frameworks/R.framework/Resources/bin/R CMD check --install=check:MetCirc.install-out.txt --library=/Library/Frameworks/R.framework/Resources/library --no-vignettes --timings MetCirc_1.28.0.tar.gz ### ############################################################################## ############################################################################## * using log directory ‘/Users/biocbuild/bbs-3.16-bioc/meat/MetCirc.Rcheck’ * using R version 4.2.3 (2023-03-15) * using platform: x86_64-apple-darwin17.0 (64-bit) * using session charset: UTF-8 * using option ‘--no-vignettes’ * checking for file ‘MetCirc/DESCRIPTION’ ... OK * checking extension type ... Package * this is package ‘MetCirc’ version ‘1.28.0’ * checking package namespace information ... OK * checking package dependencies ... OK * checking if this is a source package ... OK * checking if there is a namespace ... OK * checking for hidden files and directories ... OK * checking for portable file names ... OK * checking for sufficient/correct file permissions ... OK * checking whether package ‘MetCirc’ can be installed ... OK * checking installed package size ... OK * checking package directory ... OK * checking ‘build’ directory ... OK * checking DESCRIPTION meta-information ... OK * checking top-level files ... OK * checking for left-over files ... OK * checking index information ... OK * checking package subdirectories ... OK * checking R files for non-ASCII characters ... OK * checking R files for syntax errors ... OK * checking whether the package can be loaded ... OK * checking whether the package can be loaded with stated dependencies ... OK * checking whether the package can be unloaded cleanly ... OK * checking whether the namespace can be loaded with stated dependencies ... OK * checking whether the namespace can be unloaded cleanly ... OK * checking dependencies in R code ... NOTE Unexported objects imported by ':::' calls: ‘MsCoreUtils:::.weightxy’ ‘circlize:::get.sector.data’ See the note in ?`:::` about the use of this operator. There are ::: calls to the package's namespace in its code. A package almost never needs to use ::: for its own objects: ‘recordPlotFill_degreeFeatures’ ‘recordPlotHighlight’ ‘replayPlotAdd’ ‘replayPlotOrder’ ‘select’ ‘spectraCondition’ ‘typeMatch_link0’ * checking S3 generic/method consistency ... OK * checking replacement functions ... OK * checking foreign function calls ... OK * checking R code for possible problems ... OK * checking Rd files ... OK * checking Rd metadata ... OK * checking Rd cross-references ... OK * checking for missing documentation entries ... OK * checking for code/documentation mismatches ... OK * checking Rd \usage sections ... OK * checking Rd contents ... OK * checking for unstated dependencies in examples ... OK * checking contents of ‘data’ directory ... OK * checking data for non-ASCII characters ... OK * checking data for ASCII and uncompressed saves ... OK * checking files in ‘vignettes’ ... OK * checking examples ... OK * checking for unstated dependencies in ‘tests’ ... OK * checking tests ... Running ‘testthat.R’ OK * checking for unstated dependencies in vignettes ... OK * checking package vignettes in ‘inst/doc’ ... OK * checking running R code from vignettes ... SKIPPED * checking re-building of vignette outputs ... SKIPPED * checking PDF version of manual ... OK * DONE Status: 1 NOTE See ‘/Users/biocbuild/bbs-3.16-bioc/meat/MetCirc.Rcheck/00check.log’ for details.
MetCirc.Rcheck/00install.out
############################################################################## ############################################################################## ### ### Running command: ### ### /Library/Frameworks/R.framework/Resources/bin/R CMD INSTALL MetCirc ### ############################################################################## ############################################################################## * installing to library ‘/Library/Frameworks/R.framework/Versions/4.2/Resources/library’ * installing *source* package ‘MetCirc’ ... ** using staged installation ** R ** data ** inst ** byte-compile and prepare package for lazy loading ** help *** installing help indices ** building package indices ** installing vignettes ** testing if installed package can be loaded from temporary location ** testing if installed package can be loaded from final location ** testing if installed package keeps a record of temporary installation path * DONE (MetCirc)
MetCirc.Rcheck/tests/testthat.Rout
R version 4.2.3 (2023-03-15) -- "Shortstop Beagle"
Copyright (C) 2023 The R Foundation for Statistical Computing
Platform: x86_64-apple-darwin17.0 (64-bit)
R is free software and comes with ABSOLUTELY NO WARRANTY.
You are welcome to redistribute it under certain conditions.
Type 'license()' or 'licence()' for distribution details.
R is a collaborative project with many contributors.
Type 'contributors()' for more information and
'citation()' on how to cite R or R packages in publications.
Type 'demo()' for some demos, 'help()' for on-line help, or
'help.start()' for an HTML browser interface to help.
Type 'q()' to quit R.
> library("testthat")
> library("MetCirc")
Loading required package: amap
Loading required package: circlize
========================================
circlize version 0.4.15
CRAN page: https://cran.r-project.org/package=circlize
Github page: https://github.com/jokergoo/circlize
Documentation: https://jokergoo.github.io/circlize_book/book/
If you use it in published research, please cite:
Gu, Z. circlize implements and enhances circular visualization
in R. Bioinformatics 2014.
This message can be suppressed by:
suppressPackageStartupMessages(library(circlize))
========================================
Loading required package: scales
Loading required package: shiny
Loading required package: Spectra
Loading required package: S4Vectors
Loading required package: stats4
Loading required package: BiocGenerics
Attaching package: 'BiocGenerics'
The following objects are masked from 'package:stats':
IQR, mad, sd, var, xtabs
The following objects are masked from 'package:base':
Filter, Find, Map, Position, Reduce, anyDuplicated, aperm, append,
as.data.frame, basename, cbind, colnames, dirname, do.call,
duplicated, eval, evalq, get, grep, grepl, intersect, is.unsorted,
lapply, mapply, match, mget, order, paste, pmax, pmax.int, pmin,
pmin.int, rank, rbind, rownames, sapply, setdiff, sort, table,
tapply, union, unique, unsplit, which.max, which.min
Attaching package: 'S4Vectors'
The following objects are masked from 'package:base':
I, expand.grid, unname
Loading required package: BiocParallel
Loading required package: ProtGenerics
Attaching package: 'ProtGenerics'
The following object is masked from 'package:stats':
smooth
Attaching package: 'MetCirc'
The following object is masked from 'package:Spectra':
plotSpectra
> library("MsCoreUtils")
Attaching package: 'MsCoreUtils'
The following objects are masked from 'package:Spectra':
bin, smooth
The following objects are masked from 'package:ProtGenerics':
bin, smooth
The following object is masked from 'package:stats':
smooth
>
> test_check("MetCirc")
[ FAIL 0 | WARN 1 | SKIP 0 | PASS 181 ]
[ FAIL 0 | WARN 1 | SKIP 0 | PASS 181 ]
>
> proc.time()
user system elapsed
84.886 0.820 85.840
MetCirc.Rcheck/MetCirc-Ex.timings
| name | user | system | elapsed | |
| cart2Polar | 0.000 | 0.000 | 0.001 | |
| circosLegend | 0.388 | 0.006 | 0.395 | |
| convertMsp2Spectra | 0.500 | 0.002 | 0.503 | |
| createLink0df | 1.346 | 0.014 | 1.362 | |
| createLinkDf | 2.860 | 0.088 | 2.950 | |
| cutLinkDf | 1.490 | 0.037 | 1.528 | |
| getLinkDfIndices | 0 | 0 | 0 | |
| highlight | 0.672 | 0.009 | 0.682 | |
| minFragCart2Polar | 0.337 | 0.004 | 0.341 | |
| neutralloss | 0.336 | 0.003 | 0.339 | |
| orderSimilarityMatrix | 0.520 | 0.004 | 0.524 | |
| plotCircos | 0.510 | 0.007 | 0.518 | |
| plotSpectra | 0.325 | 0.008 | 0.334 | |
| printInformationSelect | 0.361 | 0.002 | 0.365 | |
| recordPlotFill_degreeFeatures | 0.107 | 0.002 | 0.111 | |
| recordPlotHighlight | 0.096 | 0.002 | 0.098 | |
| replayPlotAdd | 0.772 | 0.010 | 0.783 | |
| replayPlotOrder | 0.119 | 0.003 | 0.122 | |
| select | 0.001 | 0.000 | 0.000 | |
| shinyCircos | 0.293 | 0.002 | 0.295 | |
| spectraCondition | 0.018 | 0.002 | 0.021 | |
| thresholdLinkDf | 1.410 | 0.088 | 1.501 | |
| typeMatch_link0 | 0.341 | 0.007 | 0.350 | |