| Back to Multiple platform build/check report for BioC 3.16: simplified long |
|
This page was generated on 2023-04-12 11:05:39 -0400 (Wed, 12 Apr 2023).
| Hostname | OS | Arch (*) | R version | Installed pkgs |
|---|---|---|---|---|
| nebbiolo2 | Linux (Ubuntu 20.04.5 LTS) | x86_64 | 4.2.3 (2023-03-15) -- "Shortstop Beagle" | 4502 |
| palomino4 | Windows Server 2022 Datacenter | x64 | 4.2.3 (2023-03-15 ucrt) -- "Shortstop Beagle" | 4282 |
| lconway | macOS 12.5.1 Monterey | x86_64 | 4.2.3 (2023-03-15) -- "Shortstop Beagle" | 4310 |
| Click on any hostname to see more info about the system (e.g. compilers) (*) as reported by 'uname -p', except on Windows and Mac OS X | ||||
|
To the developers/maintainers of the Mergeomics package: - Please allow up to 24 hours (and sometimes 48 hours) for your latest push to git@git.bioconductor.org:packages/Mergeomics.git to reflect on this report. See How and When does the builder pull? When will my changes propagate? for more information. - Make sure to use the following settings in order to reproduce any error or warning you see on this page. |
| Package 1132/2183 | Hostname | OS / Arch | INSTALL | BUILD | CHECK | BUILD BIN | ||||||||
| Mergeomics 1.26.0 (landing page) Zeyneb Kurt
| nebbiolo2 | Linux (Ubuntu 20.04.5 LTS) / x86_64 | OK | OK | OK | |||||||||
| palomino4 | Windows Server 2022 Datacenter / x64 | OK | OK | OK | OK | |||||||||
| lconway | macOS 12.5.1 Monterey / x86_64 | OK | OK | OK | OK | |||||||||
| Package: Mergeomics |
| Version: 1.26.0 |
| Command: F:\biocbuild\bbs-3.16-bioc\R\bin\R.exe CMD check --no-multiarch --install=check:Mergeomics.install-out.txt --library=F:\biocbuild\bbs-3.16-bioc\R\library --no-vignettes --timings Mergeomics_1.26.0.tar.gz |
| StartedAt: 2023-04-11 03:04:12 -0400 (Tue, 11 Apr 2023) |
| EndedAt: 2023-04-11 03:11:37 -0400 (Tue, 11 Apr 2023) |
| EllapsedTime: 444.7 seconds |
| RetCode: 0 |
| Status: OK |
| CheckDir: Mergeomics.Rcheck |
| Warnings: 0 |
##############################################################################
##############################################################################
###
### Running command:
###
### F:\biocbuild\bbs-3.16-bioc\R\bin\R.exe CMD check --no-multiarch --install=check:Mergeomics.install-out.txt --library=F:\biocbuild\bbs-3.16-bioc\R\library --no-vignettes --timings Mergeomics_1.26.0.tar.gz
###
##############################################################################
##############################################################################
* using log directory 'F:/biocbuild/bbs-3.16-bioc/meat/Mergeomics.Rcheck'
* using R version 4.2.3 (2023-03-15 ucrt)
* using platform: x86_64-w64-mingw32 (64-bit)
* using session charset: UTF-8
* using option '--no-vignettes'
* checking for file 'Mergeomics/DESCRIPTION' ... OK
* checking extension type ... Package
* this is package 'Mergeomics' version '1.26.0'
* checking package namespace information ... OK
* checking package dependencies ... OK
* checking if this is a source package ... OK
* checking if there is a namespace ... OK
* checking for hidden files and directories ... OK
* checking for portable file names ... OK
* checking whether package 'Mergeomics' can be installed ... OK
* checking installed package size ... NOTE
installed size is 8.3Mb
sub-directories of 1Mb or more:
extdata 7.5Mb
* checking package directory ... OK
* checking 'build' directory ... OK
* checking DESCRIPTION meta-information ... OK
* checking top-level files ... OK
* checking for left-over files ... OK
* checking index information ... OK
* checking package subdirectories ... OK
* checking R files for non-ASCII characters ... OK
* checking R files for syntax errors ... OK
* checking whether the package can be loaded ... OK
* checking whether the package can be loaded with stated dependencies ... OK
* checking whether the package can be unloaded cleanly ... OK
* checking whether the namespace can be loaded with stated dependencies ... OK
* checking whether the namespace can be unloaded cleanly ... OK
* checking dependencies in R code ... OK
* checking S3 generic/method consistency ... OK
* checking replacement functions ... OK
* checking foreign function calls ... OK
* checking R code for possible problems ... NOTE
kda.analyze: no visible global function definition for 'p.adjust'
kda.analyze.exec: no visible global function definition for 'pnorm'
kda.analyze.simulate: no visible global function definition for 'rnorm'
kda.prepare: no visible global function definition for 'quantile'
kda.prepare: no visible global function definition for 'object.size'
kda.prepare.screen: no visible global function definition for
'quantile'
kda.prepare.screen: no visible global function definition for 'median'
kda.start: no visible global function definition for 'object.size'
kda2cytoscape: no visible global function definition for 'write.table'
kda2cytoscape.colormap: no visible global function definition for
'rainbow'
kda2cytoscape.colormap: no visible global function definition for
'col2rgb'
kda2himmeli: no visible global function definition for 'quantile'
kda2himmeli: no visible global function definition for 'write.table'
kda2himmeli.colormap: no visible global function definition for
'rainbow'
kda2himmeli.colormap: no visible global function definition for
'col2rgb'
ssea.analyze: no visible global function definition for 'qnorm'
ssea.analyze: no visible global function definition for 'approx'
ssea.analyze: no visible global function definition for 'pnorm'
ssea.analyze.simulate: no visible global function definition for
'quantile'
ssea.control: no visible global function definition for 'median'
ssea.control: no visible global function definition for 'object.size'
ssea.meta: no visible global function definition for 'qnorm'
ssea.meta: no visible global function definition for 'quantile'
ssea.meta: no visible global function definition for 'pnorm'
ssea.meta: no visible global function definition for 'median'
ssea.meta: no visible global function definition for 'na.omit'
ssea.prepare: no visible global function definition for 'median'
ssea.prepare: no visible global function definition for 'object.size'
ssea.start: no visible global function definition for 'na.omit'
ssea.start: no visible global function definition for 'object.size'
ssea.start.configure: no visible global function definition for
'write.table'
ssea2kda: no visible global function definition for 'na.omit'
ssea2kda.import: no visible global function definition for 'na.omit'
tool.aggregate: no visible global function definition for 'na.omit'
tool.cluster: no visible global function definition for 'as.dist'
tool.cluster: no visible global function definition for 'hclust'
tool.fdr.bh: no visible global function definition for 'qnorm'
tool.fdr.bh: no visible global function definition for 'p.adjust'
tool.fdr.bh: no visible global function definition for 'approx'
tool.fdr.empirical: no visible global function definition for 'qnorm'
tool.fdr.empirical: no visible global function definition for 'approx'
tool.metap: no visible global function definition for 'qnorm'
tool.metap: no visible global function definition for 'pnorm'
tool.normalize: no visible global function definition for 'sd'
tool.normalize: no visible global function definition for 'median'
tool.normalize: no visible global function definition for 'optim'
tool.normalize: no visible global function definition for 'ks.test'
tool.normalize.quality: no visible global function definition for 'sd'
tool.normalize.quality: no visible global function definition for
'ks.test'
tool.overlap: no visible global function definition for 'phyper'
tool.read: no visible global function definition for 'read.delim'
tool.read: no visible global function definition for 'na.omit'
tool.save: no visible global function definition for 'write.table'
tool.unify: no visible global function definition for 'sd'
tool.unify: no visible global function definition for 'quantile'
tool.unify: no visible global function definition for 'approx'
Undefined global functions or variables:
approx as.dist col2rgb hclust ks.test median na.omit object.size
optim p.adjust phyper pnorm qnorm quantile rainbow read.delim rnorm
sd write.table
Consider adding
importFrom("grDevices", "col2rgb", "rainbow")
importFrom("stats", "approx", "as.dist", "hclust", "ks.test", "median",
"na.omit", "optim", "p.adjust", "phyper", "pnorm", "qnorm",
"quantile", "rnorm", "sd")
importFrom("utils", "object.size", "read.delim", "write.table")
to your NAMESPACE file.
* checking Rd files ... OK
* checking Rd metadata ... OK
* checking Rd cross-references ... OK
* checking for missing documentation entries ... OK
* checking for code/documentation mismatches ... OK
* checking Rd \usage sections ... OK
* checking Rd contents ... OK
* checking for unstated dependencies in examples ... OK
* checking contents of 'data' directory ... OK
* checking data for non-ASCII characters ... OK
* checking data for ASCII and uncompressed saves ... OK
* checking sizes of PDF files under 'inst/doc' ... OK
* checking files in 'vignettes' ... OK
* checking examples ... OK
Examples with CPU (user + system) or elapsed time > 5s
user system elapsed
kda.analyze.exec 7.45 0.45 7.91
kda.analyze.simulate 6.82 0.33 7.14
kda.prepare 6.92 0.07 7.00
kda.analyze.test 6.72 0.16 6.88
ssea2kda 5.66 0.19 5.85
ssea2kda.analyze 5.22 0.27 5.49
ssea.meta 4.80 0.21 5.01
* checking for unstated dependencies in 'tests' ... OK
* checking tests ...
Running 'runTests.R'
OK
* checking for unstated dependencies in vignettes ... OK
* checking package vignettes in 'inst/doc' ... OK
* checking running R code from vignettes ... SKIPPED
* checking re-building of vignette outputs ... SKIPPED
* checking PDF version of manual ... OK
* DONE
Status: 2 NOTEs
See
'F:/biocbuild/bbs-3.16-bioc/meat/Mergeomics.Rcheck/00check.log'
for details.
Mergeomics.Rcheck/00install.out
############################################################################## ############################################################################## ### ### Running command: ### ### F:\biocbuild\bbs-3.16-bioc\R\bin\R.exe CMD INSTALL Mergeomics ### ############################################################################## ############################################################################## * installing to library 'F:/biocbuild/bbs-3.16-bioc/R/library' * installing *source* package 'Mergeomics' ... ** using staged installation ** R ** data ** inst ** byte-compile and prepare package for lazy loading ** help *** installing help indices ** building package indices ** installing vignettes ** testing if installed package can be loaded from temporary location ** testing if installed package can be loaded from final location ** testing if installed package keeps a record of temporary installation path * DONE (Mergeomics)
Mergeomics.Rcheck/tests/runTests.Rout
R version 4.2.3 (2023-03-15 ucrt) -- "Shortstop Beagle"
Copyright (C) 2023 The R Foundation for Statistical Computing
Platform: x86_64-w64-mingw32/x64 (64-bit)
R is free software and comes with ABSOLUTELY NO WARRANTY.
You are welcome to redistribute it under certain conditions.
Type 'license()' or 'licence()' for distribution details.
R is a collaborative project with many contributors.
Type 'contributors()' for more information and
'citation()' on how to cite R or R packages in publications.
Type 'demo()' for some demos, 'help()' for on-line help, or
'help.start()' for an HTML browser interface to help.
Type 'q()' to quit R.
> BiocGenerics:::testPackage("Mergeomics")
KDA Version:12.7.2015
Parameters:
Search depth: 1
Search direction: 1
Maximum overlap: 0.33
Minimum module size: 20
Minimum degree: automatic
Maximum degree: automatic
Edge factor: 0
Random seed: 1
Importing edges...
TAIL HEAD WEIGHT
Length:140663 Length:140663 Min. :1
Class :character Class :character 1st Qu.:1
Mode :character Mode :character Median :1
Mean :1
3rd Qu.:1
Max. :1
Importing modules...
MODULE NODE
Length:1643 Length:1643
Class :character Class :character
Mode :character Mode :character
Graph: 7.694687 Mb
Minimum degree set to 20
Maximum degree set to 278
Collecting hubs...
4876 hubs (25.21%)
Graph: 13.28768 Mb
Analyzing network...
6675: Dhcr7, n=114, p=2.24e-17
6648: Cit, n=20, p=7.89e-01
6643: Pbx4, n=23, p=2.32e-05
5582: Sypl, n=319, p=2.02e-02
4746: Tcf7l2, n=73, p=2.63e-02
4708: Tpte, n=86, p=5.05e-02
4511: Pzp, n=160, p=8.85e-03
4464: Tsc22d3, n=487, p=4.28e-13
4407: Dntt, n=93, p=2.40e-20
4360: Amica1, n=132, p=1.06e-06
4588,..: Lrg1, n=86, p=5.76e-12
MSEA Version:01.04.2016
Parameters:
Permutation type: gene
Permutations: 100
Random seed: 1
Minimum gene count: 10
Maximum gene count: 500
Maximum overlap between genes: 0.33
Importing modules...
MODULE DESCR
Length:20 Length:20
Class :character Class :character
Mode :character Mode :character
MODULE GENE
Length:2906 Length:2906
Class :character Class :character
Mode :character Mode :character
Importing marker values...
MARKER VALUE
Length:76866 Min. : 0.8094
Class :character 1st Qu.: 0.9450
Mode :character Median : 1.1374
Mean : 1.3944
3rd Qu.: 1.4688
Max. :323.0100
Importing mapping data...
GENE MARKER
Length:132705 Length:132705
Class :character Class :character
Mode :character Mode :character
Merging genes containing shared markers...
WARNING! Limited overlap analysis due to large number of groups.
194832/1673535
410736/1673535
625429/1673535
836895/1673535
1042417/1673535
1259530/1673535
1475958/1673535
1668023/1673535
1673535 comparisons
21115 comparisons
13861 comparisons
12880 comparisons
Job: 11.66891 Mb
Preparing data structures...
Job: 17.11776 Mb
Adding positive controls...
Job: 17.42039 Mb
Estimating enrichment...
100/100 cycles
Normalizing scores...
RUNIT TEST PROTOCOL -- Tue Apr 11 03:11:21 2023
***********************************************
Number of test functions: 2
Number of errors: 0
Number of failures: 0
1 Test Suite :
Mergeomics RUnit Tests - 2 test functions, 0 errors, 0 failures
Number of test functions: 2
Number of errors: 0
Number of failures: 0
>
> proc.time()
user system elapsed
284.48 6.59 291.25
Mergeomics.Rcheck/Mergeomics-Ex.timings
| name | user | system | elapsed | |
| MSEA.KDA.onestep | 0.02 | 0.00 | 0.02 | |
| job.kda | 0.01 | 0.00 | 0.01 | |
| kda.analyze | 0.00 | 0.03 | 0.03 | |
| kda.analyze.exec | 7.45 | 0.45 | 7.91 | |
| kda.analyze.simulate | 6.82 | 0.33 | 7.14 | |
| kda.analyze.test | 6.72 | 0.16 | 6.88 | |
| kda.configure | 0 | 0 | 0 | |
| kda.finish | 0.10 | 0.00 | 0.11 | |
| kda.finish.estimate | 0.05 | 0.02 | 0.06 | |
| kda.finish.save | 0.04 | 0.00 | 0.05 | |
| kda.finish.summarize | 0.05 | 0.02 | 0.06 | |
| kda.finish.trim | 0.06 | 0.00 | 0.07 | |
| kda.prepare | 6.92 | 0.07 | 7.00 | |
| kda.prepare.overlap | 0 | 0 | 0 | |
| kda.prepare.screen | 0 | 0 | 0 | |
| kda.start | 1.14 | 0.02 | 1.15 | |
| kda.start.edges | 0 | 0 | 0 | |
| kda.start.identify | 0 | 0 | 0 | |
| kda.start.modules | 0 | 0 | 0 | |
| kda2cytoscape | 0.26 | 0.00 | 0.28 | |
| kda2cytoscape.colorize | 0 | 0 | 0 | |
| kda2cytoscape.colormap | 0 | 0 | 0 | |
| kda2cytoscape.drivers | 0.11 | 0.00 | 0.13 | |
| kda2cytoscape.edges | 0.11 | 0.02 | 0.12 | |
| kda2cytoscape.exec | 0.16 | 0.00 | 0.16 | |
| kda2cytoscape.identify | 0 | 0 | 0 | |
| kda2himmeli | 0.37 | 0.01 | 0.40 | |
| kda2himmeli.colorize | 0 | 0 | 0 | |
| kda2himmeli.colormap | 0 | 0 | 0 | |
| kda2himmeli.drivers | 0.14 | 0.02 | 0.16 | |
| kda2himmeli.edges | 0.13 | 0.00 | 0.12 | |
| kda2himmeli.exec | 0.20 | 0.01 | 0.22 | |
| kda2himmeli.identify | 0 | 0 | 0 | |
| ssea.analyze | 3.99 | 0.38 | 4.38 | |
| ssea.analyze.observe | 3.04 | 0.04 | 3.11 | |
| ssea.analyze.randgenes | 2.74 | 0.07 | 2.79 | |
| ssea.analyze.randloci | 2.83 | 0.11 | 2.94 | |
| ssea.analyze.simulate | 4.10 | 0.18 | 4.39 | |
| ssea.analyze.statistic | 0 | 0 | 0 | |
| ssea.control | 2.55 | 0.13 | 2.69 | |
| ssea.finish | 4.02 | 0.12 | 4.16 | |
| ssea.finish.details | 4.51 | 0.16 | 4.70 | |
| ssea.finish.fdr | 4.60 | 0.06 | 4.67 | |
| ssea.finish.genes | 4.51 | 0.06 | 4.58 | |
| ssea.meta | 4.80 | 0.21 | 5.01 | |
| ssea.prepare | 2.76 | 0.01 | 2.80 | |
| ssea.prepare.counts | 2.54 | 0.07 | 2.60 | |
| ssea.prepare.structure | 2.62 | 0.07 | 2.71 | |
| ssea.start | 2.64 | 0.08 | 2.72 | |
| ssea.start.configure | 0.33 | 0.05 | 0.39 | |
| ssea.start.identify | 0 | 0 | 0 | |
| ssea.start.relabel | 2.28 | 0.12 | 2.43 | |
| ssea2kda | 5.66 | 0.19 | 5.85 | |
| ssea2kda.analyze | 5.22 | 0.27 | 5.49 | |
| ssea2kda.import | 4.25 | 0.11 | 4.39 | |
| tool.aggregate | 0 | 0 | 0 | |
| tool.cluster | 0.00 | 0.01 | 0.02 | |
| tool.cluster.static | 0.01 | 0.00 | 0.01 | |
| tool.coalesce | 0.03 | 0.00 | 0.03 | |
| tool.coalesce.exec | 0.1 | 0.0 | 0.1 | |
| tool.coalesce.find | 0.09 | 0.00 | 0.09 | |
| tool.coalesce.merge | 0.09 | 0.00 | 0.09 | |
| tool.fdr | 0 | 0 | 0 | |
| tool.fdr.bh | 0 | 0 | 0 | |
| tool.fdr.empirical | 0 | 0 | 0 | |
| tool.graph | 1.02 | 0.05 | 1.07 | |
| tool.graph.degree | 1.14 | 0.01 | 1.15 | |
| tool.graph.list | 1.09 | 0.03 | 1.12 | |
| tool.metap | 0 | 0 | 0 | |
| tool.normalize | 0.02 | 0.00 | 0.02 | |
| tool.normalize.quality | 0 | 0 | 0 | |
| tool.overlap | 0.02 | 0.00 | 0.02 | |
| tool.read | 0.15 | 0.01 | 0.17 | |
| tool.save | 0 | 0 | 0 | |
| tool.subgraph | 0.06 | 0.00 | 0.06 | |
| tool.subgraph.find | 0.08 | 0.00 | 0.08 | |
| tool.subgraph.search | 0.06 | 0.00 | 0.06 | |
| tool.subgraph.stats | 0.08 | 0.00 | 0.08 | |
| tool.translate | 0.02 | 0.02 | 0.03 | |
| tool.unify | 0 | 0 | 0 | |