| Back to Multiple platform build/check report for BioC 3.16: simplified long |
|
This page was generated on 2023-04-12 11:06:13 -0400 (Wed, 12 Apr 2023).
| Hostname | OS | Arch (*) | R version | Installed pkgs |
|---|---|---|---|---|
| nebbiolo2 | Linux (Ubuntu 20.04.5 LTS) | x86_64 | 4.2.3 (2023-03-15) -- "Shortstop Beagle" | 4502 |
| palomino4 | Windows Server 2022 Datacenter | x64 | 4.2.3 (2023-03-15 ucrt) -- "Shortstop Beagle" | 4282 |
| lconway | macOS 12.5.1 Monterey | x86_64 | 4.2.3 (2023-03-15) -- "Shortstop Beagle" | 4310 |
| Click on any hostname to see more info about the system (e.g. compilers) (*) as reported by 'uname -p', except on Windows and Mac OS X | ||||
|
To the developers/maintainers of the Maaslin2 package: - Please allow up to 24 hours (and sometimes 48 hours) for your latest push to git@git.bioconductor.org:packages/Maaslin2.git to reflect on this report. See How and When does the builder pull? When will my changes propagate? for more information. - Make sure to use the following settings in order to reproduce any error or warning you see on this page. |
| Package 1071/2183 | Hostname | OS / Arch | INSTALL | BUILD | CHECK | BUILD BIN | ||||||||
| Maaslin2 1.12.0 (landing page) Lauren McIver
| nebbiolo2 | Linux (Ubuntu 20.04.5 LTS) / x86_64 | OK | OK | OK | |||||||||
| palomino4 | Windows Server 2022 Datacenter / x64 | OK | OK | OK | OK | |||||||||
| lconway | macOS 12.5.1 Monterey / x86_64 | OK | OK | OK | OK | |||||||||
| Package: Maaslin2 |
| Version: 1.12.0 |
| Command: rm -rf Maaslin2.buildbin-libdir && mkdir Maaslin2.buildbin-libdir && /Users/biocbuild/BBS/utils/build-universal.sh Maaslin2_1.12.0.tar.gz /Library/Frameworks/R.framework/Resources/bin/R Maaslin2.buildbin-libdir |
| StartedAt: 2023-04-10 23:49:58 -0400 (Mon, 10 Apr 2023) |
| EndedAt: 2023-04-10 23:50:11 -0400 (Mon, 10 Apr 2023) |
| EllapsedTime: 12.7 seconds |
| RetCode: 0 |
| Status: OK |
| PackageFile: Maaslin2_1.12.0.tgz |
| PackageFileSize: 727.7 KiB |
##############################################################################
##############################################################################
###
### Running command:
###
### rm -rf Maaslin2.buildbin-libdir && mkdir Maaslin2.buildbin-libdir && /Users/biocbuild/BBS/utils/build-universal.sh Maaslin2_1.12.0.tar.gz /Library/Frameworks/R.framework/Resources/bin/R Maaslin2.buildbin-libdir
###
##############################################################################
##############################################################################
>>>>>>>
>>>>>>> INSTALLATION WITH 'R CMD INSTALL --preclean --no-multiarch --library=Maaslin2.buildbin-libdir Maaslin2_1.12.0.tar.gz'
>>>>>>>
* installing *source* package ‘Maaslin2’ ...
** using staged installation
** R
** inst
** byte-compile and prepare package for lazy loading
Warning in checkMatrixPackageVersion() :
Package version inconsistency detected.
TMB was built with Matrix version 1.5.3
Current Matrix version is 1.5.4
Please re-install 'TMB' from source using install.packages('TMB', type = 'source') or ask CRAN for a binary version of 'TMB' matching CRAN's 'Matrix' package
** help
*** installing help indices
** building package indices
** installing vignettes
** testing if installed package can be loaded from temporary location
** testing if installed package can be loaded from final location
** testing if installed package keeps a record of temporary installation path
* DONE (Maaslin2)