| Back to Multiple platform build/check report for BioC 3.16: simplified long |
|
This page was generated on 2023-04-12 11:06:16 -0400 (Wed, 12 Apr 2023).
| Hostname | OS | Arch (*) | R version | Installed pkgs |
|---|---|---|---|---|
| nebbiolo2 | Linux (Ubuntu 20.04.5 LTS) | x86_64 | 4.2.3 (2023-03-15) -- "Shortstop Beagle" | 4502 |
| palomino4 | Windows Server 2022 Datacenter | x64 | 4.2.3 (2023-03-15 ucrt) -- "Shortstop Beagle" | 4282 |
| lconway | macOS 12.5.1 Monterey | x86_64 | 4.2.3 (2023-03-15) -- "Shortstop Beagle" | 4310 |
| Click on any hostname to see more info about the system (e.g. compilers) (*) as reported by 'uname -p', except on Windows and Mac OS X | ||||
|
To the developers/maintainers of the MSstatsTMT package: - Please allow up to 24 hours (and sometimes 48 hours) for your latest push to git@git.bioconductor.org:packages/MSstatsTMT.git to reflect on this report. See How and When does the builder pull? When will my changes propagate? for more information. - Make sure to use the following settings in order to reproduce any error or warning you see on this page. |
| Package 1292/2183 | Hostname | OS / Arch | INSTALL | BUILD | CHECK | BUILD BIN | ||||||||
| MSstatsTMT 2.6.1 (landing page) Ting Huang
| nebbiolo2 | Linux (Ubuntu 20.04.5 LTS) / x86_64 | OK | OK | OK | |||||||||
| palomino4 | Windows Server 2022 Datacenter / x64 | OK | OK | OK | OK | |||||||||
| lconway | macOS 12.5.1 Monterey / x86_64 | OK | OK | OK | OK | |||||||||
| Package: MSstatsTMT |
| Version: 2.6.1 |
| Command: /Library/Frameworks/R.framework/Resources/bin/R CMD check --install=check:MSstatsTMT.install-out.txt --library=/Library/Frameworks/R.framework/Resources/library --no-vignettes --timings MSstatsTMT_2.6.1.tar.gz |
| StartedAt: 2023-04-10 21:25:51 -0400 (Mon, 10 Apr 2023) |
| EndedAt: 2023-04-10 21:28:00 -0400 (Mon, 10 Apr 2023) |
| EllapsedTime: 129.4 seconds |
| RetCode: 0 |
| Status: OK |
| CheckDir: MSstatsTMT.Rcheck |
| Warnings: 0 |
##############################################################################
##############################################################################
###
### Running command:
###
### /Library/Frameworks/R.framework/Resources/bin/R CMD check --install=check:MSstatsTMT.install-out.txt --library=/Library/Frameworks/R.framework/Resources/library --no-vignettes --timings MSstatsTMT_2.6.1.tar.gz
###
##############################################################################
##############################################################################
* using log directory ‘/Users/biocbuild/bbs-3.16-bioc/meat/MSstatsTMT.Rcheck’
* using R version 4.2.3 (2023-03-15)
* using platform: x86_64-apple-darwin17.0 (64-bit)
* using session charset: UTF-8
* using option ‘--no-vignettes’
* checking for file ‘MSstatsTMT/DESCRIPTION’ ... OK
* this is package ‘MSstatsTMT’ version ‘2.6.1’
* package encoding: UTF-8
* checking package namespace information ... OK
* checking package dependencies ... OK
* checking if this is a source package ... OK
* checking if there is a namespace ... OK
* checking for hidden files and directories ... OK
* checking for portable file names ... OK
* checking for sufficient/correct file permissions ... OK
* checking whether package ‘MSstatsTMT’ can be installed ... OK
* checking installed package size ... OK
* checking package directory ... OK
* checking ‘build’ directory ... OK
* checking DESCRIPTION meta-information ... OK
* checking top-level files ... OK
* checking for left-over files ... OK
* checking index information ... OK
* checking package subdirectories ... OK
* checking R files for non-ASCII characters ... OK
* checking R files for syntax errors ... OK
* checking whether the package can be loaded ... OK
* checking whether the package can be loaded with stated dependencies ... OK
* checking whether the package can be unloaded cleanly ... OK
* checking whether the namespace can be loaded with stated dependencies ... OK
* checking whether the namespace can be unloaded cleanly ... OK
* checking dependencies in R code ... OK
* checking S3 generic/method consistency ... OK
* checking replacement functions ... OK
* checking foreign function calls ... OK
* checking R code for possible problems ... NOTE
.checkRepeatedMeasures: no visible global function definition for ‘.’
.checkSingleSubject: no visible global function definition for ‘.’
.checkTechReplicate: no visible global function definition for ‘.’
.getGroupLabel: no visible binding for global variable ‘Condition’
.handleSingleContrastTMT: no visible global function definition for
‘.mygrad’
.plotProfileTMT: no visible global function definition for ‘.’
.plotProfileTMT: no visible binding for global variable ‘censored’
Undefined global functions or variables:
. .mygrad Condition censored
* checking Rd files ... OK
* checking Rd metadata ... OK
* checking Rd cross-references ... OK
* checking for missing documentation entries ... OK
* checking for code/documentation mismatches ... OK
* checking Rd \usage sections ... OK
* checking Rd contents ... OK
* checking for unstated dependencies in examples ... OK
* checking contents of ‘data’ directory ... OK
* checking data for non-ASCII characters ... OK
* checking LazyData ... OK
* checking data for ASCII and uncompressed saves ... OK
* checking files in ‘vignettes’ ... OK
* checking examples ... OK
Examples with CPU (user + system) or elapsed time > 5s
user system elapsed
dataProcessPlotsTMT 29.421 0.398 29.908
groupComparisonTMT 5.426 0.122 5.565
* checking for unstated dependencies in ‘tests’ ... OK
* checking tests ...
Running ‘testthat.R’
OK
* checking for unstated dependencies in vignettes ... OK
* checking package vignettes in ‘inst/doc’ ... OK
* checking running R code from vignettes ... SKIPPED
* checking re-building of vignette outputs ... SKIPPED
* checking PDF version of manual ... OK
* DONE
Status: 1 NOTE
See
‘/Users/biocbuild/bbs-3.16-bioc/meat/MSstatsTMT.Rcheck/00check.log’
for details.
MSstatsTMT.Rcheck/00install.out
############################################################################## ############################################################################## ### ### Running command: ### ### /Library/Frameworks/R.framework/Resources/bin/R CMD INSTALL MSstatsTMT ### ############################################################################## ############################################################################## * installing to library ‘/Library/Frameworks/R.framework/Versions/4.2/Resources/library’ * installing *source* package ‘MSstatsTMT’ ... ** using staged installation ** R ** data *** moving datasets to lazyload DB ** inst ** byte-compile and prepare package for lazy loading ** help *** installing help indices ** building package indices ** installing vignettes ** testing if installed package can be loaded from temporary location ** testing if installed package can be loaded from final location ** testing if installed package keeps a record of temporary installation path * DONE (MSstatsTMT)
MSstatsTMT.Rcheck/tests/testthat.Rout
R version 4.2.3 (2023-03-15) -- "Shortstop Beagle"
Copyright (C) 2023 The R Foundation for Statistical Computing
Platform: x86_64-apple-darwin17.0 (64-bit)
R is free software and comes with ABSOLUTELY NO WARRANTY.
You are welcome to redistribute it under certain conditions.
Type 'license()' or 'licence()' for distribution details.
R is a collaborative project with many contributors.
Type 'contributors()' for more information and
'citation()' on how to cite R or R packages in publications.
Type 'demo()' for some demos, 'help()' for on-line help, or
'help.start()' for an HTML browser interface to help.
Type 'q()' to quit R.
> library(testthat)
> library(MSstatsTMT)
>
> test_check("MSstatsTMT")
INFO [2023-04-10 21:27:45] ** Raw data from ProteomeDiscoverer imported successfully.
INFO [2023-04-10 21:27:45] ** Raw data from ProteomeDiscoverer cleaned successfully.
INFO [2023-04-10 21:27:45] ** Using provided annotation.
INFO [2023-04-10 21:27:45] ** Raw data from MaxQuant imported successfully.
INFO [2023-04-10 21:27:45] ** Rows with values of Potentialcontaminant equal to + are removed
INFO [2023-04-10 21:27:45] ** Rows with values of Reverse equal to + are removed
INFO [2023-04-10 21:27:45] ** Rows with values of Potentialcontaminant equal to + are removed
INFO [2023-04-10 21:27:45] ** Rows with values of Reverse equal to + are removed
INFO [2023-04-10 21:27:45] ** + Contaminant, + Reverse, + Potential.contaminant proteins are removed.
INFO [2023-04-10 21:27:45] ** Features with all missing measurements across channels within each run are removed.
INFO [2023-04-10 21:27:45] ** Raw data from MaxQuant cleaned successfully.
INFO [2023-04-10 21:27:45] ** Using provided annotation.
INFO [2023-04-10 21:27:45] ** Run and Channel labels were standardized to remove symbols such as '.' or '%'.
INFO [2023-04-10 21:27:45] ** The following options are used:
- Features will be defined by the columns: PeptideSequence, PrecursorCharge
- Shared peptides will be removed.
- Proteins with single feature will not be removed.
- Features with less than 3 measurements within each run will be removed.
INFO [2023-04-10 21:27:45] ** Features with all missing measurements across channels within each run are removed.
INFO [2023-04-10 21:27:45] ** Shared peptides are removed.
INFO [2023-04-10 21:27:45] ** Features with one or two measurements across channels within each run are removed.
INFO [2023-04-10 21:27:45] ** PSMs have been aggregated to peptide ions.
INFO [2023-04-10 21:27:45] ** Raw data from SpectroMine imported successfully.
INFO [2023-04-10 21:27:45] ** Raw data from SpectroMine cleaned successfully.
INFO [2023-04-10 21:27:45] ** Using provided annotation.
INFO [2023-04-10 21:27:45] ** Run and Channel labels were standardized to remove symbols such as '.' or '%'.
INFO [2023-04-10 21:27:45] Design: 5 mixtures.
INFO [2023-04-10 21:27:45] Design: 3 technical replicated MS runs per mixture.
INFO [2023-04-10 21:27:45] Design: 1 subject per condition (No biological variation).
INFO [2023-04-10 21:27:45] Model fitting for 10 proteins.
|
| | 0%
|
|======= | 10%
|
|============== | 20%
|
|===================== | 30%
|
|============================ | 40%
|
|=================================== | 50%
|
|========================================== | 60%
|
|================================================= | 70%
|
|======================================================== | 80%
|
|=============================================================== | 90%
|
|======================================================================| 100%
INFO [2023-04-10 21:27:46] Testing for 10 proteins:
|
| | 0%
|
|======= | 10%
|
|============== | 20%
|
|===================== | 30%
|
|============================ | 40%
|
|=================================== | 50%
|
|========================================== | 60%
|
|================================================= | 70%
|
|======================================================== | 80%
|
|=============================================================== | 90%
|
|======================================================================| 100%
INFO [2023-04-10 21:27:46] Design: 5 mixtures.
INFO [2023-04-10 21:27:46] Design: 3 technical replicated MS runs per mixture.
INFO [2023-04-10 21:27:46] Design: 1 subject per condition (No biological variation).
INFO [2023-04-10 21:27:46] Model fitting for 10 proteins.
|
| | 0%
|
|======= | 10%
|
|============== | 20%
|
|===================== | 30%
|
|============================ | 40%
|
|=================================== | 50%
|
|========================================== | 60%
|
|================================================= | 70%
|
|======================================================== | 80%
|
|=============================================================== | 90%
|
|======================================================================| 100%
INFO [2023-04-10 21:27:47] ** MSstatsTMT - proteinSummarization function
INFO [2023-04-10 21:27:47] Summarizing for Run : 161117_SILAC_HeLa_UPS1_TMT10_Mixture1_01raw ( 1 of 15 )
|
| | 0%
|
|======= | 10%
|
|============== | 20%
|
|===================== | 30%
|
|============================ | 40%
|
|=================================== | 50%
|
|========================================== | 60%
|
|================================================= | 70%
|
|======================================================== | 80%
|
|=============================================================== | 90%
|
|======================================================================| 100%
INFO [2023-04-10 21:27:48] Summarizing for Run : 161117_SILAC_HeLa_UPS1_TMT10_Mixture1_02raw ( 2 of 15 )
|
| | 0%
|
|======= | 10%
|
|============== | 20%
|
|===================== | 30%
|
|============================ | 40%
|
|=================================== | 50%
|
|========================================== | 60%
|
|================================================= | 70%
|
|======================================================== | 80%
|
|=============================================================== | 90%
|
|======================================================================| 100%
INFO [2023-04-10 21:27:48] Summarizing for Run : 161117_SILAC_HeLa_UPS1_TMT10_Mixture2_01raw ( 3 of 15 )
|
| | 0%
|
|======= | 10%
|
|============== | 20%
|
|===================== | 30%
|
|============================ | 40%
|
|=================================== | 50%
|
|========================================== | 60%
|
|================================================= | 70%
|
|======================================================== | 80%
|
|=============================================================== | 90%
|
|======================================================================| 100%
INFO [2023-04-10 21:27:48] Summarizing for Run : 161117_SILAC_HeLa_UPS1_TMT10_Mixture2_02raw ( 4 of 15 )
|
| | 0%
|
|======= | 10%
|
|============== | 20%
|
|===================== | 30%
|
|============================ | 40%
|
|=================================== | 50%
|
|========================================== | 60%
|
|================================================= | 70%
|
|======================================================== | 80%
|
|=============================================================== | 90%
|
|======================================================================| 100%
INFO [2023-04-10 21:27:49] Summarizing for Run : 161117_SILAC_HeLa_UPS1_TMT10_Mixture2_03raw ( 5 of 15 )
|
| | 0%
|
|======= | 10%
|
|============== | 20%
|
|===================== | 30%
|
|============================ | 40%
|
|=================================== | 50%
|
|========================================== | 60%
|
|================================================= | 70%
|
|======================================================== | 80%
|
|=============================================================== | 90%
|
|======================================================================| 100%
INFO [2023-04-10 21:27:49] Summarizing for Run : 161117_SILAC_HeLa_UPS1_TMT10_Mixture3_01raw ( 6 of 15 )
|
| | 0%
|
|======= | 10%
|
|============== | 20%
|
|===================== | 30%
|
|============================ | 40%
|
|=================================== | 50%
|
|========================================== | 60%
|
|================================================= | 70%
|
|======================================================== | 80%
|
|=============================================================== | 90%
|
|======================================================================| 100%
INFO [2023-04-10 21:27:49] Summarizing for Run : 161117_SILAC_HeLa_UPS1_TMT10_Mixture3_02raw ( 7 of 15 )
|
| | 0%
|
|======= | 10%
|
|============== | 20%
|
|===================== | 30%
|
|============================ | 40%
|
|=================================== | 50%
|
|========================================== | 60%
|
|================================================= | 70%
|
|======================================================== | 80%
|
|=============================================================== | 90%
|
|======================================================================| 100%
INFO [2023-04-10 21:27:49] Summarizing for Run : 161117_SILAC_HeLa_UPS1_TMT10_Mixture4_01raw ( 8 of 15 )
|
| | 0%
|
|======= | 10%
|
|============== | 20%
|
|===================== | 30%
|
|============================ | 40%
|
|=================================== | 50%
|
|========================================== | 60%
|
|================================================= | 70%
|
|======================================================== | 80%
|
|=============================================================== | 90%
|
|======================================================================| 100%
INFO [2023-04-10 21:27:49] Summarizing for Run : 161117_SILAC_HeLa_UPS1_TMT10_Mixture4_02raw ( 9 of 15 )
|
| | 0%
|
|======= | 10%
|
|============== | 20%
|
|===================== | 30%
|
|============================ | 40%
|
|=================================== | 50%
|
|========================================== | 60%
|
|================================================= | 70%
|
|======================================================== | 80%
|
|=============================================================== | 90%
|
|======================================================================| 100%
INFO [2023-04-10 21:27:50] Summarizing for Run : 161117_SILAC_HeLa_UPS1_TMT10_Mixture5_01raw ( 10 of 15 )
|
| | 0%
|
|======= | 10%
|
|============== | 20%
|
|===================== | 30%
|
|============================ | 40%
|
|=================================== | 50%
|
|========================================== | 60%
|
|================================================= | 70%
|
|======================================================== | 80%
|
|=============================================================== | 90%
|
|======================================================================| 100%
INFO [2023-04-10 21:27:50] Summarizing for Run : 161117_SILAC_HeLa_UPS1_TMT10_Mixture5_02raw ( 11 of 15 )
|
| | 0%
|
|======= | 10%
|
|============== | 20%
|
|===================== | 30%
|
|============================ | 40%
|
|=================================== | 50%
|
|========================================== | 60%
|
|================================================= | 70%
|
|======================================================== | 80%
|
|=============================================================== | 90%
|
|======================================================================| 100%
INFO [2023-04-10 21:27:50] Summarizing for Run : 161117_SILAC_HeLa_UPS1_TMT10_Mixture4_03raw ( 12 of 15 )
|
| | 0%
|
|======= | 10%
|
|============== | 20%
|
|===================== | 30%
|
|============================ | 40%
|
|=================================== | 50%
|
|========================================== | 60%
|
|================================================= | 70%
|
|======================================================== | 80%
|
|=============================================================== | 90%
|
|======================================================================| 100%
INFO [2023-04-10 21:27:50] Summarizing for Run : 161117_SILAC_HeLa_UPS1_TMT10_Mixture5_03raw ( 13 of 15 )
|
| | 0%
|
|======= | 10%
|
|============== | 20%
|
|===================== | 30%
|
|============================ | 40%
|
|=================================== | 50%
|
|========================================== | 60%
|
|================================================= | 70%
|
|======================================================== | 80%
|
|=============================================================== | 90%
|
|======================================================================| 100%
INFO [2023-04-10 21:27:50] Summarizing for Run : 161117_SILAC_HeLa_UPS1_TMT10_Mixture1_03raw ( 14 of 15 )
|
| | 0%
|
|======= | 10%
|
|============== | 20%
|
|===================== | 30%
|
|============================ | 40%
|
|=================================== | 50%
|
|========================================== | 60%
|
|================================================= | 70%
|
|======================================================== | 80%
|
|=============================================================== | 90%
|
|======================================================================| 100%
INFO [2023-04-10 21:27:50] Summarizing for Run : 161117_SILAC_HeLa_UPS1_TMT10_Mixture3_03raw ( 15 of 15 )
|
| | 0%
|
|======= | 10%
|
|============== | 20%
|
|===================== | 30%
|
|============================ | 40%
|
|=================================== | 50%
|
|========================================== | 60%
|
|================================================= | 70%
|
|======================================================== | 80%
|
|=============================================================== | 90%
|
|======================================================================| 100%
INFO [2023-04-10 21:27:51] ** Protein-level summarization done by MSstats.
INFO [2023-04-10 21:27:51] ** MSstatsTMT - proteinSummarization function
INFO [2023-04-10 21:27:51] ** MSstatsTMT - proteinSummarization function
INFO [2023-04-10 21:27:51] ** MSstatsTMT - proteinSummarization function
INFO [2023-04-10 21:27:51] ** MSstatsTMT - proteinSummarization function
INFO [2023-04-10 21:27:51] ** MSstatsTMT - proteinSummarization function
INFO [2023-04-10 21:27:51] ** MSstatsTMT - proteinSummarization function
INFO [2023-04-10 21:27:51] ** MSstatsTMT - proteinSummarization function
INFO [2023-04-10 21:27:51] ** MSstatsTMT - proteinSummarization function
INFO [2023-04-10 21:27:51] ** MSstatsTMT - proteinSummarization function
INFO [2023-04-10 21:27:51] ** MSstatsTMT - proteinSummarization function
INFO [2023-04-10 21:27:51] ** MSstatsTMT - proteinSummarization function
INFO [2023-04-10 21:27:51] ** MSstatsTMT - proteinSummarization function
INFO [2023-04-10 21:27:51] ** MSstatsTMT - proteinSummarization function
INFO [2023-04-10 21:27:51] ** MSstatsTMT - proteinSummarization function
INFO [2023-04-10 21:27:51] ** MSstatsTMT - proteinSummarization function
INFO [2023-04-10 21:27:51] Summarizing for Run : 161117_SILAC_HeLa_UPS1_TMT10_Mixture1_01raw ( 1 of 15 )
[ FAIL 0 | WARN 0 | SKIP 0 | PASS 27 ]
>
> proc.time()
user system elapsed
9.313 0.468 9.917
MSstatsTMT.Rcheck/MSstatsTMT-Ex.timings
| name | user | system | elapsed | |
| MaxQtoMSstatsTMTFormat | 0.355 | 0.067 | 0.421 | |
| OpenMStoMSstatsTMTFormat | 0.132 | 0.015 | 0.147 | |
| PDtoMSstatsTMTFormat | 1.356 | 0.053 | 1.410 | |
| SpectroMinetoMSstatsTMTFormat | 0.22 | 0.01 | 0.23 | |
| annotation.mine | 0.001 | 0.000 | 0.001 | |
| annotation.mq | 0.001 | 0.001 | 0.002 | |
| annotation.pd | 0.001 | 0.000 | 0.002 | |
| dataProcessPlotsTMT | 29.421 | 0.398 | 29.908 | |
| evidence | 0.011 | 0.010 | 0.020 | |
| groupComparisonTMT | 5.426 | 0.122 | 5.565 | |
| input.pd | 0.023 | 0.001 | 0.023 | |
| proteinGroups | 0.036 | 0.021 | 0.057 | |
| proteinSummarization | 3.124 | 0.098 | 4.486 | |
| quant.pd.msstats | 0.028 | 0.003 | 0.032 | |
| raw.mine | 0.004 | 0.002 | 0.005 | |
| raw.om | 0.003 | 0.002 | 0.005 | |
| raw.pd | 0.004 | 0.005 | 0.012 | |
| test.pairwise | 0.001 | 0.000 | 0.002 | |