| Back to Multiple platform build/check report for BioC 3.16: simplified long |
|
This page was generated on 2023-04-12 11:05:11 -0400 (Wed, 12 Apr 2023).
| Hostname | OS | Arch (*) | R version | Installed pkgs |
|---|---|---|---|---|
| nebbiolo2 | Linux (Ubuntu 20.04.5 LTS) | x86_64 | 4.2.3 (2023-03-15) -- "Shortstop Beagle" | 4502 |
| palomino4 | Windows Server 2022 Datacenter | x64 | 4.2.3 (2023-03-15 ucrt) -- "Shortstop Beagle" | 4282 |
| lconway | macOS 12.5.1 Monterey | x86_64 | 4.2.3 (2023-03-15) -- "Shortstop Beagle" | 4310 |
| Click on any hostname to see more info about the system (e.g. compilers) (*) as reported by 'uname -p', except on Windows and Mac OS X | ||||
|
To the developers/maintainers of the MSA2dist package: - Please allow up to 24 hours (and sometimes 48 hours) for your latest push to git@git.bioconductor.org:packages/MSA2dist.git to reflect on this report. See How and When does the builder pull? When will my changes propagate? for more information. - Make sure to use the following settings in order to reproduce any error or warning you see on this page. |
| Package 1265/2183 | Hostname | OS / Arch | INSTALL | BUILD | CHECK | BUILD BIN | ||||||||
| MSA2dist 1.2.0 (landing page) Kristian K Ullrich
| nebbiolo2 | Linux (Ubuntu 20.04.5 LTS) / x86_64 | OK | OK | OK | |||||||||
| palomino4 | Windows Server 2022 Datacenter / x64 | OK | OK | OK | OK | |||||||||
| lconway | macOS 12.5.1 Monterey / x86_64 | OK | OK | OK | OK | |||||||||
| Package: MSA2dist |
| Version: 1.2.0 |
| Command: /home/biocbuild/bbs-3.16-bioc/R/bin/R CMD check --install=check:MSA2dist.install-out.txt --library=/home/biocbuild/bbs-3.16-bioc/R/site-library --timings MSA2dist_1.2.0.tar.gz |
| StartedAt: 2023-04-10 22:09:56 -0400 (Mon, 10 Apr 2023) |
| EndedAt: 2023-04-10 22:13:42 -0400 (Mon, 10 Apr 2023) |
| EllapsedTime: 225.0 seconds |
| RetCode: 0 |
| Status: OK |
| CheckDir: MSA2dist.Rcheck |
| Warnings: 0 |
##############################################################################
##############################################################################
###
### Running command:
###
### /home/biocbuild/bbs-3.16-bioc/R/bin/R CMD check --install=check:MSA2dist.install-out.txt --library=/home/biocbuild/bbs-3.16-bioc/R/site-library --timings MSA2dist_1.2.0.tar.gz
###
##############################################################################
##############################################################################
* using log directory ‘/home/biocbuild/bbs-3.16-bioc/meat/MSA2dist.Rcheck’
* using R version 4.2.3 (2023-03-15)
* using platform: x86_64-pc-linux-gnu (64-bit)
* using session charset: UTF-8
* checking for file ‘MSA2dist/DESCRIPTION’ ... OK
* checking extension type ... Package
* this is package ‘MSA2dist’ version ‘1.2.0’
* package encoding: UTF-8
* checking package namespace information ... OK
* checking package dependencies ... OK
* checking if this is a source package ... OK
* checking if there is a namespace ... OK
* checking for hidden files and directories ... OK
* checking for portable file names ... OK
* checking for sufficient/correct file permissions ... OK
* checking whether package ‘MSA2dist’ can be installed ... OK
* checking installed package size ... NOTE
installed size is 36.8Mb
sub-directories of 1Mb or more:
libs 36.2Mb
* checking package directory ... OK
* checking ‘build’ directory ... OK
* checking DESCRIPTION meta-information ... OK
* checking top-level files ... OK
* checking for left-over files ... OK
* checking index information ... OK
* checking package subdirectories ... OK
* checking R files for non-ASCII characters ... OK
* checking R files for syntax errors ... OK
* checking whether the package can be loaded ... OK
* checking whether the package can be loaded with stated dependencies ... OK
* checking whether the package can be unloaded cleanly ... OK
* checking whether the namespace can be loaded with stated dependencies ... OK
* checking whether the namespace can be unloaded cleanly ... OK
* checking loading without being on the library search path ... OK
* checking dependencies in R code ... OK
* checking S3 generic/method consistency ... OK
* checking replacement functions ... OK
* checking foreign function calls ... OK
* checking R code for possible problems ... OK
* checking Rd files ... OK
* checking Rd metadata ... OK
* checking Rd cross-references ... OK
* checking for missing documentation entries ... OK
* checking for code/documentation mismatches ... OK
* checking Rd \usage sections ... OK
* checking Rd contents ... OK
* checking for unstated dependencies in examples ... OK
* checking contents of ‘data’ directory ... OK
* checking data for non-ASCII characters ... OK
* checking data for ASCII and uncompressed saves ... OK
* checking line endings in C/C++/Fortran sources/headers ... OK
* checking compiled code ... NOTE
Note: information on .o files is not available
* checking files in ‘vignettes’ ... OK
* checking examples ... OK
Examples with CPU (user + system) or elapsed time > 5s
user system elapsed
codonmat2xy 6.154 1.015 10.786
* checking for unstated dependencies in ‘tests’ ... OK
* checking tests ...
Running ‘testthat.R’
OK
* checking for unstated dependencies in vignettes ... OK
* checking package vignettes in ‘inst/doc’ ... OK
* checking running R code from vignettes ...
‘MSA2dist.Rmd’ using ‘UTF-8’... OK
NONE
* checking re-building of vignette outputs ... OK
* checking PDF version of manual ... OK
* DONE
Status: 2 NOTEs
See
‘/home/biocbuild/bbs-3.16-bioc/meat/MSA2dist.Rcheck/00check.log’
for details.
MSA2dist.Rcheck/00install.out
############################################################################## ############################################################################## ### ### Running command: ### ### /home/biocbuild/bbs-3.16-bioc/R/bin/R CMD INSTALL MSA2dist ### ############################################################################## ############################################################################## * installing to library ‘/home/biocbuild/bbs-3.16-bioc/R/site-library’ * installing *source* package ‘MSA2dist’ ... ** using staged installation ** libs g++ -std=gnu++11 -I"/home/biocbuild/bbs-3.16-bioc/R/include" -DNDEBUG -I'/home/biocbuild/bbs-3.16-bioc/R/site-library/Rcpp/include' -I'/home/biocbuild/bbs-3.16-bioc/R/site-library/RcppThread/include' -I/usr/local/include -fpic -g -O2 -Wall -c GY94.cpp -o GY94.o g++ -std=gnu++11 -I"/home/biocbuild/bbs-3.16-bioc/R/include" -DNDEBUG -I'/home/biocbuild/bbs-3.16-bioc/R/site-library/Rcpp/include' -I'/home/biocbuild/bbs-3.16-bioc/R/site-library/RcppThread/include' -I/usr/local/include -fpic -g -O2 -Wall -c KaKs.cpp -o KaKs.o g++ -std=gnu++11 -I"/home/biocbuild/bbs-3.16-bioc/R/include" -DNDEBUG -I'/home/biocbuild/bbs-3.16-bioc/R/site-library/Rcpp/include' -I'/home/biocbuild/bbs-3.16-bioc/R/site-library/RcppThread/include' -I/usr/local/include -fpic -g -O2 -Wall -c LPB93.cpp -o LPB93.o g++ -std=gnu++11 -I"/home/biocbuild/bbs-3.16-bioc/R/include" -DNDEBUG -I'/home/biocbuild/bbs-3.16-bioc/R/site-library/Rcpp/include' -I'/home/biocbuild/bbs-3.16-bioc/R/site-library/RcppThread/include' -I/usr/local/include -fpic -g -O2 -Wall -c LWL85.cpp -o LWL85.o g++ -std=gnu++11 -I"/home/biocbuild/bbs-3.16-bioc/R/include" -DNDEBUG -I'/home/biocbuild/bbs-3.16-bioc/R/site-library/Rcpp/include' -I'/home/biocbuild/bbs-3.16-bioc/R/site-library/RcppThread/include' -I/usr/local/include -fpic -g -O2 -Wall -c MSMA.cpp -o MSMA.o g++ -std=gnu++11 -I"/home/biocbuild/bbs-3.16-bioc/R/include" -DNDEBUG -I'/home/biocbuild/bbs-3.16-bioc/R/site-library/Rcpp/include' -I'/home/biocbuild/bbs-3.16-bioc/R/site-library/RcppThread/include' -I/usr/local/include -fpic -g -O2 -Wall -c MYN.cpp -o MYN.o g++ -std=gnu++11 -I"/home/biocbuild/bbs-3.16-bioc/R/include" -DNDEBUG -I'/home/biocbuild/bbs-3.16-bioc/R/site-library/Rcpp/include' -I'/home/biocbuild/bbs-3.16-bioc/R/site-library/RcppThread/include' -I/usr/local/include -fpic -g -O2 -Wall -c NG86.cpp -o NG86.o g++ -std=gnu++11 -I"/home/biocbuild/bbs-3.16-bioc/R/include" -DNDEBUG -I'/home/biocbuild/bbs-3.16-bioc/R/site-library/Rcpp/include' -I'/home/biocbuild/bbs-3.16-bioc/R/site-library/RcppThread/include' -I/usr/local/include -fpic -g -O2 -Wall -c RcppExports.cpp -o RcppExports.o g++ -std=gnu++11 -I"/home/biocbuild/bbs-3.16-bioc/R/include" -DNDEBUG -I'/home/biocbuild/bbs-3.16-bioc/R/site-library/Rcpp/include' -I'/home/biocbuild/bbs-3.16-bioc/R/site-library/RcppThread/include' -I/usr/local/include -fpic -g -O2 -Wall -c YN00.cpp -o YN00.o g++ -std=gnu++11 -I"/home/biocbuild/bbs-3.16-bioc/R/include" -DNDEBUG -I'/home/biocbuild/bbs-3.16-bioc/R/site-library/Rcpp/include' -I'/home/biocbuild/bbs-3.16-bioc/R/site-library/RcppThread/include' -I/usr/local/include -fpic -g -O2 -Wall -c base.cpp -o base.o g++ -std=gnu++11 -I"/home/biocbuild/bbs-3.16-bioc/R/include" -DNDEBUG -I'/home/biocbuild/bbs-3.16-bioc/R/site-library/Rcpp/include' -I'/home/biocbuild/bbs-3.16-bioc/R/site-library/RcppThread/include' -I/usr/local/include -fpic -g -O2 -Wall -c rcpp_KaKs.cpp -o rcpp_KaKs.o g++ -std=gnu++11 -I"/home/biocbuild/bbs-3.16-bioc/R/include" -DNDEBUG -I'/home/biocbuild/bbs-3.16-bioc/R/site-library/Rcpp/include' -I'/home/biocbuild/bbs-3.16-bioc/R/site-library/RcppThread/include' -I/usr/local/include -fpic -g -O2 -Wall -c rcpp_distSTRING.cpp -o rcpp_distSTRING.o g++ -std=gnu++11 -I"/home/biocbuild/bbs-3.16-bioc/R/include" -DNDEBUG -I'/home/biocbuild/bbs-3.16-bioc/R/site-library/Rcpp/include' -I'/home/biocbuild/bbs-3.16-bioc/R/site-library/RcppThread/include' -I/usr/local/include -fpic -g -O2 -Wall -c rcpp_pairwiseDeletionAA.cpp -o rcpp_pairwiseDeletionAA.o g++ -std=gnu++11 -I"/home/biocbuild/bbs-3.16-bioc/R/include" -DNDEBUG -I'/home/biocbuild/bbs-3.16-bioc/R/site-library/Rcpp/include' -I'/home/biocbuild/bbs-3.16-bioc/R/site-library/RcppThread/include' -I/usr/local/include -fpic -g -O2 -Wall -c rcpp_pairwiseDeletionDNA.cpp -o rcpp_pairwiseDeletionDNA.o g++ -std=gnu++11 -shared -L/home/biocbuild/bbs-3.16-bioc/R/lib -L/usr/local/lib -o MSA2dist.so GY94.o KaKs.o LPB93.o LWL85.o MSMA.o MYN.o NG86.o RcppExports.o YN00.o base.o rcpp_KaKs.o rcpp_distSTRING.o rcpp_pairwiseDeletionAA.o rcpp_pairwiseDeletionDNA.o -L/home/biocbuild/bbs-3.16-bioc/R/lib -lR installing to /home/biocbuild/bbs-3.16-bioc/R/site-library/00LOCK-MSA2dist/00new/MSA2dist/libs ** R ** data ** byte-compile and prepare package for lazy loading ** help *** installing help indices *** copying figures ** building package indices ** installing vignettes ** testing if installed package can be loaded from temporary location ** checking absolute paths in shared objects and dynamic libraries ** testing if installed package can be loaded from final location ** testing if installed package keeps a record of temporary installation path * DONE (MSA2dist)
MSA2dist.Rcheck/tests/testthat.Rout
R version 4.2.3 (2023-03-15) -- "Shortstop Beagle"
Copyright (C) 2023 The R Foundation for Statistical Computing
Platform: x86_64-pc-linux-gnu (64-bit)
R is free software and comes with ABSOLUTELY NO WARRANTY.
You are welcome to redistribute it under certain conditions.
Type 'license()' or 'licence()' for distribution details.
R is a collaborative project with many contributors.
Type 'contributors()' for more information and
'citation()' on how to cite R or R packages in publications.
Type 'demo()' for some demos, 'help()' for on-line help, or
'help.start()' for an HTML browser interface to help.
Type 'q()' to quit R.
> library(testthat)
> library(MSA2dist)
>
> test_check("MSA2dist")
Computing: [========================================] 100% (done)
Computing: [========================================] 100% (done)
Computing: [========================================] 100% (done)
Computing: [========================================] 100% (done)
Computing: [========================================] 100% (done)
Computing: [========================================] 100% (done)
Computing: [========================================] 100% (done)
Computing: [========================================] 100% (done)
Computing: [========================================] 100% (done)
Computing: [========================================] 100% (done)
Computing: [========================================] 100% (done)
Computing: [========================================] 100% (done)
Computing: [========================================] 100% (done)
Computing: [========================================] 100% (done)
Computing: [========================================] 100% (done)
[ FAIL 0 | WARN 0 | SKIP 0 | PASS 107 ]
>
> proc.time()
user system elapsed
62.396 5.514 71.060
MSA2dist.Rcheck/MSA2dist-Ex.timings
| name | user | system | elapsed | |
| AAMatrix-data | 0.003 | 0.000 | 0.003 | |
| GENETIC_CODE_TCAG | 0.004 | 0.000 | 0.004 | |
| aabin2aastring | 0.063 | 0.000 | 0.064 | |
| aastring2aabin | 0.365 | 0.008 | 0.373 | |
| aastring2aln | 0.165 | 0.000 | 0.165 | |
| aastring2dist | 0.950 | 0.168 | 1.119 | |
| addmask2string | 0.263 | 0.016 | 0.280 | |
| addpop2string | 0.573 | 0.184 | 0.757 | |
| addpos2string | 0.087 | 0.012 | 0.099 | |
| addregion2string | 0.218 | 0.004 | 0.223 | |
| aln2aastring | 0.479 | 0.000 | 0.479 | |
| aln2dnastring | 0.018 | 0.000 | 0.018 | |
| cds2aa | 0.464 | 0.048 | 0.512 | |
| cds2codonaln | 0.431 | 0.004 | 0.436 | |
| codon2numberAMBIG | 0.001 | 0.000 | 0.001 | |
| codon2numberTCAG | 0.001 | 0.000 | 0.001 | |
| codonmat2pnps | 0.038 | 0.000 | 0.038 | |
| codonmat2xy | 6.154 | 1.015 | 10.786 | |
| compareCodons | 0.046 | 0.003 | 0.049 | |
| dnabin2dnastring | 0.027 | 0.004 | 0.031 | |
| dnastring2aln | 0.016 | 0.000 | 0.016 | |
| dnastring2codonmat | 0.045 | 0.000 | 0.045 | |
| dnastring2dist | 0.185 | 0.004 | 0.187 | |
| dnastring2dnabin | 0.015 | 0.000 | 0.015 | |
| dnastring2kaks | 0.940 | 0.465 | 2.546 | |
| getmask | 1.470 | 0.303 | 0.256 | |
| getpos | 0.065 | 0.018 | 0.082 | |
| globalDeletion | 0.015 | 0.008 | 0.023 | |
| granthamMatrix | 0.001 | 0.000 | 0.001 | |
| hiv-data | 0.021 | 0.004 | 0.024 | |
| iupac-data | 0.054 | 0.028 | 0.083 | |
| iupacMatrix | 0.001 | 0.000 | 0.001 | |
| makePostalignedSeqs | 0.469 | 0.032 | 0.501 | |
| popinteger | 0.211 | 0.012 | 0.222 | |
| popnames | 0.232 | 0.028 | 0.260 | |
| rcpp_KaKs | 0.047 | 0.000 | 0.047 | |
| rcpp_distSTRING | 0.029 | 0.004 | 0.033 | |
| rcpp_pairwiseDeletionAA | 0.163 | 0.003 | 0.165 | |
| rcpp_pairwiseDeletionDNA | 0.020 | 0.001 | 0.021 | |
| region | 0.199 | 0.016 | 0.214 | |
| regionused | 0.191 | 0.000 | 0.191 | |
| string2region | 0.486 | 0.015 | 0.501 | |
| subString | 0.019 | 0.000 | 0.019 | |
| uptriidx | 0.000 | 0.000 | 0.001 | |