| Back to Multiple platform build/check report for BioC 3.16: simplified long |
|
This page was generated on 2023-04-12 11:05:39 -0400 (Wed, 12 Apr 2023).
| Hostname | OS | Arch (*) | R version | Installed pkgs |
|---|---|---|---|---|
| nebbiolo2 | Linux (Ubuntu 20.04.5 LTS) | x86_64 | 4.2.3 (2023-03-15) -- "Shortstop Beagle" | 4502 |
| palomino4 | Windows Server 2022 Datacenter | x64 | 4.2.3 (2023-03-15 ucrt) -- "Shortstop Beagle" | 4282 |
| lconway | macOS 12.5.1 Monterey | x86_64 | 4.2.3 (2023-03-15) -- "Shortstop Beagle" | 4310 |
| Click on any hostname to see more info about the system (e.g. compilers) (*) as reported by 'uname -p', except on Windows and Mac OS X | ||||
|
To the developers/maintainers of the MANOR package: - Please allow up to 24 hours (and sometimes 48 hours) for your latest push to git@git.bioconductor.org:packages/MANOR.git to reflect on this report. See How and When does the builder pull? When will my changes propagate? for more information. - Make sure to use the following settings in order to reproduce any error or warning you see on this page. |
| Package 1088/2183 | Hostname | OS / Arch | INSTALL | BUILD | CHECK | BUILD BIN | ||||||||
| MANOR 1.70.0 (landing page) Pierre Neuvial
| nebbiolo2 | Linux (Ubuntu 20.04.5 LTS) / x86_64 | OK | OK | WARNINGS | |||||||||
| palomino4 | Windows Server 2022 Datacenter / x64 | OK | OK | WARNINGS | OK | |||||||||
| lconway | macOS 12.5.1 Monterey / x86_64 | OK | OK | OK | OK | |||||||||
| Package: MANOR |
| Version: 1.70.0 |
| Command: rm -rf MANOR.buildbin-libdir && mkdir MANOR.buildbin-libdir && F:\biocbuild\bbs-3.16-bioc\R\bin\R.exe CMD INSTALL --build --library=MANOR.buildbin-libdir MANOR_1.70.0.tar.gz |
| StartedAt: 2023-04-11 08:14:52 -0400 (Tue, 11 Apr 2023) |
| EndedAt: 2023-04-11 08:15:08 -0400 (Tue, 11 Apr 2023) |
| EllapsedTime: 16.2 seconds |
| RetCode: 0 |
| Status: OK |
| PackageFile: MANOR_1.70.0.zip |
| PackageFileSize: 912.6 KiB |
##############################################################################
##############################################################################
###
### Running command:
###
### rm -rf MANOR.buildbin-libdir && mkdir MANOR.buildbin-libdir && F:\biocbuild\bbs-3.16-bioc\R\bin\R.exe CMD INSTALL --build --library=MANOR.buildbin-libdir MANOR_1.70.0.tar.gz
###
##############################################################################
##############################################################################
* installing *source* package 'MANOR' ...
** using staged installation
** libs
gcc -I"F:/biocbuild/bbs-3.16-bioc/R/include" -DNDEBUG -I"C:/rtools42/x86_64-w64-mingw32.static.posix/include" -O2 -Wall -std=gnu99 -mfpmath=sse -msse2 -mstackrealign -c Rnem_arg.c -o Rnem_arg.o
gcc -I"F:/biocbuild/bbs-3.16-bioc/R/include" -DNDEBUG -I"C:/rtools42/x86_64-w64-mingw32.static.posix/include" -O2 -Wall -std=gnu99 -mfpmath=sse -msse2 -mstackrealign -c Rnem_exe.c -o Rnem_exe.o
gcc -I"F:/biocbuild/bbs-3.16-bioc/R/include" -DNDEBUG -I"C:/rtools42/x86_64-w64-mingw32.static.posix/include" -O2 -Wall -std=gnu99 -mfpmath=sse -msse2 -mstackrealign -c exememo.c -o exememo.o
exememo.c: In function 'GenAlloc':
exememo.c:40:53: warning: format '%ld' expects argument of type 'long int', but argument 5 has type 'size_t' {aka 'long long unsigned int'} [-Wformat=]
40 | sprintf(msg, "Fatal: in %s, no memory for %s (%ld elements size %ld)\n",
| ~~^
| |
| long int
| %lld
41 | where, what, nelem, elsize);
| ~~~~~
| |
| size_t {aka long long unsigned int}
exememo.c:40:71: warning: format '%ld' expects argument of type 'long int', but argument 6 has type 'size_t' {aka 'long long unsigned int'} [-Wformat=]
40 | sprintf(msg, "Fatal: in %s, no memory for %s (%ld elements size %ld)\n",
| ~~^
| |
| long int
| %lld
41 | where, what, nelem, elsize);
| ~~~~~~
| |
| size_t {aka long long unsigned int}
exememo.c:40:5: warning: 'msg' may be used uninitialized in this function [-Wmaybe-uninitialized]
40 | sprintf(msg, "Fatal: in %s, no memory for %s (%ld elements size %ld)\n",
| ^~~~~~~~~~~~~~~~~~~~~~~~~~~~~~~~~~~~~~~~~~~~~~~~~~~~~~~~~~~~~~~~~~~~~~~~
41 | where, what, nelem, elsize);
| ~~~~~~~~~~~~~~~~~~~~~~~~~~~
gcc -I"F:/biocbuild/bbs-3.16-bioc/R/include" -DNDEBUG -I"C:/rtools42/x86_64-w64-mingw32.static.posix/include" -O2 -Wall -std=gnu99 -mfpmath=sse -msse2 -mstackrealign -c nem_alg.c -o nem_alg.o
In function 'ClassifyByNemHeuBeta',
inlined from 'ClassifyByNem' at nem_alg.c:578:13:
nem_alg.c:801:7: warning: 'strncpy' output may be truncated copying 100 bytes from a string of length 100 [-Wstringop-truncation]
801 | strncpy( namecri, NemParaP->OutBaseName, LEN_FILENAME ) ;
| ^~~~~~~~~~~~~~~~~~~~~~~~~~~~~~~~~~~~~~~~~~~~~~~~~~~~~~~
gcc -I"F:/biocbuild/bbs-3.16-bioc/R/include" -DNDEBUG -I"C:/rtools42/x86_64-w64-mingw32.static.posix/include" -O2 -Wall -std=gnu99 -mfpmath=sse -msse2 -mstackrealign -c nem_hlp.c -o nem_hlp.o
gcc -I"F:/biocbuild/bbs-3.16-bioc/R/include" -DNDEBUG -I"C:/rtools42/x86_64-w64-mingw32.static.posix/include" -O2 -Wall -std=gnu99 -mfpmath=sse -msse2 -mstackrealign -c nem_mod.c -o nem_mod.o
gcc -I"F:/biocbuild/bbs-3.16-bioc/R/include" -DNDEBUG -I"C:/rtools42/x86_64-w64-mingw32.static.posix/include" -O2 -Wall -std=gnu99 -mfpmath=sse -msse2 -mstackrealign -c nem_nei.c -o nem_nei.o
gcc -I"F:/biocbuild/bbs-3.16-bioc/R/include" -DNDEBUG -I"C:/rtools42/x86_64-w64-mingw32.static.posix/include" -O2 -Wall -std=gnu99 -mfpmath=sse -msse2 -mstackrealign -c nem_rnd.c -o nem_rnd.o
gcc -I"F:/biocbuild/bbs-3.16-bioc/R/include" -DNDEBUG -I"C:/rtools42/x86_64-w64-mingw32.static.posix/include" -O2 -Wall -std=gnu99 -mfpmath=sse -msse2 -mstackrealign -c nem_ver.c -o nem_ver.o
gcc -I"F:/biocbuild/bbs-3.16-bioc/R/include" -DNDEBUG -I"C:/rtools42/x86_64-w64-mingw32.static.posix/include" -O2 -Wall -std=gnu99 -mfpmath=sse -msse2 -mstackrealign -c registerDynamicSymbols.c -o registerDynamicSymbols.o
gcc -shared -s -static-libgcc -o MANOR.dll tmp.def Rnem_arg.o Rnem_exe.o exememo.o nem_alg.o nem_hlp.o nem_mod.o nem_nei.o nem_rnd.o nem_ver.o registerDynamicSymbols.o -LC:/rtools42/x86_64-w64-mingw32.static.posix/lib/x64 -LC:/rtools42/x86_64-w64-mingw32.static.posix/lib -LF:/biocbuild/bbs-3.16-bioc/R/bin/x64 -lR
installing to F:/biocbuild/bbs-3.16-bioc/meat/MANOR.buildbin-libdir/00LOCK-MANOR/00new/MANOR/libs/x64
** R
** data
** inst
** byte-compile and prepare package for lazy loading
** help
*** installing help indices
** building package indices
** installing vignettes
** testing if installed package can be loaded from temporary location
** testing if installed package can be loaded from final location
** testing if installed package keeps a record of temporary installation path
* MD5 sums
packaged installation of 'MANOR' as MANOR_1.70.0.zip
* DONE (MANOR)