| Back to Multiple platform build/check report for BioC 3.16: simplified long |
|
This page was generated on 2023-04-12 11:06:13 -0400 (Wed, 12 Apr 2023).
| Hostname | OS | Arch (*) | R version | Installed pkgs |
|---|---|---|---|---|
| nebbiolo2 | Linux (Ubuntu 20.04.5 LTS) | x86_64 | 4.2.3 (2023-03-15) -- "Shortstop Beagle" | 4502 |
| palomino4 | Windows Server 2022 Datacenter | x64 | 4.2.3 (2023-03-15 ucrt) -- "Shortstop Beagle" | 4282 |
| lconway | macOS 12.5.1 Monterey | x86_64 | 4.2.3 (2023-03-15) -- "Shortstop Beagle" | 4310 |
| Click on any hostname to see more info about the system (e.g. compilers) (*) as reported by 'uname -p', except on Windows and Mac OS X | ||||
|
To the developers/maintainers of the LymphoSeq package: - Please allow up to 24 hours (and sometimes 48 hours) for your latest push to git@git.bioconductor.org:packages/LymphoSeq.git to reflect on this report. See How and When does the builder pull? When will my changes propagate? for more information. - Make sure to use the following settings in order to reproduce any error or warning you see on this page. |
| Package 1066/2183 | Hostname | OS / Arch | INSTALL | BUILD | CHECK | BUILD BIN | ||||||||
| LymphoSeq 1.26.0 (landing page) David Coffey
| nebbiolo2 | Linux (Ubuntu 20.04.5 LTS) / x86_64 | OK | OK | OK | |||||||||
| palomino4 | Windows Server 2022 Datacenter / x64 | OK | OK | OK | OK | |||||||||
| lconway | macOS 12.5.1 Monterey / x86_64 | OK | OK | OK | OK | |||||||||
| Package: LymphoSeq |
| Version: 1.26.0 |
| Command: /Library/Frameworks/R.framework/Resources/bin/R CMD check --install=check:LymphoSeq.install-out.txt --library=/Library/Frameworks/R.framework/Resources/library --no-vignettes --timings LymphoSeq_1.26.0.tar.gz |
| StartedAt: 2023-04-10 20:57:07 -0400 (Mon, 10 Apr 2023) |
| EndedAt: 2023-04-10 21:00:12 -0400 (Mon, 10 Apr 2023) |
| EllapsedTime: 185.3 seconds |
| RetCode: 0 |
| Status: OK |
| CheckDir: LymphoSeq.Rcheck |
| Warnings: 0 |
##############################################################################
##############################################################################
###
### Running command:
###
### /Library/Frameworks/R.framework/Resources/bin/R CMD check --install=check:LymphoSeq.install-out.txt --library=/Library/Frameworks/R.framework/Resources/library --no-vignettes --timings LymphoSeq_1.26.0.tar.gz
###
##############################################################################
##############################################################################
* using log directory ‘/Users/biocbuild/bbs-3.16-bioc/meat/LymphoSeq.Rcheck’
* using R version 4.2.3 (2023-03-15)
* using platform: x86_64-apple-darwin17.0 (64-bit)
* using session charset: UTF-8
* using option ‘--no-vignettes’
* checking for file ‘LymphoSeq/DESCRIPTION’ ... OK
* this is package ‘LymphoSeq’ version ‘1.26.0’
* checking package namespace information ... OK
* checking package dependencies ... OK
* checking if this is a source package ... OK
* checking if there is a namespace ... OK
* checking for hidden files and directories ... OK
* checking for portable file names ... OK
* checking for sufficient/correct file permissions ... OK
* checking whether package ‘LymphoSeq’ can be installed ... OK
* checking installed package size ... NOTE
installed size is 5.7Mb
sub-directories of 1Mb or more:
extdata 5.5Mb
* checking package directory ... OK
* checking ‘build’ directory ... OK
* checking DESCRIPTION meta-information ... OK
* checking top-level files ... OK
* checking for left-over files ... OK
* checking index information ... OK
* checking package subdirectories ... OK
* checking R files for non-ASCII characters ... OK
* checking R files for syntax errors ... OK
* checking whether the package can be loaded ... OK
* checking whether the package can be loaded with stated dependencies ... OK
* checking whether the package can be unloaded cleanly ... OK
* checking whether the namespace can be loaded with stated dependencies ... OK
* checking whether the namespace can be unloaded cleanly ... OK
* checking dependencies in R code ... OK
* checking S3 generic/method consistency ... OK
* checking replacement functions ... OK
* checking foreign function calls ... OK
* checking R code for possible problems ... OK
* checking Rd files ... OK
* checking Rd metadata ... OK
* checking Rd cross-references ... OK
* checking for missing documentation entries ... OK
* checking for code/documentation mismatches ... OK
* checking Rd \usage sections ... OK
* checking Rd contents ... OK
* checking for unstated dependencies in examples ... OK
* checking files in ‘vignettes’ ... OK
* checking examples ... OK
Examples with CPU (user + system) or elapsed time > 5s
user system elapsed
cloneTrack 23.583 0.918 24.540
productiveSeq 18.366 0.588 19.001
* checking for unstated dependencies in vignettes ... OK
* checking package vignettes in ‘inst/doc’ ... OK
* checking running R code from vignettes ... SKIPPED
* checking re-building of vignette outputs ... SKIPPED
* checking PDF version of manual ... OK
* DONE
Status: 1 NOTE
See
‘/Users/biocbuild/bbs-3.16-bioc/meat/LymphoSeq.Rcheck/00check.log’
for details.
LymphoSeq.Rcheck/00install.out
############################################################################## ############################################################################## ### ### Running command: ### ### /Library/Frameworks/R.framework/Resources/bin/R CMD INSTALL LymphoSeq ### ############################################################################## ############################################################################## * installing to library ‘/Library/Frameworks/R.framework/Versions/4.2/Resources/library’ * installing *source* package ‘LymphoSeq’ ... ** using staged installation ** R ** inst ** byte-compile and prepare package for lazy loading ** help *** installing help indices ** building package indices ** installing vignettes ** testing if installed package can be loaded from temporary location ** testing if installed package can be loaded from final location ** testing if installed package keeps a record of temporary installation path * DONE (LymphoSeq)
LymphoSeq.Rcheck/LymphoSeq-Ex.timings
| name | user | system | elapsed | |
| alignSeq | 1.064 | 0.018 | 1.101 | |
| bhattacharyyaCoefficient | 0.155 | 0.015 | 0.185 | |
| bhattacharyyaMatrix | 0.151 | 0.010 | 0.161 | |
| chordDiagramVDJ | 0.728 | 0.028 | 0.758 | |
| clonalRelatedness | 0.668 | 0.009 | 0.679 | |
| clonality | 0.056 | 0.006 | 0.062 | |
| cloneTrack | 23.583 | 0.918 | 24.540 | |
| commonSeqs | 0.152 | 0.016 | 0.169 | |
| commonSeqsBar | 0.810 | 0.097 | 0.909 | |
| commonSeqsPlot | 0.353 | 0.037 | 0.391 | |
| commonSeqsVenn | 0.662 | 0.071 | 0.737 | |
| differentialAbundance | 2.791 | 0.098 | 2.906 | |
| exportFasta | 0.222 | 0.017 | 0.243 | |
| geneFreq | 1.350 | 0.030 | 1.385 | |
| lorenzCurve | 2.031 | 0.027 | 2.063 | |
| mergeFiles | 0.078 | 0.004 | 0.081 | |
| pairwisePlot | 0.655 | 0.013 | 0.671 | |
| phyloTree | 4.197 | 0.032 | 4.240 | |
| productive | 0.055 | 0.003 | 0.058 | |
| productiveSeq | 18.366 | 0.588 | 19.001 | |
| readImmunoSeq | 0.048 | 0.004 | 0.051 | |
| removeSeq | 0.059 | 0.005 | 0.063 | |
| searchPublished | 0.151 | 0.008 | 0.160 | |
| searchSeq | 0.392 | 0.008 | 0.400 | |
| seqMatrix | 2.984 | 0.076 | 3.070 | |
| similarityMatrix | 0.136 | 0.004 | 0.140 | |
| similarityScore | 0.124 | 0.003 | 0.127 | |
| topFreq | 1.422 | 0.007 | 1.432 | |
| topSeqs | 1.136 | 0.073 | 1.215 | |
| topSeqsPlot | 0.360 | 0.007 | 0.368 | |
| uniqueSeqs | 0.178 | 0.004 | 0.183 | |