| Back to Multiple platform build/check report for BioC 3.16: simplified long |
|
This page was generated on 2023-04-12 11:05:07 -0400 (Wed, 12 Apr 2023).
| Hostname | OS | Arch (*) | R version | Installed pkgs |
|---|---|---|---|---|
| nebbiolo2 | Linux (Ubuntu 20.04.5 LTS) | x86_64 | 4.2.3 (2023-03-15) -- "Shortstop Beagle" | 4502 |
| palomino4 | Windows Server 2022 Datacenter | x64 | 4.2.3 (2023-03-15 ucrt) -- "Shortstop Beagle" | 4282 |
| lconway | macOS 12.5.1 Monterey | x86_64 | 4.2.3 (2023-03-15) -- "Shortstop Beagle" | 4310 |
| Click on any hostname to see more info about the system (e.g. compilers) (*) as reported by 'uname -p', except on Windows and Mac OS X | ||||
|
To the developers/maintainers of the InteractionSet package: - Please allow up to 24 hours (and sometimes 48 hours) for your latest push to git@git.bioconductor.org:packages/InteractionSet.git to reflect on this report. See How and When does the builder pull? When will my changes propagate? for more information. - Make sure to use the following settings in order to reproduce any error or warning you see on this page. |
| Package 980/2183 | Hostname | OS / Arch | INSTALL | BUILD | CHECK | BUILD BIN | ||||||||
| InteractionSet 1.26.1 (landing page) Aaron Lun
| nebbiolo2 | Linux (Ubuntu 20.04.5 LTS) / x86_64 | OK | OK | WARNINGS | |||||||||
| palomino4 | Windows Server 2022 Datacenter / x64 | OK | OK | WARNINGS | OK | |||||||||
| lconway | macOS 12.5.1 Monterey / x86_64 | OK | OK | WARNINGS | OK | |||||||||
| Package: InteractionSet |
| Version: 1.26.1 |
| Command: /home/biocbuild/bbs-3.16-bioc/R/bin/R CMD INSTALL InteractionSet |
| StartedAt: 2023-04-10 15:14:50 -0400 (Mon, 10 Apr 2023) |
| EndedAt: 2023-04-10 15:15:45 -0400 (Mon, 10 Apr 2023) |
| EllapsedTime: 55.1 seconds |
| RetCode: 0 |
| Status: OK |
##############################################################################
##############################################################################
###
### Running command:
###
### /home/biocbuild/bbs-3.16-bioc/R/bin/R CMD INSTALL InteractionSet
###
##############################################################################
##############################################################################
* installing to library ‘/home/biocbuild/bbs-3.16-bioc/R/site-library’
* installing *source* package ‘InteractionSet’ ...
** using staged installation
** libs
g++ -std=gnu++11 -I"/home/biocbuild/bbs-3.16-bioc/R/include" -DNDEBUG -I'/home/biocbuild/bbs-3.16-bioc/R/site-library/Rcpp/include' -I/usr/local/include -fpic -g -O2 -Wall -c box_bounds.cpp -o box_bounds.o
box_bounds.cpp: In function ‘SEXPREC* get_box_bounds(SEXP, SEXP, SEXP, SEXP, SEXP, SEXP)’:
box_bounds.cpp:10:13: warning: comparison of integer expressions of different signedness: ‘const size_t’ {aka ‘const long unsigned int’} and ‘R_xlen_t’ {aka ‘long int’} [-Wsign-compare]
10 | if (npts!=Adex.size()) {
| ~~~~^~~~~~~~~~~~~
g++ -std=gnu++11 -I"/home/biocbuild/bbs-3.16-bioc/R/include" -DNDEBUG -I'/home/biocbuild/bbs-3.16-bioc/R/site-library/Rcpp/include' -I/usr/local/include -fpic -g -O2 -Wall -c detect_overlaps.cpp -o detect_overlaps.o
g++ -std=gnu++11 -I"/home/biocbuild/bbs-3.16-bioc/R/include" -DNDEBUG -I'/home/biocbuild/bbs-3.16-bioc/R/site-library/Rcpp/include' -I/usr/local/include -fpic -g -O2 -Wall -c init.cpp -o init.o
g++ -std=gnu++11 -I"/home/biocbuild/bbs-3.16-bioc/R/include" -DNDEBUG -I'/home/biocbuild/bbs-3.16-bioc/R/site-library/Rcpp/include' -I/usr/local/include -fpic -g -O2 -Wall -c link_overlaps.cpp -o link_overlaps.o
g++ -std=gnu++11 -I"/home/biocbuild/bbs-3.16-bioc/R/include" -DNDEBUG -I'/home/biocbuild/bbs-3.16-bioc/R/site-library/Rcpp/include' -I/usr/local/include -fpic -g -O2 -Wall -c overlap_utils.cpp -o overlap_utils.o
g++ -std=gnu++11 -shared -L/home/biocbuild/bbs-3.16-bioc/R/lib -L/usr/local/lib -o InteractionSet.so box_bounds.o detect_overlaps.o init.o link_overlaps.o overlap_utils.o -L/home/biocbuild/bbs-3.16-bioc/R/lib -lR
installing to /home/biocbuild/bbs-3.16-bioc/R/site-library/00LOCK-InteractionSet/00new/InteractionSet/libs
** R
** inst
** byte-compile and prepare package for lazy loading
** help
*** installing help indices
** building package indices
** installing vignettes
** testing if installed package can be loaded from temporary location
** checking absolute paths in shared objects and dynamic libraries
** testing if installed package can be loaded from final location
** testing if installed package keeps a record of temporary installation path
* DONE (InteractionSet)