| Back to Multiple platform build/check report for BioC 3.16: simplified long |
|
This page was generated on 2023-04-12 11:05:07 -0400 (Wed, 12 Apr 2023).
| Hostname | OS | Arch (*) | R version | Installed pkgs |
|---|---|---|---|---|
| nebbiolo2 | Linux (Ubuntu 20.04.5 LTS) | x86_64 | 4.2.3 (2023-03-15) -- "Shortstop Beagle" | 4502 |
| palomino4 | Windows Server 2022 Datacenter | x64 | 4.2.3 (2023-03-15 ucrt) -- "Shortstop Beagle" | 4282 |
| lconway | macOS 12.5.1 Monterey | x86_64 | 4.2.3 (2023-03-15) -- "Shortstop Beagle" | 4310 |
| Click on any hostname to see more info about the system (e.g. compilers) (*) as reported by 'uname -p', except on Windows and Mac OS X | ||||
|
To the developers/maintainers of the InPAS package: - Please allow up to 24 hours (and sometimes 48 hours) for your latest push to git@git.bioconductor.org:packages/InPAS.git to reflect on this report. See How and When does the builder pull? When will my changes propagate? for more information. - Make sure to use the following settings in order to reproduce any error or warning you see on this page. |
| Package 974/2183 | Hostname | OS / Arch | INSTALL | BUILD | CHECK | BUILD BIN | ||||||||
| InPAS 2.6.0 (landing page) Jianhong Ou
| nebbiolo2 | Linux (Ubuntu 20.04.5 LTS) / x86_64 | OK | OK | OK | |||||||||
| palomino4 | Windows Server 2022 Datacenter / x64 | OK | OK | OK | OK | |||||||||
| lconway | macOS 12.5.1 Monterey / x86_64 | OK | OK | OK | OK | |||||||||
| Package: InPAS |
| Version: 2.6.0 |
| Command: /home/biocbuild/bbs-3.16-bioc/R/bin/R CMD check --install=check:InPAS.install-out.txt --library=/home/biocbuild/bbs-3.16-bioc/R/site-library --timings InPAS_2.6.0.tar.gz |
| StartedAt: 2023-04-10 21:25:07 -0400 (Mon, 10 Apr 2023) |
| EndedAt: 2023-04-10 21:33:27 -0400 (Mon, 10 Apr 2023) |
| EllapsedTime: 499.4 seconds |
| RetCode: 0 |
| Status: OK |
| CheckDir: InPAS.Rcheck |
| Warnings: 0 |
##############################################################################
##############################################################################
###
### Running command:
###
### /home/biocbuild/bbs-3.16-bioc/R/bin/R CMD check --install=check:InPAS.install-out.txt --library=/home/biocbuild/bbs-3.16-bioc/R/site-library --timings InPAS_2.6.0.tar.gz
###
##############################################################################
##############################################################################
* using log directory ‘/home/biocbuild/bbs-3.16-bioc/meat/InPAS.Rcheck’
* using R version 4.2.3 (2023-03-15)
* using platform: x86_64-pc-linux-gnu (64-bit)
* using session charset: UTF-8
* checking for file ‘InPAS/DESCRIPTION’ ... OK
* this is package ‘InPAS’ version ‘2.6.0’
* package encoding: UTF-8
* checking package namespace information ... OK
* checking package dependencies ... OK
* checking if this is a source package ... OK
* checking if there is a namespace ... OK
* checking for hidden files and directories ... OK
* checking for portable file names ... OK
* checking for sufficient/correct file permissions ... OK
* checking whether package ‘InPAS’ can be installed ... OK
* checking installed package size ... OK
* checking package directory ... OK
* checking ‘build’ directory ... OK
* checking DESCRIPTION meta-information ... OK
* checking top-level files ... OK
* checking for left-over files ... OK
* checking index information ... OK
* checking package subdirectories ... OK
* checking R files for non-ASCII characters ... OK
* checking R files for syntax errors ... OK
* checking whether the package can be loaded ... OK
* checking whether the package can be loaded with stated dependencies ... OK
* checking whether the package can be unloaded cleanly ... OK
* checking whether the namespace can be loaded with stated dependencies ... OK
* checking whether the namespace can be unloaded cleanly ... OK
* checking loading without being on the library search path ... OK
* checking dependencies in R code ... NOTE
There are ::: calls to the package's namespace in its code. A package
almost never needs to use ::: for its own objects:
‘adjust_distalCPs’ ‘adjust_proximalCPs’ ‘adjust_proximalCPsByNBC’
‘adjust_proximalCPsByPWM’ ‘calculate_mse’ ‘find_valleyBySpline’
‘get_PAscore’ ‘get_PAscore2’ ‘remove_convergentUTR3s’
‘search_distalCPs’ ‘search_proximalCPs’
* checking S3 generic/method consistency ... OK
* checking replacement functions ... OK
* checking foreign function calls ... OK
* checking R code for possible problems ... OK
* checking Rd files ... OK
* checking Rd metadata ... OK
* checking Rd cross-references ... OK
* checking for missing documentation entries ... OK
* checking for code/documentation mismatches ... OK
* checking Rd \usage sections ... OK
* checking Rd contents ... OK
* checking for unstated dependencies in examples ... OK
* checking contents of ‘data’ directory ... OK
* checking data for non-ASCII characters ... OK
* checking LazyData ... OK
* checking data for ASCII and uncompressed saves ... OK
* checking files in ‘vignettes’ ... OK
* checking examples ... OK
Examples with CPU (user + system) or elapsed time > 5s
user system elapsed
get_usage4plot 20.962 0.255 21.156
extract_UTR3Anno 17.293 0.352 17.646
get_chromosomes 10.007 0.081 10.055
* checking for unstated dependencies in ‘tests’ ... OK
* checking tests ...
Running ‘runTests.R’
OK
* checking for unstated dependencies in vignettes ... OK
* checking package vignettes in ‘inst/doc’ ... OK
* checking running R code from vignettes ...
‘InPAS.Rmd’ using ‘UTF-8’... OK
NONE
* checking re-building of vignette outputs ... OK
* checking PDF version of manual ... OK
* DONE
Status: 1 NOTE
See
‘/home/biocbuild/bbs-3.16-bioc/meat/InPAS.Rcheck/00check.log’
for details.
InPAS.Rcheck/00install.out
############################################################################## ############################################################################## ### ### Running command: ### ### /home/biocbuild/bbs-3.16-bioc/R/bin/R CMD INSTALL InPAS ### ############################################################################## ############################################################################## * installing to library ‘/home/biocbuild/bbs-3.16-bioc/R/site-library’ * installing *source* package ‘InPAS’ ... ** using staged installation ** R ** data *** moving datasets to lazyload DB ** inst ** byte-compile and prepare package for lazy loading ** help *** installing help indices ** building package indices ** installing vignettes ** testing if installed package can be loaded from temporary location ** testing if installed package can be loaded from final location ** testing if installed package keeps a record of temporary installation path * DONE (InPAS)
InPAS.Rcheck/tests/runTests.Rout
R version 4.2.3 (2023-03-15) -- "Shortstop Beagle"
Copyright (C) 2023 The R Foundation for Statistical Computing
Platform: x86_64-pc-linux-gnu (64-bit)
R is free software and comes with ABSOLUTELY NO WARRANTY.
You are welcome to redistribute it under certain conditions.
Type 'license()' or 'licence()' for distribution details.
R is a collaborative project with many contributors.
Type 'contributors()' for more information and
'citation()' on how to cite R or R packages in publications.
Type 'demo()' for some demos, 'help()' for on-line help, or
'help.start()' for an HTML browser interface to help.
Type 'q()' to quit R.
> pkgs_required <- c(
+ "BSgenome.Mmusculus.UCSC.mm10",
+ "TxDb.Mmusculus.UCSC.mm10.knownGene",
+ "EnsDb.Mmusculus.v79",
+ "rtracklayer",
+ "GenomicRanges",
+ "RUnit",
+ "limma", "future.apply"
+ )
> for (pkg in pkgs_required)
+ {
+ require(pkg, character.only = TRUE) || stop(pkg, " can't be loaded!")
+ }
Loading required package: BSgenome.Mmusculus.UCSC.mm10
Loading required package: BSgenome
Loading required package: BiocGenerics
Attaching package: 'BiocGenerics'
The following objects are masked from 'package:stats':
IQR, mad, sd, var, xtabs
The following objects are masked from 'package:base':
Filter, Find, Map, Position, Reduce, anyDuplicated, aperm, append,
as.data.frame, basename, cbind, colnames, dirname, do.call,
duplicated, eval, evalq, get, grep, grepl, intersect, is.unsorted,
lapply, mapply, match, mget, order, paste, pmax, pmax.int, pmin,
pmin.int, rank, rbind, rownames, sapply, setdiff, sort, table,
tapply, union, unique, unsplit, which.max, which.min
Loading required package: S4Vectors
Loading required package: stats4
Attaching package: 'S4Vectors'
The following objects are masked from 'package:base':
I, expand.grid, unname
Loading required package: IRanges
Loading required package: GenomeInfoDb
Loading required package: GenomicRanges
Loading required package: Biostrings
Loading required package: XVector
Attaching package: 'Biostrings'
The following object is masked from 'package:base':
strsplit
Loading required package: rtracklayer
Loading required package: TxDb.Mmusculus.UCSC.mm10.knownGene
Loading required package: GenomicFeatures
Loading required package: AnnotationDbi
Loading required package: Biobase
Welcome to Bioconductor
Vignettes contain introductory material; view with
'browseVignettes()'. To cite Bioconductor, see
'citation("Biobase")', and for packages 'citation("pkgname")'.
Loading required package: EnsDb.Mmusculus.v79
Loading required package: ensembldb
Loading required package: AnnotationFilter
Attaching package: 'ensembldb'
The following object is masked from 'package:stats':
filter
Loading required package: RUnit
Loading required package: limma
Attaching package: 'limma'
The following object is masked from 'package:BiocGenerics':
plotMA
Loading required package: future.apply
Loading required package: future
Attaching package: 'future'
The following object is masked from 'package:AnnotationFilter':
value
>
> BiocGenerics:::testPackage("InPAS")
InPAS : Version 2.6.0
For more information see our website : https://bioconductor.org/packages/release/bioc/vignettes/InPAS/inst/doc/InPAS.html
If you encounter a bug, please report : https://github.com/jianhong/InPAS/InPAS/issues
coverage per sample per chromosome start at Mon Apr 10 21:31:05 2023.
coverage per sample per chromosome done at Mon Apr 10 21:31:05 2023.
total coverage start at Mon Apr 10 21:31:05 2023.
total coverage done at Mon Apr 10 21:31:05 2023.
backgroud around 3utr done at Mon Apr 10 21:31:05 2023.
utr3 TotalCov done at Mon Apr 10 21:31:05 2023.
chromsome chr1 coverage merged.
Preparation for CPsite search done at Mon Apr 10 21:31:05 2023.
No readable configuration file found
Created registry in '/tmp/RtmpQ7VR4s/006.CPsites.out_chr1' using cluster functions 'Interactive'
Adding 1 jobs ...
Submitting 1 jobs in 1 chunks using cluster functions 'Interactive' ...
coverage per sample per chromosome start at Mon Apr 10 21:31:14 2023.
coverage per sample per chromosome done at Mon Apr 10 21:31:14 2023.
total coverage start at Mon Apr 10 21:31:14 2023.
total coverage done at Mon Apr 10 21:31:14 2023.
backgroud around 3utr done at Mon Apr 10 21:31:14 2023.
utr3 TotalCov done at Mon Apr 10 21:31:14 2023.
chromsome chr1 coverage merged.
Preparation for CPsite search done at Mon Apr 10 21:31:14 2023.
No readable configuration file found
Created registry in '/tmp/RtmpQ7VR4s/006.CPsites.out_chr1' using cluster functions 'Interactive'
Adding 1 jobs ...
Submitting 1 jobs in 1 chunks using cluster functions 'Interactive' ...
Error in get_ssRleCov(bedgraph = filenames[i], tag = tags[i], genome = genome, :
seqlevelsStyle of genome is different from bedgraph file.
RUNIT TEST PROTOCOL -- Mon Apr 10 21:31:16 2023
***********************************************
Number of test functions: 3
Number of errors: 0
Number of failures: 0
1 Test Suite :
InPAS RUnit Tests - 3 test functions, 0 errors, 0 failures
Number of test functions: 3
Number of errors: 0
Number of failures: 0
>
> proc.time()
user system elapsed
32.759 2.970 35.729
InPAS.Rcheck/InPAS-Ex.timings
| name | user | system | elapsed | |
| addInPASTxDb | 0.749 | 0.016 | 0.765 | |
| assemble_allCov | 0.003 | 0.000 | 0.003 | |
| extract_UTR3Anno | 17.293 | 0.352 | 17.646 | |
| filter_testOut | 0.177 | 0.008 | 0.185 | |
| gcComp | 0 | 0 | 0 | |
| gcContents | 0.001 | 0.000 | 0.000 | |
| getInPASTxDb | 0.317 | 0.004 | 0.321 | |
| get_UTR3eSet | 0.01 | 0.00 | 0.01 | |
| get_chromosomes | 10.007 | 0.081 | 10.055 | |
| get_seqLen | 0.178 | 0.000 | 0.179 | |
| get_ssRleCov | 0.002 | 0.000 | 0.001 | |
| get_usage4plot | 20.962 | 0.255 | 21.156 | |
| parse_TxDb | 2.618 | 0.012 | 2.630 | |
| run_coverageQC | 0.000 | 0.003 | 0.003 | |
| run_singleGroupAnalysis | 0.01 | 0.00 | 0.01 | |
| run_singleSampleAnalysis | 0.000 | 0.003 | 0.003 | |
| search_CPs | 0.005 | 0.000 | 0.005 | |
| setup_CPsSearch | 0.003 | 0.000 | 0.003 | |
| setup_GSEA | 0.027 | 0.000 | 0.027 | |
| setup_sqlitedb | 0.001 | 0.000 | 0.001 | |
| test_dPDUI | 0.024 | 0.000 | 0.024 | |