| Back to Multiple platform build/check report for BioC 3.16: simplified long |
|
This page was generated on 2023-04-12 11:06:12 -0400 (Wed, 12 Apr 2023).
| Hostname | OS | Arch (*) | R version | Installed pkgs |
|---|---|---|---|---|
| nebbiolo2 | Linux (Ubuntu 20.04.5 LTS) | x86_64 | 4.2.3 (2023-03-15) -- "Shortstop Beagle" | 4502 |
| palomino4 | Windows Server 2022 Datacenter | x64 | 4.2.3 (2023-03-15 ucrt) -- "Shortstop Beagle" | 4282 |
| lconway | macOS 12.5.1 Monterey | x86_64 | 4.2.3 (2023-03-15) -- "Shortstop Beagle" | 4310 |
| Click on any hostname to see more info about the system (e.g. compilers) (*) as reported by 'uname -p', except on Windows and Mac OS X | ||||
|
To the developers/maintainers of the IWTomics package: - Please allow up to 24 hours (and sometimes 48 hours) for your latest push to git@git.bioconductor.org:packages/IWTomics.git to reflect on this report. See How and When does the builder pull? When will my changes propagate? for more information. - Make sure to use the following settings in order to reproduce any error or warning you see on this page. |
| Package 1017/2183 | Hostname | OS / Arch | INSTALL | BUILD | CHECK | BUILD BIN | ||||||||
| IWTomics 1.22.0 (landing page) Marzia A Cremona
| nebbiolo2 | Linux (Ubuntu 20.04.5 LTS) / x86_64 | OK | OK | OK | |||||||||
| palomino4 | Windows Server 2022 Datacenter / x64 | OK | OK | OK | OK | |||||||||
| lconway | macOS 12.5.1 Monterey / x86_64 | OK | OK | OK | OK | |||||||||
| Package: IWTomics |
| Version: 1.22.0 |
| Command: /Library/Frameworks/R.framework/Resources/bin/R CMD check --install=check:IWTomics.install-out.txt --library=/Library/Frameworks/R.framework/Resources/library --no-vignettes --timings IWTomics_1.22.0.tar.gz |
| StartedAt: 2023-04-10 20:51:35 -0400 (Mon, 10 Apr 2023) |
| EndedAt: 2023-04-10 20:54:49 -0400 (Mon, 10 Apr 2023) |
| EllapsedTime: 194.2 seconds |
| RetCode: 0 |
| Status: OK |
| CheckDir: IWTomics.Rcheck |
| Warnings: 0 |
##############################################################################
##############################################################################
###
### Running command:
###
### /Library/Frameworks/R.framework/Resources/bin/R CMD check --install=check:IWTomics.install-out.txt --library=/Library/Frameworks/R.framework/Resources/library --no-vignettes --timings IWTomics_1.22.0.tar.gz
###
##############################################################################
##############################################################################
* using log directory ‘/Users/biocbuild/bbs-3.16-bioc/meat/IWTomics.Rcheck’
* using R version 4.2.3 (2023-03-15)
* using platform: x86_64-apple-darwin17.0 (64-bit)
* using session charset: UTF-8
* using option ‘--no-vignettes’
* checking for file ‘IWTomics/DESCRIPTION’ ... OK
* checking extension type ... Package
* this is package ‘IWTomics’ version ‘1.22.0’
* checking package namespace information ... OK
* checking package dependencies ... OK
* checking if this is a source package ... OK
* checking if there is a namespace ... OK
* checking for hidden files and directories ... OK
* checking for portable file names ... OK
* checking for sufficient/correct file permissions ... OK
* checking whether package ‘IWTomics’ can be installed ... OK
* checking installed package size ... OK
* checking package directory ... OK
* checking ‘build’ directory ... OK
* checking DESCRIPTION meta-information ... OK
* checking top-level files ... OK
* checking for left-over files ... OK
* checking index information ... OK
* checking package subdirectories ... OK
* checking R files for non-ASCII characters ... OK
* checking R files for syntax errors ... OK
* checking whether the package can be loaded ... OK
* checking whether the package can be loaded with stated dependencies ... OK
* checking whether the package can be unloaded cleanly ... OK
* checking whether the namespace can be loaded with stated dependencies ... OK
* checking whether the namespace can be unloaded cleanly ... OK
* checking dependencies in R code ... OK
* checking S3 generic/method consistency ... NOTE
Found the following apparent S3 methods exported but not registered:
plot.IWTomicsData
See section ‘Registering S3 methods’ in the ‘Writing R Extensions’
manual.
* checking replacement functions ... OK
* checking foreign function calls ... OK
* checking R code for possible problems ... OK
* checking Rd files ... OK
* checking Rd metadata ... OK
* checking Rd cross-references ... OK
* checking for missing documentation entries ... OK
* checking for code/documentation mismatches ... OK
* checking Rd \usage sections ... OK
* checking Rd contents ... OK
* checking for unstated dependencies in examples ... OK
* checking contents of ‘data’ directory ... OK
* checking data for non-ASCII characters ... OK
* checking data for ASCII and uncompressed saves ... OK
* checking sizes of PDF files under ‘inst/doc’ ... OK
* checking files in ‘vignettes’ ... OK
* checking examples ... OK
Examples with CPU (user + system) or elapsed time > 5s
user system elapsed
IWTomicsTest 46.227 1.493 47.885
IWTomics-package 8.637 1.411 10.112
IWTomicsData-class 9.686 0.070 9.783
plotSummary 4.589 1.020 5.661
* checking for unstated dependencies in vignettes ... OK
* checking package vignettes in ‘inst/doc’ ... OK
* checking running R code from vignettes ... SKIPPED
* checking re-building of vignette outputs ... SKIPPED
* checking PDF version of manual ... OK
* DONE
Status: 1 NOTE
See
‘/Users/biocbuild/bbs-3.16-bioc/meat/IWTomics.Rcheck/00check.log’
for details.
IWTomics.Rcheck/00install.out
############################################################################## ############################################################################## ### ### Running command: ### ### /Library/Frameworks/R.framework/Resources/bin/R CMD INSTALL IWTomics ### ############################################################################## ############################################################################## * installing to library ‘/Library/Frameworks/R.framework/Versions/4.2/Resources/library’ * installing *source* package ‘IWTomics’ ... ** using staged installation ** R ** data ** inst ** byte-compile and prepare package for lazy loading Creating a new generic function for ‘smooth’ in package ‘IWTomics’ ** help *** installing help indices ** building package indices ** installing vignettes ** testing if installed package can be loaded from temporary location ** testing if installed package can be loaded from final location ** testing if installed package keeps a record of temporary installation path * DONE (IWTomics)
IWTomics.Rcheck/IWTomics-Ex.timings
| name | user | system | elapsed | |
| ETn_example | 0.156 | 0.009 | 0.165 | |
| IWTomics-package | 8.637 | 1.411 | 10.112 | |
| IWTomicsData-class | 9.686 | 0.070 | 9.783 | |
| IWTomicsTest | 46.227 | 1.493 | 47.885 | |
| features_example | 0.001 | 0.002 | 0.003 | |
| plot-IWTomicsData | 0.373 | 0.019 | 0.403 | |
| plotSummary | 4.589 | 1.020 | 5.661 | |
| plotTest | 3.578 | 0.523 | 4.156 | |
| regionsFeatures_center | 0.010 | 0.002 | 0.012 | |
| regionsFeatures_scale | 0.010 | 0.002 | 0.012 | |
| regions_example | 0.001 | 0.002 | 0.003 | |
| smooth-IWTomicsData | 1.212 | 0.079 | 1.327 | |