| Back to Multiple platform build/check report for BioC 3.16: simplified long |
|
This page was generated on 2023-04-12 11:05:37 -0400 (Wed, 12 Apr 2023).
| Hostname | OS | Arch (*) | R version | Installed pkgs |
|---|---|---|---|---|
| nebbiolo2 | Linux (Ubuntu 20.04.5 LTS) | x86_64 | 4.2.3 (2023-03-15) -- "Shortstop Beagle" | 4502 |
| palomino4 | Windows Server 2022 Datacenter | x64 | 4.2.3 (2023-03-15 ucrt) -- "Shortstop Beagle" | 4282 |
| lconway | macOS 12.5.1 Monterey | x86_64 | 4.2.3 (2023-03-15) -- "Shortstop Beagle" | 4310 |
| Click on any hostname to see more info about the system (e.g. compilers) (*) as reported by 'uname -p', except on Windows and Mac OS X | ||||
|
To the developers/maintainers of the ISAnalytics package: - Please allow up to 24 hours (and sometimes 48 hours) for your latest push to git@git.bioconductor.org:packages/ISAnalytics.git to reflect on this report. See How and When does the builder pull? When will my changes propagate? for more information. - Make sure to use the following settings in order to reproduce any error or warning you see on this page. |
| Package 996/2183 | Hostname | OS / Arch | INSTALL | BUILD | CHECK | BUILD BIN | ||||||||
| ISAnalytics 1.8.3 (landing page) Giulia Pais
| nebbiolo2 | Linux (Ubuntu 20.04.5 LTS) / x86_64 | OK | OK | OK | |||||||||
| palomino4 | Windows Server 2022 Datacenter / x64 | OK | OK | OK | OK | |||||||||
| lconway | macOS 12.5.1 Monterey / x86_64 | OK | OK | OK | OK | |||||||||
| Package: ISAnalytics |
| Version: 1.8.3 |
| Command: F:\biocbuild\bbs-3.16-bioc\R\bin\R.exe CMD check --no-multiarch --install=check:ISAnalytics.install-out.txt --library=F:\biocbuild\bbs-3.16-bioc\R\library --no-vignettes --timings ISAnalytics_1.8.3.tar.gz |
| StartedAt: 2023-04-11 02:36:42 -0400 (Tue, 11 Apr 2023) |
| EndedAt: 2023-04-11 02:45:32 -0400 (Tue, 11 Apr 2023) |
| EllapsedTime: 530.0 seconds |
| RetCode: 0 |
| Status: OK |
| CheckDir: ISAnalytics.Rcheck |
| Warnings: 0 |
##############################################################################
##############################################################################
###
### Running command:
###
### F:\biocbuild\bbs-3.16-bioc\R\bin\R.exe CMD check --no-multiarch --install=check:ISAnalytics.install-out.txt --library=F:\biocbuild\bbs-3.16-bioc\R\library --no-vignettes --timings ISAnalytics_1.8.3.tar.gz
###
##############################################################################
##############################################################################
* using log directory 'F:/biocbuild/bbs-3.16-bioc/meat/ISAnalytics.Rcheck'
* using R version 4.2.3 (2023-03-15 ucrt)
* using platform: x86_64-w64-mingw32 (64-bit)
* using session charset: UTF-8
* using option '--no-vignettes'
* checking for file 'ISAnalytics/DESCRIPTION' ... OK
* this is package 'ISAnalytics' version '1.8.3'
* package encoding: UTF-8
* checking package namespace information ... OK
* checking package dependencies ... OK
* checking if this is a source package ... OK
* checking if there is a namespace ... OK
* checking for hidden files and directories ... OK
* checking for portable file names ... OK
* checking whether package 'ISAnalytics' can be installed ... OK
* checking installed package size ... OK
* checking package directory ... OK
* checking 'build' directory ... OK
* checking DESCRIPTION meta-information ... OK
* checking top-level files ... OK
* checking for left-over files ... OK
* checking index information ... OK
* checking package subdirectories ... OK
* checking R files for non-ASCII characters ... OK
* checking R files for syntax errors ... OK
* checking whether the package can be loaded ... OK
* checking whether the package can be loaded with stated dependencies ... OK
* checking whether the package can be unloaded cleanly ... OK
* checking whether the namespace can be loaded with stated dependencies ... OK
* checking whether the namespace can be unloaded cleanly ... OK
* checking dependencies in R code ... OK
* checking S3 generic/method consistency ... OK
* checking replacement functions ... OK
* checking foreign function calls ... OK
* checking R code for possible problems ... OK
* checking Rd files ... OK
* checking Rd metadata ... OK
* checking Rd cross-references ... OK
* checking for missing documentation entries ... OK
* checking for code/documentation mismatches ... OK
* checking Rd \usage sections ... OK
* checking Rd contents ... OK
* checking for unstated dependencies in examples ... OK
* checking contents of 'data' directory ... OK
* checking data for non-ASCII characters ... OK
* checking data for ASCII and uncompressed saves ... OK
* checking files in 'vignettes' ... OK
* checking examples ... OK
Examples with CPU (user + system) or elapsed time > 5s
user system elapsed
integration_alluvial_plot 2.89 0.06 9.19
import_parallel_Vispa2Matrices 2.29 0.20 17.74
import_Vispa2_stats 1.69 0.28 6.89
top_cis_overtime_heatmap 1.30 0.08 7.09
CIS_grubbs_overtime 1.10 0.09 7.48
sharing_heatmap 1.13 0.00 12.46
sharing_venn 0.83 0.06 37.15
HSC_population_plot 0.86 0.02 6.42
iss_source 0.86 0.02 6.84
remove_collisions 0.66 0.02 5.60
realign_after_collisions 0.60 0.05 5.72
is_sharing 0.60 0.03 7.29
HSC_population_size_estimate 0.48 0.00 6.15
compute_near_integrations 0.46 0.00 10.09
* checking for unstated dependencies in 'tests' ... OK
* checking tests ...
Running 'testthat.R'
OK
* checking for unstated dependencies in vignettes ... OK
* checking package vignettes in 'inst/doc' ... OK
* checking running R code from vignettes ... SKIPPED
* checking re-building of vignette outputs ... SKIPPED
* checking PDF version of manual ... OK
* DONE
Status: OK
ISAnalytics.Rcheck/00install.out
############################################################################## ############################################################################## ### ### Running command: ### ### F:\biocbuild\bbs-3.16-bioc\R\bin\R.exe CMD INSTALL ISAnalytics ### ############################################################################## ############################################################################## * installing to library 'F:/biocbuild/bbs-3.16-bioc/R/library' * installing *source* package 'ISAnalytics' ... ** using staged installation ** R ** data ** inst ** byte-compile and prepare package for lazy loading ** help *** installing help indices *** copying figures ** building package indices ** installing vignettes ** testing if installed package can be loaded from temporary location ** testing if installed package can be loaded from final location ** testing if installed package keeps a record of temporary installation path * DONE (ISAnalytics)
ISAnalytics.Rcheck/tests/testthat.Rout
R version 4.2.3 (2023-03-15 ucrt) -- "Shortstop Beagle"
Copyright (C) 2023 The R Foundation for Statistical Computing
Platform: x86_64-w64-mingw32/x64 (64-bit)
R is free software and comes with ABSOLUTELY NO WARRANTY.
You are welcome to redistribute it under certain conditions.
Type 'license()' or 'licence()' for distribution details.
R is a collaborative project with many contributors.
Type 'contributors()' for more information and
'citation()' on how to cite R or R packages in publications.
Type 'demo()' for some demos, 'help()' for on-line help, or
'help.start()' for an HTML browser interface to help.
Type 'q()' to quit R.
> library(testthat)
> library(ISAnalytics)
>
> test_check("ISAnalytics")
Loading required namespace: plotly
Loading required namespace: rmarkdown
Report correctly saved
i Report saved to: F:/biocbuild/bbs-3.16-bioc/tmpdir/RtmpSeM4KX/file149c4b882cca/2023-04-11_collision_removal_report.html
Report correctly saved
i Report saved to: F:/biocbuild/bbs-3.16-bioc/tmpdir/RtmpSeM4KX/file149c2f02c34/2023-04-11_outlier_test_pool_fragments_report.html
[ FAIL 0 | WARN 0 | SKIP 0 | PASS 833 ]
>
> proc.time()
user system elapsed
90.85 5.93 284.28
ISAnalytics.Rcheck/ISAnalytics-Ex.timings
| name | user | system | elapsed | |
| CIS_grubbs | 0.93 | 0.05 | 0.99 | |
| CIS_grubbs_overtime | 1.10 | 0.09 | 7.48 | |
| CIS_volcano_plot | 1.38 | 0.08 | 1.47 | |
| HSC_population_plot | 0.86 | 0.02 | 6.42 | |
| HSC_population_size_estimate | 0.48 | 0.00 | 6.15 | |
| NGSdataExplorer | 0 | 0 | 0 | |
| aggregate_metadata | 0.17 | 0.00 | 0.18 | |
| aggregate_values_by_key | 0.11 | 0.00 | 0.10 | |
| annotation_issues | 0.05 | 0.00 | 0.05 | |
| as_sparse_matrix | 0.08 | 0.00 | 0.08 | |
| available_outlier_tests | 0 | 0 | 0 | |
| available_tags | 0.01 | 0.00 | 0.02 | |
| blood_lineages_default | 0.04 | 0.00 | 0.03 | |
| circos_genomic_density | 0 | 0 | 0 | |
| clinical_relevant_suspicious_genes | 0.01 | 0.00 | 0.01 | |
| comparison_matrix | 0.03 | 0.00 | 0.03 | |
| compute_abundance | 0.03 | 0.01 | 0.05 | |
| compute_near_integrations | 0.46 | 0.00 | 10.09 | |
| cumulative_count_union | 0 | 0 | 0 | |
| cumulative_is | 0.17 | 0.02 | 0.19 | |
| date_formats | 0 | 0 | 0 | |
| default_af_transform | 0 | 0 | 0 | |
| default_iss_file_prefixes | 0 | 0 | 0 | |
| default_meta_agg | 0.01 | 0.00 | 0.02 | |
| default_rec_agg_lambdas | 0 | 0 | 0 | |
| default_report_path | 0.00 | 0.01 | 0.01 | |
| default_stats | 0.93 | 0.05 | 0.97 | |
| enable_progress_bars | 0.01 | 0.00 | 0.03 | |
| export_ISA_settings | 0.33 | 0.02 | 0.35 | |
| fisher_scatterplot | 1.08 | 0.06 | 1.14 | |
| gene_frequency_fisher | 0.81 | 0.00 | 0.81 | |
| generate_Vispa2_launch_AF | 0.22 | 0.00 | 0.22 | |
| generate_blank_association_file | 0.01 | 0.00 | 0.01 | |
| generate_default_folder_structure | 0.85 | 0.14 | 0.96 | |
| import_ISA_settings | 0.05 | 0.11 | 0.15 | |
| import_Vispa2_stats | 1.69 | 0.28 | 6.89 | |
| import_association_file | 1.05 | 0.25 | 1.17 | |
| import_parallel_Vispa2Matrices | 2.29 | 0.20 | 17.74 | |
| import_single_Vispa2Matrix | 1.49 | 0.35 | 1.62 | |
| inspect_tags | 0.03 | 0.00 | 0.03 | |
| integration_alluvial_plot | 2.89 | 0.06 | 9.19 | |
| is_sharing | 0.60 | 0.03 | 7.29 | |
| iss_source | 0.86 | 0.02 | 6.84 | |
| known_clinical_oncogenes | 0.02 | 0.00 | 0.02 | |
| mandatory_IS_vars | 0.09 | 0.00 | 0.09 | |
| matching_options | 0 | 0 | 0 | |
| outlier_filter | 0.25 | 0.03 | 0.28 | |
| outliers_by_pool_fragments | 0.27 | 0.00 | 0.27 | |
| pcr_id_column | 0.03 | 0.00 | 0.03 | |
| purity_filter | 0.37 | 0.01 | 0.39 | |
| quantification_types | 0 | 0 | 0 | |
| realign_after_collisions | 0.60 | 0.05 | 5.72 | |
| reduced_AF_columns | 0.04 | 0.00 | 0.05 | |
| refGene_table_cols | 0 | 0 | 0 | |
| remove_collisions | 0.66 | 0.02 | 5.60 | |
| reset_mandatory_IS_vars | 0.03 | 0.04 | 0.08 | |
| sample_statistics | 0.28 | 0.03 | 0.33 | |
| separate_quant_matrices | 0.02 | 0.00 | 0.02 | |
| set_mandatory_IS_vars | 0.11 | 0.05 | 0.15 | |
| set_matrix_file_suffixes | 0.34 | 0.02 | 0.36 | |
| sharing_heatmap | 1.13 | 0.00 | 12.46 | |
| sharing_venn | 0.83 | 0.06 | 37.15 | |
| threshold_filter | 0 | 0 | 0 | |
| top_abund_tableGrob | 0.65 | 0.06 | 0.72 | |
| top_cis_overtime_heatmap | 1.30 | 0.08 | 7.09 | |
| top_integrations | 0.03 | 0.00 | 0.04 | |
| top_targeted_genes | 0.78 | 0.00 | 0.78 | |
| transform_columns | 0.03 | 0.00 | 0.03 | |