| Back to Multiple platform build/check report for BioC 3.16: simplified long |
|
This page was generated on 2023-04-12 11:05:37 -0400 (Wed, 12 Apr 2023).
| Hostname | OS | Arch (*) | R version | Installed pkgs |
|---|---|---|---|---|
| nebbiolo2 | Linux (Ubuntu 20.04.5 LTS) | x86_64 | 4.2.3 (2023-03-15) -- "Shortstop Beagle" | 4502 |
| palomino4 | Windows Server 2022 Datacenter | x64 | 4.2.3 (2023-03-15 ucrt) -- "Shortstop Beagle" | 4282 |
| lconway | macOS 12.5.1 Monterey | x86_64 | 4.2.3 (2023-03-15) -- "Shortstop Beagle" | 4310 |
| Click on any hostname to see more info about the system (e.g. compilers) (*) as reported by 'uname -p', except on Windows and Mac OS X | ||||
|
To the developers/maintainers of the INSPEcT package: - Please allow up to 24 hours (and sometimes 48 hours) for your latest push to git@git.bioconductor.org:packages/INSPEcT.git to reflect on this report. See How and When does the builder pull? When will my changes propagate? for more information. - Make sure to use the following settings in order to reproduce any error or warning you see on this page. |
| Package 976/2183 | Hostname | OS / Arch | INSTALL | BUILD | CHECK | BUILD BIN | ||||||||
| INSPEcT 1.28.0 (landing page) Stefano de Pretis
| nebbiolo2 | Linux (Ubuntu 20.04.5 LTS) / x86_64 | OK | OK | OK | |||||||||
| palomino4 | Windows Server 2022 Datacenter / x64 | OK | OK | OK | OK | |||||||||
| lconway | macOS 12.5.1 Monterey / x86_64 | OK | OK | OK | OK | |||||||||
| Package: INSPEcT |
| Version: 1.28.0 |
| Command: F:\biocbuild\bbs-3.16-bioc\R\bin\R.exe CMD check --no-multiarch --install=check:INSPEcT.install-out.txt --library=F:\biocbuild\bbs-3.16-bioc\R\library --no-vignettes --timings INSPEcT_1.28.0.tar.gz |
| StartedAt: 2023-04-11 02:31:44 -0400 (Tue, 11 Apr 2023) |
| EndedAt: 2023-04-11 02:39:02 -0400 (Tue, 11 Apr 2023) |
| EllapsedTime: 438.4 seconds |
| RetCode: 0 |
| Status: OK |
| CheckDir: INSPEcT.Rcheck |
| Warnings: 0 |
##############################################################################
##############################################################################
###
### Running command:
###
### F:\biocbuild\bbs-3.16-bioc\R\bin\R.exe CMD check --no-multiarch --install=check:INSPEcT.install-out.txt --library=F:\biocbuild\bbs-3.16-bioc\R\library --no-vignettes --timings INSPEcT_1.28.0.tar.gz
###
##############################################################################
##############################################################################
* using log directory 'F:/biocbuild/bbs-3.16-bioc/meat/INSPEcT.Rcheck'
* using R version 4.2.3 (2023-03-15 ucrt)
* using platform: x86_64-w64-mingw32 (64-bit)
* using session charset: UTF-8
* using option '--no-vignettes'
* checking for file 'INSPEcT/DESCRIPTION' ... OK
* checking extension type ... Package
* this is package 'INSPEcT' version '1.28.0'
* checking package namespace information ... OK
* checking package dependencies ... OK
* checking if this is a source package ... OK
* checking if there is a namespace ... OK
* checking for hidden files and directories ... OK
* checking for portable file names ... OK
* checking whether package 'INSPEcT' can be installed ... OK
* checking installed package size ... NOTE
installed size is 7.1Mb
sub-directories of 1Mb or more:
R 1.8Mb
data 2.8Mb
* checking package directory ... OK
* checking 'build' directory ... OK
* checking DESCRIPTION meta-information ... OK
* checking top-level files ... OK
* checking for left-over files ... OK
* checking index information ... OK
* checking package subdirectories ... OK
* checking R files for non-ASCII characters ... OK
* checking R files for syntax errors ... OK
* checking whether the package can be loaded ... OK
* checking whether the package can be loaded with stated dependencies ... OK
* checking whether the package can be unloaded cleanly ... OK
* checking whether the namespace can be loaded with stated dependencies ... OK
* checking whether the namespace can be unloaded cleanly ... OK
* checking dependencies in R code ... OK
* checking S3 generic/method consistency ... OK
* checking replacement functions ... OK
* checking foreign function calls ... OK
* checking R code for possible problems ... NOTE
output_pars: no visible global function definition for 'plot.new'
plotSingleRNADynamic: no visible global function definition for 'lines'
Undefined global functions or variables:
lines plot.new
Consider adding
importFrom("graphics", "lines", "plot.new")
to your NAMESPACE file.
* checking Rd files ... OK
* checking Rd metadata ... OK
* checking Rd cross-references ... OK
* checking for missing documentation entries ... OK
* checking for code/documentation mismatches ... OK
* checking Rd \usage sections ... OK
* checking Rd contents ... OK
* checking for unstated dependencies in examples ... OK
* checking contents of 'data' directory ... OK
* checking data for non-ASCII characters ... OK
* checking data for ASCII and uncompressed saves ... OK
* checking files in 'vignettes' ... OK
* checking examples ... OK
Examples with CPU (user + system) or elapsed time > 5s
user system elapsed
makeSimModel 23.05 0.16 23.21
quantifyExpressionsFromTrCounts 16.13 0.25 16.38
newINSPEcT 15.05 0.15 15.20
processingDelay 13.31 0.14 13.45
compareSteadyNoNascent 7.12 0.30 7.43
makeOscillatorySimModel 4.98 0.03 5.01
* checking for unstated dependencies in vignettes ... OK
* checking package vignettes in 'inst/doc' ... OK
* checking running R code from vignettes ... SKIPPED
* checking re-building of vignette outputs ... SKIPPED
* checking PDF version of manual ... OK
* DONE
Status: 2 NOTEs
See
'F:/biocbuild/bbs-3.16-bioc/meat/INSPEcT.Rcheck/00check.log'
for details.
INSPEcT.Rcheck/00install.out
############################################################################## ############################################################################## ### ### Running command: ### ### F:\biocbuild\bbs-3.16-bioc\R\bin\R.exe CMD INSTALL INSPEcT ### ############################################################################## ############################################################################## * installing to library 'F:/biocbuild/bbs-3.16-bioc/R/library' * installing *source* package 'INSPEcT' ... ** using staged installation ** R ** data ** inst ** byte-compile and prepare package for lazy loading ** help *** installing help indices ** building package indices ** installing vignettes ** testing if installed package can be loaded from temporary location ** testing if installed package can be loaded from final location ** testing if installed package keeps a record of temporary installation path * DONE (INSPEcT)
INSPEcT.Rcheck/INSPEcT-Ex.timings
| name | user | system | elapsed | |
| AIC-INSPEcT-method | 0.26 | 0.00 | 0.28 | |
| Extract | 0.32 | 0.00 | 0.31 | |
| INSPEcT_diffsteady-class | 0 | 0 | 0 | |
| calculateRatePvals | 0.97 | 0.00 | 0.97 | |
| chisqmodel | 0.16 | 0.00 | 0.15 | |
| chisqtest | 0.12 | 0.01 | 0.14 | |
| combine | 0.35 | 0.02 | 0.36 | |
| compareSteady | 0 | 0 | 0 | |
| compareSteadyNoNascent | 7.12 | 0.30 | 7.43 | |
| convergence | 0.14 | 0.01 | 0.15 | |
| geneClass | 0.25 | 0.00 | 0.25 | |
| inHeatmap | 0.28 | 0.02 | 0.30 | |
| inspectFromPCR | 0 | 0 | 0 | |
| labeledSF | 0.14 | 0.01 | 0.15 | |
| logLik | 0.14 | 0.00 | 0.15 | |
| makeModelRates | 0.16 | 0.02 | 0.17 | |
| makeOscillatorySimModel | 4.98 | 0.03 | 5.01 | |
| makeSimDataset | 0 | 0 | 0 | |
| makeSimModel | 23.05 | 0.16 | 23.21 | |
| modelRates | 0 | 0 | 0 | |
| modelRatesNF | 0.02 | 0.00 | 0.01 | |
| modelSelection | 0.18 | 0.01 | 0.20 | |
| modelingParams | 0.16 | 0.00 | 0.16 | |
| nGenes | 0.14 | 0.00 | 0.14 | |
| nTpts | 0.17 | 0.02 | 0.19 | |
| newINSPEcT | 15.05 | 0.15 | 15.20 | |
| plotGene | 0.19 | 0.00 | 0.19 | |
| plotMA | 0 | 0 | 0 | |
| processingDelay | 13.31 | 0.14 | 13.45 | |
| quantifyExpressionsFromBAMs | 0 | 0 | 0 | |
| quantifyExpressionsFromTrCounts | 16.13 | 0.25 | 16.38 | |
| ratePvals | 0.14 | 0.00 | 0.14 | |
| ratesFirstGuess | 0.15 | 0.00 | 0.15 | |
| ratesFirstGuessVar | 0.14 | 0.02 | 0.16 | |
| removeModel | 0.25 | 0.00 | 0.25 | |
| rocCurve | 0.00 | 0.00 | 0.02 | |
| rocThresholds | 0 | 0 | 0 | |
| split | 0.24 | 0.00 | 0.23 | |
| tpts | 0.14 | 0.00 | 0.14 | |
| viewConfidenceIntervals | 0.15 | 0.00 | 0.16 | |
| viewModelRates | 0.14 | 0.00 | 0.14 | |