| Back to Multiple platform build/check report for BioC 3.16 |
|
This page was generated on 2023-01-20 11:07:52 -0500 (Fri, 20 Jan 2023).
| Hostname | OS | Arch (*) | R version | Installed pkgs |
|---|---|---|---|---|
| nebbiolo2 | Linux (Ubuntu 20.04.5 LTS) | x86_64 | 4.2.2 (2022-10-31) -- "Innocent and Trusting" | 4509 |
| palomino4 | Windows Server 2022 Datacenter | x64 | 4.2.2 (2022-10-31 ucrt) -- "Innocent and Trusting" | 4287 |
| lconway | macOS 12.5.1 Monterey | x86_64 | 4.2.2 (2022-10-31) -- "Innocent and Trusting" | 4316 |
| Click on any hostname to see more info about the system (e.g. compilers) (*) as reported by 'uname -p', except on Windows and Mac OS X | ||||
|
To the developers/maintainers of the IHW package: - Please allow up to 24 hours (and sometimes 48 hours) for your latest push to git@git.bioconductor.org:packages/IHW.git to reflect on this report. See How and When does the builder pull? When will my changes propagate? for more information. - Make sure to use the following settings in order to reproduce any error or warning you see on this page. |
| Package 958/2183 | Hostname | OS / Arch | INSTALL | BUILD | CHECK | BUILD BIN | ||||||||
| IHW 1.26.0 (landing page) Nikos Ignatiadis
| nebbiolo2 | Linux (Ubuntu 20.04.5 LTS) / x86_64 | OK | OK | OK | |||||||||
| palomino4 | Windows Server 2022 Datacenter / x64 | OK | OK | ERROR | OK | |||||||||
| lconway | macOS 12.5.1 Monterey / x86_64 | OK | OK | OK | OK | |||||||||
| Package: IHW |
| Version: 1.26.0 |
| Command: F:\biocbuild\bbs-3.16-bioc\R\bin\R.exe CMD check --no-multiarch --install=check:IHW.install-out.txt --library=F:\biocbuild\bbs-3.16-bioc\R\library --no-vignettes --timings IHW_1.26.0.tar.gz |
| StartedAt: 2023-01-20 02:19:30 -0500 (Fri, 20 Jan 2023) |
| EndedAt: 2023-01-20 02:22:31 -0500 (Fri, 20 Jan 2023) |
| EllapsedTime: 180.7 seconds |
| RetCode: 1 |
| Status: ERROR |
| CheckDir: IHW.Rcheck |
| Warnings: NA |
##############################################################################
##############################################################################
###
### Running command:
###
### F:\biocbuild\bbs-3.16-bioc\R\bin\R.exe CMD check --no-multiarch --install=check:IHW.install-out.txt --library=F:\biocbuild\bbs-3.16-bioc\R\library --no-vignettes --timings IHW_1.26.0.tar.gz
###
##############################################################################
##############################################################################
* using log directory 'F:/biocbuild/bbs-3.16-bioc/meat/IHW.Rcheck'
* using R version 4.2.2 (2022-10-31 ucrt)
* using platform: x86_64-w64-mingw32 (64-bit)
* using session charset: UTF-8
* using option '--no-vignettes'
* checking for file 'IHW/DESCRIPTION' ... OK
* this is package 'IHW' version '1.26.0'
* checking package namespace information ... OK
* checking package dependencies ... OK
* checking if this is a source package ... OK
* checking if there is a namespace ... OK
* checking for hidden files and directories ... OK
* checking for portable file names ... OK
* checking whether package 'IHW' can be installed ... OK
* checking installed package size ... OK
* checking package directory ... OK
* checking 'build' directory ... OK
* checking DESCRIPTION meta-information ... OK
* checking top-level files ... OK
* checking for left-over files ... OK
* checking index information ... OK
* checking package subdirectories ... OK
* checking R files for non-ASCII characters ... OK
* checking R files for syntax errors ... OK
* checking whether the package can be loaded ... OK
* checking whether the package can be loaded with stated dependencies ... OK
* checking whether the package can be unloaded cleanly ... OK
* checking whether the namespace can be loaded with stated dependencies ... OK
* checking whether the namespace can be unloaded cleanly ... OK
* checking dependencies in R code ... OK
* checking S3 generic/method consistency ... OK
* checking replacement functions ... OK
* checking foreign function calls ... OK
* checking R code for possible problems ... NOTE
filter_pvals_for_optim: no visible global function definition for
'p.adjust'
groups_by_filter: no visible global function definition for 'runif'
ihw.DESeqResults: no visible global function definition for 'mcols'
ihw.DESeqResults: no visible global function definition for 'mcols<-'
ihw.DESeqResults: no visible global function definition for 'metadata'
ihw.DESeqResults: no visible global function definition for
'metadata<-'
ihw.default: no visible global function definition for 'runif'
ihw.default: no visible global function definition for 'p.adjust'
ihw_convex: no visible global function definition for 'gurobi'
ihw_internal: no visible global function definition for 'p.adjust'
ihw_milp: no visible global function definition for 'str'
ihw_milp: no visible global function definition for 'gurobi'
plot_decisionboundary: no visible binding for global variable 'stratum'
plot_decisionboundary: no visible binding for global variable
'covariate'
plot_decisionboundary: no visible binding for global variable 'pvalue'
plot_decisionboundary: no visible binding for global variable 'fold'
thresholds_ihwResult: no visible global function definition for
'na.exclude'
thresholds,ihwResult: no visible global function definition for
'na.exclude'
Undefined global functions or variables:
covariate fold gurobi mcols mcols<- metadata metadata<- na.exclude
p.adjust pvalue runif str stratum
Consider adding
importFrom("stats", "na.exclude", "p.adjust", "runif")
importFrom("utils", "str")
to your NAMESPACE file.
* checking Rd files ... OK
* checking Rd metadata ... OK
* checking Rd cross-references ... OK
* checking for missing documentation entries ... OK
* checking for code/documentation mismatches ... OK
* checking Rd \usage sections ... OK
* checking Rd contents ... OK
* checking for unstated dependencies in examples ... OK
* checking files in 'vignettes' ... OK
* checking examples ... OK
Examples with CPU (user + system) or elapsed time > 5s
user system elapsed
ihw.default 5.73 0.39 6.12
* checking for unstated dependencies in 'tests' ... OK
* checking tests ...
Running 'testthat.R'
ERROR
Running the tests in 'tests/testthat.R' failed.
Complete output:
> library("testthat")
> library("IHW")
>
> test_check("IHW")
* checking for unstated dependencies in vignettes ... OK
* checking package vignettes in 'inst/doc' ... OK
* checking running R code from vignettes ... SKIPPED
* checking re-building of vignette outputs ... SKIPPED
* checking PDF version of manual ... OK
* DONE
Status: 1 ERROR, 1 NOTE
See
'F:/biocbuild/bbs-3.16-bioc/meat/IHW.Rcheck/00check.log'
for details.
IHW.Rcheck/00install.out
############################################################################## ############################################################################## ### ### Running command: ### ### F:\biocbuild\bbs-3.16-bioc\R\bin\R.exe CMD INSTALL IHW ### ############################################################################## ############################################################################## * installing to library 'F:/biocbuild/bbs-3.16-bioc/R/library' * installing *source* package 'IHW' ... ** using staged installation ** R ** inst ** byte-compile and prepare package for lazy loading Creating a generic function for 'nrow' from package 'base' in package 'IHW' ** help *** installing help indices ** building package indices ** installing vignettes ** testing if installed package can be loaded from temporary location ** testing if installed package can be loaded from final location ** testing if installed package keeps a record of temporary installation path * DONE (IHW)
IHW.Rcheck/tests/testthat.Rout.fail
R version 4.2.2 (2022-10-31 ucrt) -- "Innocent and Trusting"
Copyright (C) 2022 The R Foundation for Statistical Computing
Platform: x86_64-w64-mingw32/x64 (64-bit)
R is free software and comes with ABSOLUTELY NO WARRANTY.
You are welcome to redistribute it under certain conditions.
Type 'license()' or 'licence()' for distribution details.
R is a collaborative project with many contributors.
Type 'contributors()' for more information and
'citation()' on how to cite R or R packages in publications.
Type 'demo()' for some demos, 'help()' for on-line help, or
'help.start()' for an HTML browser interface to help.
Type 'q()' to quit R.
> library("testthat")
> library("IHW")
>
> test_check("IHW")
IHW.Rcheck/IHW-Ex.timings
| name | user | system | elapsed | |
| get_bh_threshold | 0 | 0 | 0 | |
| groups_by_filter | 0.01 | 0.00 | 0.01 | |
| ihw.DESeqResults | 0 | 0 | 0 | |
| ihw.default | 5.73 | 0.39 | 6.12 | |
| ihwResult-class | 3.29 | 0.11 | 3.39 | |
| plot-ihwResult-method | 4.50 | 0.19 | 4.69 | |