| Back to Multiple platform build/check report for BioC 3.16: simplified long |
|
This page was generated on 2023-04-12 11:05:36 -0400 (Wed, 12 Apr 2023).
| Hostname | OS | Arch (*) | R version | Installed pkgs |
|---|---|---|---|---|
| nebbiolo2 | Linux (Ubuntu 20.04.5 LTS) | x86_64 | 4.2.3 (2023-03-15) -- "Shortstop Beagle" | 4502 |
| palomino4 | Windows Server 2022 Datacenter | x64 | 4.2.3 (2023-03-15 ucrt) -- "Shortstop Beagle" | 4282 |
| lconway | macOS 12.5.1 Monterey | x86_64 | 4.2.3 (2023-03-15) -- "Shortstop Beagle" | 4310 |
| Click on any hostname to see more info about the system (e.g. compilers) (*) as reported by 'uname -p', except on Windows and Mac OS X | ||||
|
To the developers/maintainers of the HumanTranscriptomeCompendium package: - Please allow up to 24 hours (and sometimes 48 hours) for your latest push to git@git.bioconductor.org:packages/HumanTranscriptomeCompendium.git to reflect on this report. See How and When does the builder pull? When will my changes propagate? for more information. - Make sure to use the following settings in order to reproduce any error or warning you see on this page. |
| Package 931/2183 | Hostname | OS / Arch | INSTALL | BUILD | CHECK | BUILD BIN | ||||||||
| HumanTranscriptomeCompendium 1.14.0 (landing page) VJ Carey
| nebbiolo2 | Linux (Ubuntu 20.04.5 LTS) / x86_64 | OK | OK | OK | |||||||||
| palomino4 | Windows Server 2022 Datacenter / x64 | OK | OK | OK | OK | |||||||||
| lconway | macOS 12.5.1 Monterey / x86_64 | OK | OK | OK | OK | |||||||||
| Package: HumanTranscriptomeCompendium |
| Version: 1.14.0 |
| Command: F:\biocbuild\bbs-3.16-bioc\R\bin\R.exe CMD check --no-multiarch --install=check:HumanTranscriptomeCompendium.install-out.txt --library=F:\biocbuild\bbs-3.16-bioc\R\library --no-vignettes --timings HumanTranscriptomeCompendium_1.14.0.tar.gz |
| StartedAt: 2023-04-11 02:23:56 -0400 (Tue, 11 Apr 2023) |
| EndedAt: 2023-04-11 02:27:06 -0400 (Tue, 11 Apr 2023) |
| EllapsedTime: 190.2 seconds |
| RetCode: 0 |
| Status: OK |
| CheckDir: HumanTranscriptomeCompendium.Rcheck |
| Warnings: 0 |
##############################################################################
##############################################################################
###
### Running command:
###
### F:\biocbuild\bbs-3.16-bioc\R\bin\R.exe CMD check --no-multiarch --install=check:HumanTranscriptomeCompendium.install-out.txt --library=F:\biocbuild\bbs-3.16-bioc\R\library --no-vignettes --timings HumanTranscriptomeCompendium_1.14.0.tar.gz
###
##############################################################################
##############################################################################
* using log directory 'F:/biocbuild/bbs-3.16-bioc/meat/HumanTranscriptomeCompendium.Rcheck'
* using R version 4.2.3 (2023-03-15 ucrt)
* using platform: x86_64-w64-mingw32 (64-bit)
* using session charset: UTF-8
* using option '--no-vignettes'
* checking for file 'HumanTranscriptomeCompendium/DESCRIPTION' ... OK
* this is package 'HumanTranscriptomeCompendium' version '1.14.0'
* package encoding: UTF-8
* checking package namespace information ... OK
* checking package dependencies ... OK
* checking if this is a source package ... OK
* checking if there is a namespace ... OK
* checking for hidden files and directories ... OK
* checking for portable file names ... OK
* checking whether package 'HumanTranscriptomeCompendium' can be installed ... OK
* checking installed package size ... OK
* checking package directory ... OK
* checking 'build' directory ... OK
* checking DESCRIPTION meta-information ... OK
* checking top-level files ... OK
* checking for left-over files ... OK
* checking index information ... OK
* checking package subdirectories ... OK
* checking R files for non-ASCII characters ... OK
* checking R files for syntax errors ... OK
* checking whether the package can be loaded ... OK
* checking whether the package can be loaded with stated dependencies ... OK
* checking whether the package can be unloaded cleanly ... OK
* checking whether the namespace can be loaded with stated dependencies ... OK
* checking whether the namespace can be unloaded cleanly ... OK
* checking dependencies in R code ... OK
* checking S3 generic/method consistency ... OK
* checking replacement functions ... OK
* checking foreign function calls ... OK
* checking R code for possible problems ... OK
* checking Rd files ... OK
* checking Rd metadata ... OK
* checking Rd cross-references ... OK
* checking for missing documentation entries ... OK
* checking for code/documentation mismatches ... OK
* checking Rd \usage sections ... OK
* checking Rd contents ... OK
* checking for unstated dependencies in examples ... OK
* checking contents of 'data' directory ... OK
* checking data for non-ASCII characters ... OK
* checking LazyData ... OK
* checking data for ASCII and uncompressed saves ... OK
* checking files in 'vignettes' ... OK
* checking examples ... OK
Examples with CPU (user + system) or elapsed time > 5s
user system elapsed
htx_query_by_study_accession 5.61 0.27 6.49
htx_query_by_text 4.57 0.22 5.17
* checking for unstated dependencies in 'tests' ... OK
* checking tests ...
Running 'testthat.R'
OK
* checking for unstated dependencies in vignettes ... OK
* checking package vignettes in 'inst/doc' ... OK
* checking running R code from vignettes ... SKIPPED
* checking re-building of vignette outputs ... SKIPPED
* checking PDF version of manual ... OK
* DONE
Status: OK
HumanTranscriptomeCompendium.Rcheck/00install.out
############################################################################## ############################################################################## ### ### Running command: ### ### F:\biocbuild\bbs-3.16-bioc\R\bin\R.exe CMD INSTALL HumanTranscriptomeCompendium ### ############################################################################## ############################################################################## * installing to library 'F:/biocbuild/bbs-3.16-bioc/R/library' * installing *source* package 'HumanTranscriptomeCompendium' ... ** using staged installation ** R ** data *** moving datasets to lazyload DB ** inst ** byte-compile and prepare package for lazy loading ** help *** installing help indices ** building package indices ** installing vignettes ** testing if installed package can be loaded from temporary location ** testing if installed package can be loaded from final location ** testing if installed package keeps a record of temporary installation path * DONE (HumanTranscriptomeCompendium)
HumanTranscriptomeCompendium.Rcheck/tests/testthat.Rout
R version 4.2.3 (2023-03-15 ucrt) -- "Shortstop Beagle"
Copyright (C) 2023 The R Foundation for Statistical Computing
Platform: x86_64-w64-mingw32/x64 (64-bit)
R is free software and comes with ABSOLUTELY NO WARRANTY.
You are welcome to redistribute it under certain conditions.
Type 'license()' or 'licence()' for distribution details.
R is a collaborative project with many contributors.
Type 'contributors()' for more information and
'citation()' on how to cite R or R packages in publications.
Type 'demo()' for some demos, 'help()' for on-line help, or
'help.start()' for an HTML browser interface to help.
Type 'q()' to quit R.
> library(testthat)
> library(HumanTranscriptomeCompendium)
>
> test_check("HumanTranscriptomeCompendium")
[ FAIL 0 | WARN 0 | SKIP 0 | PASS 8 ]
>
> proc.time()
user system elapsed
33.95 1.50 35.87
HumanTranscriptomeCompendium.Rcheck/HumanTranscriptomeCompendium-Ex.timings
| name | user | system | elapsed | |
| HumanTranscriptomeCompendium.colnames | 0.11 | 0.00 | 0.11 | |
| addRD | 0 | 0 | 0 | |
| ca43k | 0 | 0 | 0 | |
| get_ds4841 | 2.80 | 0.18 | 3.06 | |
| htx_app | 0 | 0 | 0 | |
| htx_load | 0 | 0 | 0 | |
| htx_query_by_study_accession | 5.61 | 0.27 | 6.49 | |
| htx_query_by_text | 4.57 | 0.22 | 5.17 | |
| load_bigrnaFiles | 0 | 0 | 0 | |
| load_experTable | 0 | 0 | 0 | |
| load_studTable | 0 | 0 | 0 | |
| path_doc4842 | 0.12 | 0.08 | 0.21 | |
| procExpToGene | 0 | 0 | 0 | |
| tx2gene_gencode27 | 0.33 | 0.00 | 0.34 | |
| uniqueAcc_120518 | 0.05 | 0.00 | 0.05 | |