| Back to Multiple platform build/check report for BioC 3.16: simplified long |
|
This page was generated on 2023-04-12 11:06:10 -0400 (Wed, 12 Apr 2023).
| Hostname | OS | Arch (*) | R version | Installed pkgs |
|---|---|---|---|---|
| nebbiolo2 | Linux (Ubuntu 20.04.5 LTS) | x86_64 | 4.2.3 (2023-03-15) -- "Shortstop Beagle" | 4502 |
| palomino4 | Windows Server 2022 Datacenter | x64 | 4.2.3 (2023-03-15 ucrt) -- "Shortstop Beagle" | 4282 |
| lconway | macOS 12.5.1 Monterey | x86_64 | 4.2.3 (2023-03-15) -- "Shortstop Beagle" | 4310 |
| Click on any hostname to see more info about the system (e.g. compilers) (*) as reported by 'uname -p', except on Windows and Mac OS X | ||||
|
To the developers/maintainers of the HiLDA package: - Please allow up to 24 hours (and sometimes 48 hours) for your latest push to git@git.bioconductor.org:packages/HiLDA.git to reflect on this report. See How and When does the builder pull? When will my changes propagate? for more information. - Make sure to use the following settings in order to reproduce any error or warning you see on this page. |
| Package 914/2183 | Hostname | OS / Arch | INSTALL | BUILD | CHECK | BUILD BIN | ||||||||
| HiLDA 1.12.0 (landing page) Zhi Yang
| nebbiolo2 | Linux (Ubuntu 20.04.5 LTS) / x86_64 | OK | OK | OK | |||||||||
| palomino4 | Windows Server 2022 Datacenter / x64 | OK | OK | OK | OK | |||||||||
| lconway | macOS 12.5.1 Monterey / x86_64 | OK | OK | OK | OK | |||||||||
| Package: HiLDA |
| Version: 1.12.0 |
| Command: /Library/Frameworks/R.framework/Resources/bin/R CMD check --install=check:HiLDA.install-out.txt --library=/Library/Frameworks/R.framework/Resources/library --no-vignettes --timings HiLDA_1.12.0.tar.gz |
| StartedAt: 2023-04-10 20:39:39 -0400 (Mon, 10 Apr 2023) |
| EndedAt: 2023-04-10 20:42:33 -0400 (Mon, 10 Apr 2023) |
| EllapsedTime: 174.4 seconds |
| RetCode: 0 |
| Status: OK |
| CheckDir: HiLDA.Rcheck |
| Warnings: 0 |
##############################################################################
##############################################################################
###
### Running command:
###
### /Library/Frameworks/R.framework/Resources/bin/R CMD check --install=check:HiLDA.install-out.txt --library=/Library/Frameworks/R.framework/Resources/library --no-vignettes --timings HiLDA_1.12.0.tar.gz
###
##############################################################################
##############################################################################
* using log directory ‘/Users/biocbuild/bbs-3.16-bioc/meat/HiLDA.Rcheck’
* using R version 4.2.3 (2023-03-15)
* using platform: x86_64-apple-darwin17.0 (64-bit)
* using session charset: UTF-8
* using option ‘--no-vignettes’
* checking for file ‘HiLDA/DESCRIPTION’ ... OK
* checking extension type ... Package
* this is package ‘HiLDA’ version ‘1.12.0’
* package encoding: UTF-8
* checking package namespace information ... OK
* checking package dependencies ... OK
* checking if this is a source package ... OK
* checking if there is a namespace ... OK
* checking for hidden files and directories ... OK
* checking for portable file names ... OK
* checking for sufficient/correct file permissions ... OK
* checking whether package ‘HiLDA’ can be installed ... OK
* checking installed package size ... OK
* checking package directory ... OK
* checking ‘build’ directory ... OK
* checking DESCRIPTION meta-information ... OK
* checking top-level files ... OK
* checking for left-over files ... OK
* checking index information ... OK
* checking package subdirectories ... OK
* checking R files for non-ASCII characters ... OK
* checking R files for syntax errors ... OK
* checking whether the package can be loaded ... OK
* checking whether the package can be loaded with stated dependencies ... OK
* checking whether the package can be unloaded cleanly ... OK
* checking whether the namespace can be loaded with stated dependencies ... OK
* checking whether the namespace can be unloaded cleanly ... OK
* checking dependencies in R code ... OK
* checking S3 generic/method consistency ... OK
* checking replacement functions ... OK
* checking foreign function calls ... OK
* checking R code for possible problems ... OK
* checking Rd files ... OK
* checking Rd metadata ... OK
* checking Rd cross-references ... OK
* checking for missing documentation entries ... OK
* checking for code/documentation mismatches ... OK
* checking Rd \usage sections ... OK
* checking Rd contents ... OK
* checking for unstated dependencies in examples ... OK
* checking line endings in C/C++/Fortran sources/headers ... OK
* checking compiled code ... NOTE
Note: information on .o files is not available
* checking files in ‘vignettes’ ... OK
* checking examples ... OK
Examples with CPU (user + system) or elapsed time > 5s
user system elapsed
hildaTest 66.092 0.263 66.496
hildaGlobalResult 33.794 0.177 34.071
hildaReadMPFile 13.716 0.598 14.351
* checking for unstated dependencies in ‘tests’ ... OK
* checking tests ...
Running ‘testthat.R’
OK
* checking for unstated dependencies in vignettes ... OK
* checking package vignettes in ‘inst/doc’ ... OK
* checking running R code from vignettes ... SKIPPED
* checking re-building of vignette outputs ... SKIPPED
* checking PDF version of manual ... OK
* DONE
Status: 1 NOTE
See
‘/Users/biocbuild/bbs-3.16-bioc/meat/HiLDA.Rcheck/00check.log’
for details.
HiLDA.Rcheck/00install.out
############################################################################## ############################################################################## ### ### Running command: ### ### /Library/Frameworks/R.framework/Resources/bin/R CMD INSTALL HiLDA ### ############################################################################## ############################################################################## * installing to library ‘/Library/Frameworks/R.framework/Versions/4.2/Resources/library’ * installing *source* package ‘HiLDA’ ... ** using staged installation ** libs clang++ -mmacosx-version-min=10.13 -std=gnu++14 -I"/Library/Frameworks/R.framework/Resources/include" -DNDEBUG -I'/Library/Frameworks/R.framework/Versions/4.2/Resources/library/Rcpp/include' -I/usr/local/include -fPIC -Wall -g -O2 -c EMalgorithm.cpp -o EMalgorithm.o clang++ -mmacosx-version-min=10.13 -std=gnu++14 -I"/Library/Frameworks/R.framework/Resources/include" -DNDEBUG -I'/Library/Frameworks/R.framework/Versions/4.2/Resources/library/Rcpp/include' -I/usr/local/include -fPIC -Wall -g -O2 -c RcppExports.cpp -o RcppExports.o clang++ -mmacosx-version-min=10.13 -std=gnu++14 -I"/Library/Frameworks/R.framework/Resources/include" -DNDEBUG -I'/Library/Frameworks/R.framework/Versions/4.2/Resources/library/Rcpp/include' -I/usr/local/include -fPIC -Wall -g -O2 -c checkBoundary.cpp -o checkBoundary.o clang++ -mmacosx-version-min=10.13 -std=gnu++14 -I"/Library/Frameworks/R.framework/Resources/include" -DNDEBUG -I'/Library/Frameworks/R.framework/Versions/4.2/Resources/library/Rcpp/include' -I/usr/local/include -fPIC -Wall -g -O2 -c convertFromToVector.cpp -o convertFromToVector.o clang++ -mmacosx-version-min=10.13 -std=gnu++14 -dynamiclib -Wl,-headerpad_max_install_names -undefined dynamic_lookup -single_module -multiply_defined suppress -L/Library/Frameworks/R.framework/Resources/lib -L/usr/local/lib -o HiLDA.so EMalgorithm.o RcppExports.o checkBoundary.o convertFromToVector.o -F/Library/Frameworks/R.framework/.. -framework R -Wl,-framework -Wl,CoreFoundation installing to /Library/Frameworks/R.framework/Versions/4.2/Resources/library/00LOCK-HiLDA/00new/HiLDA/libs ** R ** inst ** byte-compile and prepare package for lazy loading ** help *** installing help indices ** building package indices ** installing vignettes ** testing if installed package can be loaded from temporary location ** checking absolute paths in shared objects and dynamic libraries ** testing if installed package can be loaded from final location ** testing if installed package keeps a record of temporary installation path * DONE (HiLDA)
HiLDA.Rcheck/tests/testthat.Rout
R version 4.2.3 (2023-03-15) -- "Shortstop Beagle"
Copyright (C) 2023 The R Foundation for Statistical Computing
Platform: x86_64-apple-darwin17.0 (64-bit)
R is free software and comes with ABSOLUTELY NO WARRANTY.
You are welcome to redistribute it under certain conditions.
Type 'license()' or 'licence()' for distribution details.
R is a collaborative project with many contributors.
Type 'contributors()' for more information and
'citation()' on how to cite R or R packages in publications.
Type 'demo()' for some demos, 'help()' for on-line help, or
'help.start()' for an HTML browser interface to help.
Type 'q()' to quit R.
> library(testthat)
> library(HiLDA)
Loading required package: ggplot2
>
> test_check("HiLDA")
#trial: 1; #iteration: 13; time(s): 0.02; convergence: TRUE; loglikelihood: -8202.3331
#trial: 2; #iteration: 42; time(s): 0.08; convergence: TRUE; loglikelihood: -8202.3184
#trial: 3; #iteration: 13; time(s): 0.02; convergence: TRUE; loglikelihood: -8202.3332
#trial: 4; #iteration: 14; time(s): 0.03; convergence: TRUE; loglikelihood: -8202.3333
#trial: 5; #iteration: 16; time(s): 0.03; convergence: TRUE; loglikelihood: -8202.3184
#trial: 6; #iteration: 29; time(s): 0.04; convergence: TRUE; loglikelihood: -8202.3184
#trial: 7; #iteration: 21; time(s): 0.02; convergence: TRUE; loglikelihood: -8202.3187
#trial: 8; #iteration: 19; time(s): 0.03; convergence: TRUE; loglikelihood: -8202.3188
#trial: 9; #iteration: 16; time(s): 0.03; convergence: TRUE; loglikelihood: -8202.3185
#trial: 10; #iteration: 15; time(s): 0.02; convergence: TRUE; loglikelihood: -8202.3184
[ FAIL 0 | WARN 2 | SKIP 0 | PASS 4 ]
[ FAIL 0 | WARN 2 | SKIP 0 | PASS 4 ]
>
> proc.time()
user system elapsed
1.975 0.203 2.174
HiLDA.Rcheck/HiLDA-Ex.timings
| name | user | system | elapsed | |
| hildaBarplot | 0.918 | 0.016 | 0.939 | |
| hildaDiffPlot | 0.646 | 0.007 | 0.656 | |
| hildaGlobalResult | 33.794 | 0.177 | 34.071 | |
| hildaLocalResult | 0.017 | 0.003 | 0.020 | |
| hildaPlotSignature | 0.374 | 0.005 | 0.380 | |
| hildaReadMPFile | 13.716 | 0.598 | 14.351 | |
| hildaRhat | 0.015 | 0.001 | 0.017 | |
| hildaTest | 66.092 | 0.263 | 66.496 | |
| pmBarplot | 0.767 | 0.032 | 0.800 | |
| pmMultiBarplot | 0.766 | 0.029 | 0.796 | |
| pmPlotSignature | 0.606 | 0.027 | 0.635 | |
| pmgetSignature | 0.241 | 0.015 | 0.257 | |
| visPMS | 0.353 | 0.026 | 0.380 | |