| Back to Multiple platform build/check report for BioC 3.16: simplified long |
|
This page was generated on 2023-04-12 11:05:36 -0400 (Wed, 12 Apr 2023).
| Hostname | OS | Arch (*) | R version | Installed pkgs |
|---|---|---|---|---|
| nebbiolo2 | Linux (Ubuntu 20.04.5 LTS) | x86_64 | 4.2.3 (2023-03-15) -- "Shortstop Beagle" | 4502 |
| palomino4 | Windows Server 2022 Datacenter | x64 | 4.2.3 (2023-03-15 ucrt) -- "Shortstop Beagle" | 4282 |
| lconway | macOS 12.5.1 Monterey | x86_64 | 4.2.3 (2023-03-15) -- "Shortstop Beagle" | 4310 |
| Click on any hostname to see more info about the system (e.g. compilers) (*) as reported by 'uname -p', except on Windows and Mac OS X | ||||
|
To the developers/maintainers of the HiCDCPlus package: - Please allow up to 24 hours (and sometimes 48 hours) for your latest push to git@git.bioconductor.org:packages/HiCDCPlus.git to reflect on this report. See How and When does the builder pull? When will my changes propagate? for more information. - Make sure to use the following settings in order to reproduce any error or warning you see on this page. |
| Package 906/2183 | Hostname | OS / Arch | INSTALL | BUILD | CHECK | BUILD BIN | ||||||||
| HiCDCPlus 1.6.0 (landing page) Merve Sahin
| nebbiolo2 | Linux (Ubuntu 20.04.5 LTS) / x86_64 | OK | OK | OK | |||||||||
| palomino4 | Windows Server 2022 Datacenter / x64 | OK | OK | OK | OK | |||||||||
| lconway | macOS 12.5.1 Monterey / x86_64 | OK | OK | OK | OK | |||||||||
| Package: HiCDCPlus |
| Version: 1.6.0 |
| Command: F:\biocbuild\bbs-3.16-bioc\R\bin\R.exe CMD check --no-multiarch --install=check:HiCDCPlus.install-out.txt --library=F:\biocbuild\bbs-3.16-bioc\R\library --no-vignettes --timings HiCDCPlus_1.6.0.tar.gz |
| StartedAt: 2023-04-11 02:18:53 -0400 (Tue, 11 Apr 2023) |
| EndedAt: 2023-04-11 02:25:22 -0400 (Tue, 11 Apr 2023) |
| EllapsedTime: 388.4 seconds |
| RetCode: 0 |
| Status: OK |
| CheckDir: HiCDCPlus.Rcheck |
| Warnings: 0 |
##############################################################################
##############################################################################
###
### Running command:
###
### F:\biocbuild\bbs-3.16-bioc\R\bin\R.exe CMD check --no-multiarch --install=check:HiCDCPlus.install-out.txt --library=F:\biocbuild\bbs-3.16-bioc\R\library --no-vignettes --timings HiCDCPlus_1.6.0.tar.gz
###
##############################################################################
##############################################################################
* using log directory 'F:/biocbuild/bbs-3.16-bioc/meat/HiCDCPlus.Rcheck'
* using R version 4.2.3 (2023-03-15 ucrt)
* using platform: x86_64-w64-mingw32 (64-bit)
* using session charset: UTF-8
* using option '--no-vignettes'
* checking for file 'HiCDCPlus/DESCRIPTION' ... OK
* checking extension type ... Package
* this is package 'HiCDCPlus' version '1.6.0'
* package encoding: UTF-8
* checking package namespace information ... OK
* checking package dependencies ... OK
* checking if this is a source package ... OK
* checking if there is a namespace ... OK
* checking for hidden files and directories ... OK
* checking for portable file names ... OK
* checking whether package 'HiCDCPlus' can be installed ... OK
* checking installed package size ... OK
* checking package directory ... OK
* checking 'build' directory ... OK
* checking DESCRIPTION meta-information ... OK
* checking top-level files ... OK
* checking for left-over files ... OK
* checking index information ... OK
* checking package subdirectories ... OK
* checking R files for non-ASCII characters ... OK
* checking R files for syntax errors ... OK
* checking whether the package can be loaded ... OK
* checking whether the package can be loaded with stated dependencies ... OK
* checking whether the package can be unloaded cleanly ... OK
* checking whether the namespace can be loaded with stated dependencies ... OK
* checking whether the namespace can be unloaded cleanly ... OK
* checking dependencies in R code ... OK
* checking S3 generic/method consistency ... OK
* checking replacement functions ... OK
* checking foreign function calls ... OK
* checking R code for possible problems ... OK
* checking Rd files ... OK
* checking Rd metadata ... OK
* checking Rd cross-references ... OK
* checking for missing documentation entries ... OK
* checking for code/documentation mismatches ... OK
* checking Rd \usage sections ... OK
* checking Rd contents ... OK
* checking for unstated dependencies in examples ... OK
* checking line endings in C/C++/Fortran sources/headers ... OK
* checking line endings in Makefiles ... OK
* checking compilation flags in Makevars ... OK
* checking for GNU extensions in Makefiles ... OK
* checking for portable use of $(BLAS_LIBS) and $(LAPACK_LIBS) ... OK
* checking use of PKG_*FLAGS in Makefiles ... OK
* checking compiled code ... NOTE
Note: information on .o files for x64 is not available
File 'F:/biocbuild/bbs-3.16-bioc/R/library/HiCDCPlus/libs/x64/HiCDCPlus.dll':
Found 'abort', possibly from 'abort' (C), 'runtime' (Fortran)
Found 'exit', possibly from 'exit' (C), 'stop' (Fortran)
Compiled code should not call entry points which might terminate R nor
write to stdout/stderr instead of to the console, nor use Fortran I/O
nor system RNGs. The detected symbols are linked into the code but
might come from libraries and not actually be called.
See 'Writing portable packages' in the 'Writing R Extensions' manual.
* checking files in 'vignettes' ... OK
* checking examples ... OK
Examples with CPU (user + system) or elapsed time > 5s
user system elapsed
construct_features 13.82 2.17 16.00
construct_features_chr 10.76 2.49 13.25
HTClist2gi_list 7.71 0.54 9.86
hicdcdiff 5.14 0.72 10.24
gi_list_topdom 2.28 0.32 5.28
HiCDCPlus_parallel 0.76 0.09 14.52
construct_features_parallel 0.02 0.00 27.72
* checking for unstated dependencies in 'tests' ... OK
* checking tests ...
Running 'runTests.R'
OK
* checking for unstated dependencies in vignettes ... OK
* checking package vignettes in 'inst/doc' ... OK
* checking running R code from vignettes ... SKIPPED
* checking re-building of vignette outputs ... SKIPPED
* checking PDF version of manual ... OK
* DONE
Status: 1 NOTE
See
'F:/biocbuild/bbs-3.16-bioc/meat/HiCDCPlus.Rcheck/00check.log'
for details.
HiCDCPlus.Rcheck/00install.out
############################################################################## ############################################################################## ### ### Running command: ### ### F:\biocbuild\bbs-3.16-bioc\R\bin\R.exe CMD INSTALL HiCDCPlus ### ############################################################################## ############################################################################## * installing to library 'F:/biocbuild/bbs-3.16-bioc/R/library' * installing *source* package 'HiCDCPlus' ... ** using staged installation ** libs g++ -std=gnu++11 -I"F:/biocbuild/bbs-3.16-bioc/R/include" -DNDEBUG -I'F:/biocbuild/bbs-3.16-bioc/R/library/Rcpp/include' -I"C:/rtools42/x86_64-w64-mingw32.static.posix/include" -O2 -Wall -mfpmath=sse -msse2 -mstackrealign -c RcppExports.cpp -o RcppExports.o g++ -std=gnu++11 -I"F:/biocbuild/bbs-3.16-bioc/R/include" -DNDEBUG -I'F:/biocbuild/bbs-3.16-bioc/R/library/Rcpp/include' -I"C:/rtools42/x86_64-w64-mingw32.static.posix/include" -O2 -Wall -mfpmath=sse -msse2 -mstackrealign -c straw.cpp -o straw.o g++ -shared -s -static-libgcc -o HiCDCPlus.dll tmp.def RcppExports.o straw.o -lz -LC:/rtools42/x86_64-w64-mingw32.static.posix/lib/x64 -LC:/rtools42/x86_64-w64-mingw32.static.posix/lib -LF:/biocbuild/bbs-3.16-bioc/R/bin/x64 -lR installing to F:/biocbuild/bbs-3.16-bioc/R/library/00LOCK-HiCDCPlus/00new/HiCDCPlus/libs/x64 ** R ** inst ** byte-compile and prepare package for lazy loading ** help *** installing help indices *** copying figures ** building package indices ** installing vignettes ** testing if installed package can be loaded from temporary location ** testing if installed package can be loaded from final location ** testing if installed package keeps a record of temporary installation path * DONE (HiCDCPlus)
HiCDCPlus.Rcheck/tests/runTests.Rout
R version 4.2.3 (2023-03-15 ucrt) -- "Shortstop Beagle"
Copyright (C) 2023 The R Foundation for Statistical Computing
Platform: x86_64-w64-mingw32/x64 (64-bit)
R is free software and comes with ABSOLUTELY NO WARRANTY.
You are welcome to redistribute it under certain conditions.
Type 'license()' or 'licence()' for distribution details.
R is a collaborative project with many contributors.
Type 'contributors()' for more information and
'citation()' on how to cite R or R packages in publications.
Type 'demo()' for some demos, 'help()' for on-line help, or
'help.start()' for an HTML browser interface to help.
Type 'q()' to quit R.
> BiocGenerics:::testPackage("HiCDCPlus")
Loading required package: BSgenome
Loading required package: BiocGenerics
Attaching package: 'BiocGenerics'
The following objects are masked from 'package:stats':
IQR, mad, sd, var, xtabs
The following objects are masked from 'package:base':
Filter, Find, Map, Position, Reduce, anyDuplicated, aperm, append,
as.data.frame, basename, cbind, colnames, dirname, do.call,
duplicated, eval, evalq, get, grep, grepl, intersect, is.unsorted,
lapply, mapply, match, mget, order, paste, pmax, pmax.int, pmin,
pmin.int, rank, rbind, rownames, sapply, setdiff, sort, table,
tapply, union, unique, unsplit, which.max, which.min
Loading required package: S4Vectors
Loading required package: stats4
Attaching package: 'S4Vectors'
The following objects are masked from 'package:base':
I, expand.grid, unname
Loading required package: IRanges
Attaching package: 'IRanges'
The following object is masked from 'package:grDevices':
windows
Loading required package: GenomeInfoDb
Loading required package: GenomicRanges
Loading required package: Biostrings
Loading required package: XVector
Attaching package: 'Biostrings'
The following object is masked from 'package:base':
strsplit
Loading required package: rtracklayer
RUNIT TEST PROTOCOL -- Tue Apr 11 02:25:07 2023
***********************************************
Number of test functions: 1
Number of errors: 0
Number of failures: 0
1 Test Suite :
HiCDCPlus RUnit Tests - 1 test function, 0 errors, 0 failures
Number of test functions: 1
Number of errors: 0
Number of failures: 0
>
> proc.time()
user system elapsed
10.48 0.70 11.28
HiCDCPlus.Rcheck/HiCDCPlus-Ex.timings
| name | user | system | elapsed | |
| HTClist2gi_list | 7.71 | 0.54 | 9.86 | |
| HiCDCPlus | 2.48 | 0.07 | 3.70 | |
| HiCDCPlus_chr | 2.12 | 0.10 | 3.23 | |
| HiCDCPlus_parallel | 0.76 | 0.09 | 14.52 | |
| add_1D_features | 0.10 | 0.00 | 0.09 | |
| add_2D_features | 0.39 | 0.03 | 0.42 | |
| add_hic_counts | 0.75 | 0.11 | 1.91 | |
| construct_features | 13.82 | 2.17 | 16.00 | |
| construct_features_chr | 10.76 | 2.49 | 13.25 | |
| construct_features_parallel | 0.02 | 0.00 | 27.72 | |
| expand_1D_features | 0.11 | 0.00 | 0.11 | |
| extract_hic_eigenvectors | 0.25 | 0.11 | 1.38 | |
| generate_binned_gi_list | 0.22 | 0.03 | 0.25 | |
| generate_bintolen_gi_list | 1.64 | 0.23 | 2.62 | |
| generate_df_gi_list | 0.25 | 0.03 | 0.28 | |
| get_chr_sizes | 0.24 | 0.02 | 0.25 | |
| get_chrs | 0.24 | 0.00 | 0.23 | |
| get_enzyme_cutsites | 3.58 | 0.05 | 3.63 | |
| gi_list2HTClist | 0.65 | 0.14 | 1.84 | |
| gi_list_Dthreshold.detect | 0.25 | 0.01 | 0.46 | |
| gi_list_binsize_detect | 0.24 | 0.02 | 0.32 | |
| gi_list_read | 0.43 | 0.01 | 0.55 | |
| gi_list_topdom | 2.28 | 0.32 | 5.28 | |
| gi_list_validate | 0.40 | 0.00 | 0.39 | |
| gi_list_write | 0.39 | 0.02 | 0.40 | |
| hic2icenorm_gi_list | 1.54 | 0.20 | 2.83 | |
| hicdc2hic | 1.16 | 0.33 | 3.47 | |
| hicdcdiff | 5.14 | 0.72 | 10.24 | |