| Back to Multiple platform build/check report for BioC 3.16: simplified long |
|
This page was generated on 2023-04-12 11:05:36 -0400 (Wed, 12 Apr 2023).
| Hostname | OS | Arch (*) | R version | Installed pkgs |
|---|---|---|---|---|
| nebbiolo2 | Linux (Ubuntu 20.04.5 LTS) | x86_64 | 4.2.3 (2023-03-15) -- "Shortstop Beagle" | 4502 |
| palomino4 | Windows Server 2022 Datacenter | x64 | 4.2.3 (2023-03-15 ucrt) -- "Shortstop Beagle" | 4282 |
| lconway | macOS 12.5.1 Monterey | x86_64 | 4.2.3 (2023-03-15) -- "Shortstop Beagle" | 4310 |
| Click on any hostname to see more info about the system (e.g. compilers) (*) as reported by 'uname -p', except on Windows and Mac OS X | ||||
|
To the developers/maintainers of the Harshlight package: - Please allow up to 24 hours (and sometimes 48 hours) for your latest push to git@git.bioconductor.org:packages/Harshlight.git to reflect on this report. See How and When does the builder pull? When will my changes propagate? for more information. - Make sure to use the following settings in order to reproduce any error or warning you see on this page. |
| Package 890/2183 | Hostname | OS / Arch | INSTALL | BUILD | CHECK | BUILD BIN | ||||||||
| Harshlight 1.70.0 (landing page) Maurizio Pellegrino
| nebbiolo2 | Linux (Ubuntu 20.04.5 LTS) / x86_64 | OK | OK | OK | |||||||||
| palomino4 | Windows Server 2022 Datacenter / x64 | OK | OK | OK | OK | |||||||||
| lconway | macOS 12.5.1 Monterey / x86_64 | OK | OK | OK | OK | |||||||||
| Package: Harshlight |
| Version: 1.70.0 |
| Command: rm -rf Harshlight.buildbin-libdir && mkdir Harshlight.buildbin-libdir && F:\biocbuild\bbs-3.16-bioc\R\bin\R.exe CMD INSTALL --build --library=Harshlight.buildbin-libdir Harshlight_1.70.0.tar.gz |
| StartedAt: 2023-04-11 08:07:29 -0400 (Tue, 11 Apr 2023) |
| EndedAt: 2023-04-11 08:07:58 -0400 (Tue, 11 Apr 2023) |
| EllapsedTime: 29.2 seconds |
| RetCode: 0 |
| Status: OK |
| PackageFile: Harshlight_1.70.0.zip |
| PackageFileSize: 219 KiB |
##############################################################################
##############################################################################
###
### Running command:
###
### rm -rf Harshlight.buildbin-libdir && mkdir Harshlight.buildbin-libdir && F:\biocbuild\bbs-3.16-bioc\R\bin\R.exe CMD INSTALL --build --library=Harshlight.buildbin-libdir Harshlight_1.70.0.tar.gz
###
##############################################################################
##############################################################################
* installing *source* package 'Harshlight' ...
** using staged installation
** libs
gcc -I"F:/biocbuild/bbs-3.16-bioc/R/include" -DNDEBUG -I"C:/rtools42/x86_64-w64-mingw32.static.posix/include" -O2 -Wall -std=gnu99 -mfpmath=sse -msse2 -mstackrealign -c Harshlight.c -o Harshlight.o
Harshlight.c: In function 'extended_defects':
Harshlight.c:564:20: warning: variable 'p_num_points' set but not used [-Wunused-but-set-variable]
564 | int num_points, *p_num_points; //number of points inside the median kernel
| ^~~~~~~~~~~~
Harshlight.c: In function 'image_dilation':
Harshlight.c:948:10: warning: variable 'cell_value' set but not used [-Wunused-but-set-variable]
948 | double cell_value;
| ^~~~~~~~~~
Harshlight.c: In function 'norm':
Harshlight.c:1316:27: warning: unused variable 'sorted2' [-Wunused-variable]
1316 | double *sorted; double *sorted2;
| ^~~~~~~
Harshlight.c: In function 'report_overall_header':
Harshlight.c:1471:26: warning: unknown conversion type character ')' in format [-Wformat=]
1471 | PP "%d %d moveto (%.2f%) show\n", x_text_val, y_text - 215, *diff_br);
| ^
Harshlight.c:1474:26: warning: unknown conversion type character ')' in format [-Wformat=]
1474 | PP "%d %d moveto (%.2f%) show\n", x_text_val, y_text - 230, *diff_dr);
| ^
Harshlight.c: In function 'chip_summary':
Harshlight.c:1532:107: warning: unknown conversion type character ')' in format [-Wformat=]
1532 | PP "%d %d moveto (Extended defects: the variance of the Error Image explained by the background is %.2f%) show\n", x_text, y_text - 30, *var);
| ^
Harshlight.c:1542:26: warning: unknown conversion type character ')' in format [-Wformat=]
1542 | PP "%d %d moveto (%.2f%) show\n", x_val_1, y_text - 100, *perc_c);
| ^
Harshlight.c:1543:26: warning: unknown conversion type character ')' in format [-Wformat=]
1543 | PP "%d %d moveto (%.2f%) show\n", x_val_2, y_text - 100, *perc_d);
| ^
Harshlight.c: In function 'extended_stop':
Harshlight.c:1555:107: warning: unknown conversion type character ')' in format [-Wformat=]
1555 | PP "%d %d moveto (Extended defects: the variance of the Error Image explained by the background is %.2f%) show\n", x_text, y_text - 30, *var);
| ^
gcc -shared -s -static-libgcc -o Harshlight.dll tmp.def Harshlight.o -LC:/rtools42/x86_64-w64-mingw32.static.posix/lib/x64 -LC:/rtools42/x86_64-w64-mingw32.static.posix/lib -LF:/biocbuild/bbs-3.16-bioc/R/bin/x64 -lR
installing to F:/biocbuild/bbs-3.16-bioc/meat/Harshlight.buildbin-libdir/00LOCK-Harshlight/00new/Harshlight/libs/x64
** R
** data
** inst
** byte-compile and prepare package for lazy loading
** help
*** installing help indices
** building package indices
** installing vignettes
** testing if installed package can be loaded from temporary location
** testing if installed package can be loaded from final location
** testing if installed package keeps a record of temporary installation path
* MD5 sums
packaged installation of 'Harshlight' as Harshlight_1.70.0.zip
* DONE (Harshlight)