| Back to Multiple platform build/check report for BioC 3.16: simplified long |
|
This page was generated on 2023-04-12 11:06:10 -0400 (Wed, 12 Apr 2023).
| Hostname | OS | Arch (*) | R version | Installed pkgs |
|---|---|---|---|---|
| nebbiolo2 | Linux (Ubuntu 20.04.5 LTS) | x86_64 | 4.2.3 (2023-03-15) -- "Shortstop Beagle" | 4502 |
| palomino4 | Windows Server 2022 Datacenter | x64 | 4.2.3 (2023-03-15 ucrt) -- "Shortstop Beagle" | 4282 |
| lconway | macOS 12.5.1 Monterey | x86_64 | 4.2.3 (2023-03-15) -- "Shortstop Beagle" | 4310 |
| Click on any hostname to see more info about the system (e.g. compilers) (*) as reported by 'uname -p', except on Windows and Mac OS X | ||||
|
To the developers/maintainers of the Harman package: - Please allow up to 24 hours (and sometimes 48 hours) for your latest push to git@git.bioconductor.org:packages/Harman.git to reflect on this report. See How and When does the builder pull? When will my changes propagate? for more information. - Make sure to use the following settings in order to reproduce any error or warning you see on this page. |
| Package 889/2183 | Hostname | OS / Arch | INSTALL | BUILD | CHECK | BUILD BIN | ||||||||
| Harman 1.26.0 (landing page) Jason Ross
| nebbiolo2 | Linux (Ubuntu 20.04.5 LTS) / x86_64 | OK | OK | OK | |||||||||
| palomino4 | Windows Server 2022 Datacenter / x64 | OK | OK | OK | OK | |||||||||
| lconway | macOS 12.5.1 Monterey / x86_64 | OK | OK | OK | OK | |||||||||
| Package: Harman |
| Version: 1.26.0 |
| Command: /Library/Frameworks/R.framework/Resources/bin/R CMD check --install=check:Harman.install-out.txt --library=/Library/Frameworks/R.framework/Resources/library --no-vignettes --timings Harman_1.26.0.tar.gz |
| StartedAt: 2023-04-10 20:37:00 -0400 (Mon, 10 Apr 2023) |
| EndedAt: 2023-04-10 20:38:20 -0400 (Mon, 10 Apr 2023) |
| EllapsedTime: 80.5 seconds |
| RetCode: 0 |
| Status: OK |
| CheckDir: Harman.Rcheck |
| Warnings: 0 |
############################################################################## ############################################################################## ### ### Running command: ### ### /Library/Frameworks/R.framework/Resources/bin/R CMD check --install=check:Harman.install-out.txt --library=/Library/Frameworks/R.framework/Resources/library --no-vignettes --timings Harman_1.26.0.tar.gz ### ############################################################################## ############################################################################## * using log directory ‘/Users/biocbuild/bbs-3.16-bioc/meat/Harman.Rcheck’ * using R version 4.2.3 (2023-03-15) * using platform: x86_64-apple-darwin17.0 (64-bit) * using session charset: UTF-8 * using option ‘--no-vignettes’ * checking for file ‘Harman/DESCRIPTION’ ... OK * checking extension type ... Package * this is package ‘Harman’ version ‘1.26.0’ * package encoding: UTF-8 * checking package namespace information ... OK * checking package dependencies ... OK * checking if this is a source package ... OK * checking if there is a namespace ... OK * checking for hidden files and directories ... OK * checking for portable file names ... OK * checking for sufficient/correct file permissions ... OK * checking whether package ‘Harman’ can be installed ... OK * checking installed package size ... OK * checking package directory ... OK * checking ‘build’ directory ... OK * checking DESCRIPTION meta-information ... OK * checking top-level files ... OK * checking for left-over files ... OK * checking index information ... OK * checking package subdirectories ... OK * checking R files for non-ASCII characters ... OK * checking R files for syntax errors ... OK * checking whether the package can be loaded ... OK * checking whether the package can be loaded with stated dependencies ... OK * checking whether the package can be unloaded cleanly ... OK * checking whether the namespace can be loaded with stated dependencies ... OK * checking whether the namespace can be unloaded cleanly ... OK * checking dependencies in R code ... OK * checking S3 generic/method consistency ... OK * checking replacement functions ... OK * checking foreign function calls ... OK * checking R code for possible problems ... OK * checking Rd files ... OK * checking Rd metadata ... OK * checking Rd cross-references ... OK * checking for missing documentation entries ... OK * checking for code/documentation mismatches ... OK * checking Rd \usage sections ... OK * checking Rd contents ... OK * checking for unstated dependencies in examples ... OK * checking line endings in C/C++/Fortran sources/headers ... OK * checking line endings in Makefiles ... OK * checking compilation flags in Makevars ... OK * checking for GNU extensions in Makefiles ... OK * checking for portable use of $(BLAS_LIBS) and $(LAPACK_LIBS) ... OK * checking use of PKG_*FLAGS in Makefiles ... OK * checking compiled code ... NOTE Note: information on .o files is not available * checking files in ‘vignettes’ ... OK * checking examples ... OK * checking for unstated dependencies in ‘tests’ ... OK * checking tests ... Running ‘runTests.R’ OK * checking for unstated dependencies in vignettes ... OK * checking package vignettes in ‘inst/doc’ ... OK * checking running R code from vignettes ... SKIPPED * checking re-building of vignette outputs ... SKIPPED * checking PDF version of manual ... OK * DONE Status: 1 NOTE See ‘/Users/biocbuild/bbs-3.16-bioc/meat/Harman.Rcheck/00check.log’ for details.
Harman.Rcheck/00install.out
##############################################################################
##############################################################################
###
### Running command:
###
### /Library/Frameworks/R.framework/Resources/bin/R CMD INSTALL Harman
###
##############################################################################
##############################################################################
* installing to library ‘/Library/Frameworks/R.framework/Versions/4.2/Resources/library’
* installing *source* package ‘Harman’ ...
** using staged installation
** libs
clang++ -mmacosx-version-min=10.13 -std=gnu++14 -I"/Library/Frameworks/R.framework/Resources/include" -DNDEBUG -D_ARRAYALIGNEMT=4 -D_USE_RCPP=1 -I'/Library/Frameworks/R.framework/Versions/4.2/Resources/library/Rcpp/include' -I/usr/local/include `/Library/Frameworks/R.framework/Resources/bin/Rscript -e "Rcpp:::CxxFlags()"` -I. -fPIC -Wall -g -O2 -c Harman.cpp -o Harman.o
In file included from Harman.cpp:182:
./CSelectRandom.h:283:11: warning: variable 'seed' set but not used [-Wunused-but-set-variable]
size_t seed ;
^
./CSelectRandom.h:372:11: warning: variable 'seed' set but not used [-Wunused-but-set-variable]
size_t seed ;
^
./CSelectRandom.h:392:11: warning: unused variable 'currindex' [-Wunused-variable]
size_t currindex ;
^
./CSelectRandom.h:394:40: warning: unused variable 'it2' [-Wunused-variable]
std::vector<double>::iterator it1, it2 ;
^
./CSelectRandom.h:394:35: warning: unused variable 'it1' [-Wunused-variable]
std::vector<double>::iterator it1, it2 ;
^
./CSelectRandom.h:639:11: warning: unused variable 'time1' [-Wunused-variable]
double time1, time2 ;
^
./CSelectRandom.h:638:20: warning: unused variable 'ts1' [-Wunused-variable]
struct timespec ts1, ts2 ;
^
./CSelectRandom.h:639:18: warning: unused variable 'time2' [-Wunused-variable]
double time1, time2 ;
^
./CSelectRandom.h:638:25: warning: unused variable 'ts2' [-Wunused-variable]
struct timespec ts1, ts2 ;
^
./CSelectRandom.h:1019:23: warning: unused variable 'randData2' [-Wunused-variable]
size_t randData1, randData2 ;
^
10 warnings generated.
clang++ -mmacosx-version-min=10.13 -std=gnu++14 -dynamiclib -Wl,-headerpad_max_install_names -undefined dynamic_lookup -single_module -multiply_defined suppress -L/Library/Frameworks/R.framework/Resources/lib -L/usr/local/lib -o Harman.so Harman.o -F/Library/Frameworks/R.framework/.. -framework R -Wl,-framework -Wl,CoreFoundation
installing to /Library/Frameworks/R.framework/Versions/4.2/Resources/library/00LOCK-Harman/00new/Harman/libs
** R
** inst
** byte-compile and prepare package for lazy loading
** help
*** installing help indices
** building package indices
** installing vignettes
** testing if installed package can be loaded from temporary location
** checking absolute paths in shared objects and dynamic libraries
** testing if installed package can be loaded from final location
** testing if installed package keeps a record of temporary installation path
* DONE (Harman)
Harman.Rcheck/tests/runTests.Rout
R version 4.2.3 (2023-03-15) -- "Shortstop Beagle"
Copyright (C) 2023 The R Foundation for Statistical Computing
Platform: x86_64-apple-darwin17.0 (64-bit)
R is free software and comes with ABSOLUTELY NO WARRANTY.
You are welcome to redistribute it under certain conditions.
Type 'license()' or 'licence()' for distribution details.
R is a collaborative project with many contributors.
Type 'contributors()' for more information and
'citation()' on how to cite R or R packages in publications.
Type 'demo()' for some demos, 'help()' for on-line help, or
'help.start()' for an HTML browser interface to help.
Type 'q()' to quit R.
> BiocGenerics:::testPackage("Harman")
First clustering, now find top two k, done. Reclustering, done.
RUNIT TEST PROTOCOL -- Mon Apr 10 20:38:10 2023
***********************************************
Number of test functions: 14
Number of errors: 0
Number of failures: 0
1 Test Suite :
Harman RUnit Tests - 14 test functions, 0 errors, 0 failures
Number of test functions: 14
Number of errors: 0
Number of failures: 0
Warning message:
In kClusterMethylation(betas[1, , drop = FALSE], row_ks = ks[1]) :
All rows have a cluster size of 1
>
> proc.time()
user system elapsed
25.130 1.819 30.025
Harman.Rcheck/Harman-Ex.timings
| name | user | system | elapsed | |
| arrowPlot | 0.372 | 0.047 | 0.423 | |
| clusterStats | 0.078 | 0.018 | 1.443 | |
| discoverClusteredMethylation | 0.066 | 0.019 | 1.417 | |
| harman | 0.657 | 0.080 | 0.744 | |
| harmanresults | 0.450 | 0.043 | 0.496 | |
| kClusterMethylation | 0.062 | 0.018 | 1.484 | |
| pcaPlot | 0.374 | 0.065 | 0.441 | |
| plot.harmanresults | 0.379 | 0.046 | 0.427 | |
| prcompPlot | 0.189 | 0.018 | 0.209 | |
| reconstructData | 0.371 | 0.045 | 0.415 | |
| shiftBetas | 0.002 | 0.001 | 0.001 | |
| summary.harmanresults | 0.362 | 0.047 | 0.409 | |