| Back to Multiple platform build/check report for BioC 3.16: simplified long |
|
This page was generated on 2023-04-12 11:05:07 -0400 (Wed, 12 Apr 2023).
| Hostname | OS | Arch (*) | R version | Installed pkgs |
|---|---|---|---|---|
| nebbiolo2 | Linux (Ubuntu 20.04.5 LTS) | x86_64 | 4.2.3 (2023-03-15) -- "Shortstop Beagle" | 4502 |
| palomino4 | Windows Server 2022 Datacenter | x64 | 4.2.3 (2023-03-15 ucrt) -- "Shortstop Beagle" | 4282 |
| lconway | macOS 12.5.1 Monterey | x86_64 | 4.2.3 (2023-03-15) -- "Shortstop Beagle" | 4310 |
| Click on any hostname to see more info about the system (e.g. compilers) (*) as reported by 'uname -p', except on Windows and Mac OS X | ||||
|
To the developers/maintainers of the HIPPO package: - Please allow up to 24 hours (and sometimes 48 hours) for your latest push to git@git.bioconductor.org:packages/HIPPO.git to reflect on this report. See How and When does the builder pull? When will my changes propagate? for more information. - Make sure to use the following settings in order to reproduce any error or warning you see on this page. |
| Package 916/2183 | Hostname | OS / Arch | INSTALL | BUILD | CHECK | BUILD BIN | ||||||||
| HIPPO 1.10.0 (landing page) Tae Kim
| nebbiolo2 | Linux (Ubuntu 20.04.5 LTS) / x86_64 | OK | OK | OK | |||||||||
| palomino4 | Windows Server 2022 Datacenter / x64 | OK | OK | OK | OK | |||||||||
| lconway | macOS 12.5.1 Monterey / x86_64 | OK | OK | OK | OK | |||||||||
| Package: HIPPO |
| Version: 1.10.0 |
| Command: /home/biocbuild/bbs-3.16-bioc/R/bin/R CMD check --install=check:HIPPO.install-out.txt --library=/home/biocbuild/bbs-3.16-bioc/R/site-library --timings HIPPO_1.10.0.tar.gz |
| StartedAt: 2023-04-10 21:17:31 -0400 (Mon, 10 Apr 2023) |
| EndedAt: 2023-04-10 21:20:37 -0400 (Mon, 10 Apr 2023) |
| EllapsedTime: 185.7 seconds |
| RetCode: 0 |
| Status: OK |
| CheckDir: HIPPO.Rcheck |
| Warnings: 0 |
##############################################################################
##############################################################################
###
### Running command:
###
### /home/biocbuild/bbs-3.16-bioc/R/bin/R CMD check --install=check:HIPPO.install-out.txt --library=/home/biocbuild/bbs-3.16-bioc/R/site-library --timings HIPPO_1.10.0.tar.gz
###
##############################################################################
##############################################################################
* using log directory ‘/home/biocbuild/bbs-3.16-bioc/meat/HIPPO.Rcheck’
* using R version 4.2.3 (2023-03-15)
* using platform: x86_64-pc-linux-gnu (64-bit)
* using session charset: UTF-8
* checking for file ‘HIPPO/DESCRIPTION’ ... OK
* checking extension type ... Package
* this is package ‘HIPPO’ version ‘1.10.0’
* package encoding: UTF-8
* checking package namespace information ... OK
* checking package dependencies ... OK
* checking if this is a source package ... OK
* checking if there is a namespace ... OK
* checking for hidden files and directories ... OK
* checking for portable file names ... OK
* checking for sufficient/correct file permissions ... OK
* checking whether package ‘HIPPO’ can be installed ... OK
* checking installed package size ... OK
* checking package directory ... OK
* checking DESCRIPTION meta-information ... OK
* checking top-level files ... OK
* checking for left-over files ... OK
* checking index information ... OK
* checking package subdirectories ... OK
* checking R files for non-ASCII characters ... OK
* checking R files for syntax errors ... OK
* checking whether the package can be loaded ... OK
* checking whether the package can be loaded with stated dependencies ... OK
* checking whether the package can be unloaded cleanly ... OK
* checking whether the namespace can be loaded with stated dependencies ... OK
* checking whether the namespace can be unloaded cleanly ... OK
* checking loading without being on the library search path ... OK
* checking dependencies in R code ... OK
* checking S3 generic/method consistency ... OK
* checking replacement functions ... OK
* checking foreign function calls ... OK
* checking R code for possible problems ... NOTE
ensg_to_hgnc: no visible global function definition for ‘data’
ensg_to_hgnc: no visible binding for global variable ‘ensg_hgnc’
hippo: no visible global function definition for ‘is’
hippo_feature_heatmap: no visible binding for global variable ‘zvalue’
hippo_tsne_plot: no visible binding for global variable ‘K’
hippo_umap_plot: no visible binding for global variable ‘K’
preprocess_homogeneous: no visible global function definition for ‘is’
zero_proportion_plot: no visible binding for global variable ‘K’
zero_proportion_plot: no visible binding for global variable ‘zvalue’
zero_proportion_plot: no visible binding for global variable
‘featurecount’
Undefined global functions or variables:
K data ensg_hgnc featurecount is zvalue
Consider adding
importFrom("methods", "is")
importFrom("utils", "data")
to your NAMESPACE file (and ensure that your DESCRIPTION Imports field
contains 'methods').
* checking Rd files ... OK
* checking Rd metadata ... OK
* checking Rd cross-references ... OK
* checking for missing documentation entries ... OK
* checking for code/documentation mismatches ... OK
* checking Rd \usage sections ... OK
* checking Rd contents ... OK
* checking for unstated dependencies in examples ... OK
* checking contents of ‘data’ directory ... OK
* checking data for non-ASCII characters ... OK
* checking LazyData ... OK
* checking data for ASCII and uncompressed saves ... OK
* checking files in ‘vignettes’ ... OK
* checking examples ... OK
* checking for unstated dependencies in vignettes ... OK
* checking package vignettes in ‘inst/doc’ ... OK
* checking running R code from vignettes ...
‘example.Rmd’ using ‘UTF-8’... OK
NONE
* checking re-building of vignette outputs ... OK
* checking PDF version of manual ... OK
* DONE
Status: 1 NOTE
See
‘/home/biocbuild/bbs-3.16-bioc/meat/HIPPO.Rcheck/00check.log’
for details.
HIPPO.Rcheck/00install.out
############################################################################## ############################################################################## ### ### Running command: ### ### /home/biocbuild/bbs-3.16-bioc/R/bin/R CMD INSTALL HIPPO ### ############################################################################## ############################################################################## * installing to library ‘/home/biocbuild/bbs-3.16-bioc/R/site-library’ * installing *source* package ‘HIPPO’ ... ** using staged installation ** R ** data *** moving datasets to lazyload DB ** byte-compile and prepare package for lazy loading ** help *** installing help indices ** building package indices ** installing vignettes ** testing if installed package can be loaded from temporary location ** testing if installed package can be loaded from final location ** testing if installed package keeps a record of temporary installation path * DONE (HIPPO)
HIPPO.Rcheck/HIPPO-Ex.timings
| name | user | system | elapsed | |
| get_data_from_sce | 0.954 | 0.081 | 1.034 | |
| get_hippo | 0.232 | 0.035 | 0.268 | |
| get_hippo_diffexp | 1.594 | 0.037 | 1.630 | |
| hippo | 0.168 | 0.044 | 0.211 | |
| hippo_diagnostic_plot | 0.366 | 0.011 | 0.379 | |
| hippo_diffexp | 0.843 | 0.012 | 0.855 | |
| hippo_dimension_reduction | 0.711 | 0.015 | 0.727 | |
| hippo_feature_heatmap | 0.421 | 0.013 | 0.432 | |
| hippo_pca_plot | 1.056 | 0.020 | 1.075 | |
| hippo_tsne_plot | 0.632 | 0.036 | 0.668 | |
| hippo_umap_plot | 1.002 | 0.051 | 1.053 | |
| nb_prob_zero | 0 | 0 | 0 | |
| pois_prob_zero | 0 | 0 | 0 | |
| preprocess_heterogeneous | 0.089 | 0.027 | 0.116 | |
| preprocess_homogeneous | 0.098 | 0.005 | 0.102 | |
| zero_proportion_plot | 0.790 | 0.035 | 0.827 | |
| zinb_prob_zero | 0.000 | 0.000 | 0.001 | |