| Back to Multiple platform build/check report for BioC 3.16: simplified long |
|
This page was generated on 2023-04-12 11:05:06 -0400 (Wed, 12 Apr 2023).
| Hostname | OS | Arch (*) | R version | Installed pkgs |
|---|---|---|---|---|
| nebbiolo2 | Linux (Ubuntu 20.04.5 LTS) | x86_64 | 4.2.3 (2023-03-15) -- "Shortstop Beagle" | 4502 |
| palomino4 | Windows Server 2022 Datacenter | x64 | 4.2.3 (2023-03-15 ucrt) -- "Shortstop Beagle" | 4282 |
| lconway | macOS 12.5.1 Monterey | x86_64 | 4.2.3 (2023-03-15) -- "Shortstop Beagle" | 4310 |
| Click on any hostname to see more info about the system (e.g. compilers) (*) as reported by 'uname -p', except on Windows and Mac OS X | ||||
|
To the developers/maintainers of the HEM package: - Please allow up to 24 hours (and sometimes 48 hours) for your latest push to git@git.bioconductor.org:packages/HEM.git to reflect on this report. See How and When does the builder pull? When will my changes propagate? for more information. - Make sure to use the following settings in order to reproduce any error or warning you see on this page. |
| Package 898/2183 | Hostname | OS / Arch | INSTALL | BUILD | CHECK | BUILD BIN | ||||||||
| HEM 1.70.0 (landing page) HyungJun Cho
| nebbiolo2 | Linux (Ubuntu 20.04.5 LTS) / x86_64 | OK | OK | OK | |||||||||
| palomino4 | Windows Server 2022 Datacenter / x64 | OK | OK | OK | OK | |||||||||
| lconway | macOS 12.5.1 Monterey / x86_64 | OK | OK | OK | OK | |||||||||
| Package: HEM |
| Version: 1.70.0 |
| Command: /home/biocbuild/bbs-3.16-bioc/R/bin/R CMD INSTALL HEM |
| StartedAt: 2023-04-10 15:10:19 -0400 (Mon, 10 Apr 2023) |
| EndedAt: 2023-04-10 15:10:26 -0400 (Mon, 10 Apr 2023) |
| EllapsedTime: 6.6 seconds |
| RetCode: 0 |
| Status: OK |
##############################################################################
##############################################################################
###
### Running command:
###
### /home/biocbuild/bbs-3.16-bioc/R/bin/R CMD INSTALL HEM
###
##############################################################################
##############################################################################
* installing to library ‘/home/biocbuild/bbs-3.16-bioc/R/site-library’
* installing *source* package ‘HEM’ ...
** using staged installation
** libs
gcc -I"/home/biocbuild/bbs-3.16-bioc/R/include" -DNDEBUG -I/usr/local/include -fpic -g -O2 -Wall -c hem.c -o hem.o
hem.c: In function ‘onelayerhem’:
hem.c:1390:12: warning: variable ‘k’ set but not used [-Wunused-but-set-variable]
1390 | int i, j, k, m, n;
| ^
hem.c: In function ‘chk_prt’:
hem.c:1593:16: warning: variable ‘l’ set but not used [-Wunused-but-set-variable]
1593 | int i, j, k, l;
| ^
gcc -shared -L/home/biocbuild/bbs-3.16-bioc/R/lib -L/usr/local/lib -o HEM.so hem.o -L/home/biocbuild/bbs-3.16-bioc/R/lib -lR
installing to /home/biocbuild/bbs-3.16-bioc/R/site-library/00LOCK-HEM/00new/HEM/libs
** R
** data
** byte-compile and prepare package for lazy loading
** help
*** installing help indices
** building package indices
** installing vignettes
** testing if installed package can be loaded from temporary location
** checking absolute paths in shared objects and dynamic libraries
** testing if installed package can be loaded from final location
** testing if installed package keeps a record of temporary installation path
* DONE (HEM)