| Back to Multiple platform build/check report for BioC 3.16: simplified long |
|
This page was generated on 2023-04-12 11:05:36 -0400 (Wed, 12 Apr 2023).
| Hostname | OS | Arch (*) | R version | Installed pkgs |
|---|---|---|---|---|
| nebbiolo2 | Linux (Ubuntu 20.04.5 LTS) | x86_64 | 4.2.3 (2023-03-15) -- "Shortstop Beagle" | 4502 |
| palomino4 | Windows Server 2022 Datacenter | x64 | 4.2.3 (2023-03-15 ucrt) -- "Shortstop Beagle" | 4282 |
| lconway | macOS 12.5.1 Monterey | x86_64 | 4.2.3 (2023-03-15) -- "Shortstop Beagle" | 4310 |
| Click on any hostname to see more info about the system (e.g. compilers) (*) as reported by 'uname -p', except on Windows and Mac OS X | ||||
|
To the developers/maintainers of the HDF5Array package: - Please allow up to 24 hours (and sometimes 48 hours) for your latest push to git@git.bioconductor.org:packages/HDF5Array.git to reflect on this report. See How and When does the builder pull? When will my changes propagate? for more information. - Make sure to use the following settings in order to reproduce any error or warning you see on this page. |
| Package 892/2183 | Hostname | OS / Arch | INSTALL | BUILD | CHECK | BUILD BIN | ||||||||
| HDF5Array 1.26.0 (landing page) Hervé Pagès
| nebbiolo2 | Linux (Ubuntu 20.04.5 LTS) / x86_64 | OK | OK | OK | |||||||||
| palomino4 | Windows Server 2022 Datacenter / x64 | OK | OK | OK | OK | |||||||||
| lconway | macOS 12.5.1 Monterey / x86_64 | OK | OK | OK | OK | |||||||||
| Package: HDF5Array |
| Version: 1.26.0 |
| Command: F:\biocbuild\bbs-3.16-bioc\R\bin\R.exe CMD check --no-multiarch --install=check:HDF5Array.install-out.txt --library=F:\biocbuild\bbs-3.16-bioc\R\library --no-vignettes --timings HDF5Array_1.26.0.tar.gz |
| StartedAt: 2023-04-11 02:16:13 -0400 (Tue, 11 Apr 2023) |
| EndedAt: 2023-04-11 02:24:46 -0400 (Tue, 11 Apr 2023) |
| EllapsedTime: 513.5 seconds |
| RetCode: 0 |
| Status: OK |
| CheckDir: HDF5Array.Rcheck |
| Warnings: 0 |
##############################################################################
##############################################################################
###
### Running command:
###
### F:\biocbuild\bbs-3.16-bioc\R\bin\R.exe CMD check --no-multiarch --install=check:HDF5Array.install-out.txt --library=F:\biocbuild\bbs-3.16-bioc\R\library --no-vignettes --timings HDF5Array_1.26.0.tar.gz
###
##############################################################################
##############################################################################
* using log directory 'F:/biocbuild/bbs-3.16-bioc/meat/HDF5Array.Rcheck'
* using R version 4.2.3 (2023-03-15 ucrt)
* using platform: x86_64-w64-mingw32 (64-bit)
* using session charset: UTF-8
* using option '--no-vignettes'
* checking for file 'HDF5Array/DESCRIPTION' ... OK
* this is package 'HDF5Array' version '1.26.0'
* package encoding: UTF-8
* checking package namespace information ... OK
* checking package dependencies ... OK
* checking if this is a source package ... OK
* checking if there is a namespace ... OK
* checking for hidden files and directories ... NOTE
Found the following hidden files and directories:
.BBSoptions
These were most likely included in error. See section 'Package
structure' in the 'Writing R Extensions' manual.
* checking for portable file names ... OK
* checking whether package 'HDF5Array' can be installed ... OK
* checking installed package size ... NOTE
installed size is 15.2Mb
sub-directories of 1Mb or more:
extdata 7.7Mb
libs 6.6Mb
* checking package directory ... OK
* checking DESCRIPTION meta-information ... OK
* checking top-level files ... OK
* checking for left-over files ... OK
* checking index information ... OK
* checking package subdirectories ... OK
* checking R files for non-ASCII characters ... OK
* checking R files for syntax errors ... OK
* checking whether the package can be loaded ... OK
* checking whether the package can be loaded with stated dependencies ... OK
* checking whether the package can be unloaded cleanly ... OK
* checking whether the namespace can be loaded with stated dependencies ... OK
* checking whether the namespace can be unloaded cleanly ... OK
* checking dependencies in R code ... NOTE
':::' call which should be '::': 'rhdf5:::H5Fclose'
See the note in ?`:::` about the use of this operator.
Unexported object imported by a ':::' call: 'rhdf5:::h5checktypeOrOpenLocS3'
See the note in ?`:::` about the use of this operator.
* checking S3 generic/method consistency ... OK
* checking replacement functions ... OK
* checking foreign function calls ... OK
* checking R code for possible problems ... OK
* checking Rd files ... OK
* checking Rd metadata ... OK
* checking Rd cross-references ... OK
* checking for missing documentation entries ... OK
* checking for code/documentation mismatches ... OK
* checking Rd \usage sections ... OK
* checking Rd contents ... OK
* checking for unstated dependencies in examples ... OK
* checking line endings in C/C++/Fortran sources/headers ... OK
* checking line endings in Makefiles ... OK
* checking compilation flags in Makevars ... OK
* checking for GNU extensions in Makefiles ... NOTE
GNU make is a SystemRequirements.
* checking for portable use of $(BLAS_LIBS) and $(LAPACK_LIBS) ... OK
* checking use of PKG_*FLAGS in Makefiles ... OK
* checking compiled code ... NOTE
Note: information on .o files for x64 is not available
File 'F:/biocbuild/bbs-3.16-bioc/R/library/HDF5Array/libs/x64/HDF5Array.dll':
Found '_assert', possibly from 'assert' (C)
Found '_exit', possibly from '_exit' (C)
Found 'abort', possibly from 'abort' (C), 'runtime' (Fortran)
Found 'exit', possibly from 'exit' (C), 'stop' (Fortran)
Compiled code should not call entry points which might terminate R nor
write to stdout/stderr instead of to the console, nor use Fortran I/O
nor system RNGs. The detected symbols are linked into the code but
might come from libraries and not actually be called.
See 'Writing portable packages' in the 'Writing R Extensions' manual.
* checking examples ... OK
Examples with CPU (user + system) or elapsed time > 5s
user system elapsed
h5mread 44.22 5.33 79.22
TENxMatrix-class 26.82 5.89 184.22
writeTENxMatrix 17.00 1.11 19.32
* checking for unstated dependencies in 'tests' ... OK
* checking tests ...
Running 'run_unitTests.R'
OK
* checking PDF version of manual ... OK
* DONE
Status: 5 NOTEs
See
'F:/biocbuild/bbs-3.16-bioc/meat/HDF5Array.Rcheck/00check.log'
for details.
HDF5Array.Rcheck/00install.out
##############################################################################
##############################################################################
###
### Running command:
###
### F:\biocbuild\bbs-3.16-bioc\R\bin\R.exe CMD INSTALL HDF5Array
###
##############################################################################
##############################################################################
* installing to library 'F:/biocbuild/bbs-3.16-bioc/R/library'
* installing *source* package 'HDF5Array' ...
** using staged installation
** libs
gcc -I"F:/biocbuild/bbs-3.16-bioc/R/include" -DNDEBUG -I'F:/biocbuild/bbs-3.16-bioc/R/library/S4Vectors/include' -I'F:/biocbuild/bbs-3.16-bioc/R/library/Rhdf5lib/include' -I"C:/rtools42/x86_64-w64-mingw32.static.posix/include" -O2 -Wall -std=gnu99 -mfpmath=sse -msse2 -mstackrealign -c S4Vectors_stubs.c -o S4Vectors_stubs.o
gcc -I"F:/biocbuild/bbs-3.16-bioc/R/include" -DNDEBUG -I'F:/biocbuild/bbs-3.16-bioc/R/library/S4Vectors/include' -I'F:/biocbuild/bbs-3.16-bioc/R/library/Rhdf5lib/include' -I"C:/rtools42/x86_64-w64-mingw32.static.posix/include" -O2 -Wall -std=gnu99 -mfpmath=sse -msse2 -mstackrealign -c H5File.c -o H5File.o
gcc -I"F:/biocbuild/bbs-3.16-bioc/R/include" -DNDEBUG -I'F:/biocbuild/bbs-3.16-bioc/R/library/S4Vectors/include' -I'F:/biocbuild/bbs-3.16-bioc/R/library/Rhdf5lib/include' -I"C:/rtools42/x86_64-w64-mingw32.static.posix/include" -O2 -Wall -std=gnu99 -mfpmath=sse -msse2 -mstackrealign -c global_errmsg_buf.c -o global_errmsg_buf.o
gcc -I"F:/biocbuild/bbs-3.16-bioc/R/include" -DNDEBUG -I'F:/biocbuild/bbs-3.16-bioc/R/library/S4Vectors/include' -I'F:/biocbuild/bbs-3.16-bioc/R/library/Rhdf5lib/include' -I"C:/rtools42/x86_64-w64-mingw32.static.posix/include" -O2 -Wall -std=gnu99 -mfpmath=sse -msse2 -mstackrealign -c H5DSetDescriptor.c -o H5DSetDescriptor.o
gcc -I"F:/biocbuild/bbs-3.16-bioc/R/include" -DNDEBUG -I'F:/biocbuild/bbs-3.16-bioc/R/library/S4Vectors/include' -I'F:/biocbuild/bbs-3.16-bioc/R/library/Rhdf5lib/include' -I"C:/rtools42/x86_64-w64-mingw32.static.posix/include" -O2 -Wall -std=gnu99 -mfpmath=sse -msse2 -mstackrealign -c h5dimscales.c -o h5dimscales.o
In file included from h5dimscales.c:7:
H5File.h:11: warning: "__USE_MINGW_ANSI_STDIO" redefined
11 | #define __USE_MINGW_ANSI_STDIO 1
|
In file included from c:\rtools42\x86_64-w64-mingw32.static.posix\include\corecrt.h:10,
from c:\rtools42\x86_64-w64-mingw32.static.posix\include\crtdefs.h:10,
from c:\rtools42\x86_64-w64-mingw32.static.posix\include\stddef.h:7,
from c:\rtools42\x86_64-w64-mingw32.static.posix\lib\gcc\x86_64-w64-mingw32.static.posix\10.4.0\include\stddef.h:1,
from F:/biocbuild/bbs-3.16-bioc/R/include/R_ext/Memory.h:36,
from F:/biocbuild/bbs-3.16-bioc/R/include/Rdefines.h:37,
from h5dimscales.h:4,
from h5dimscales.c:5:
c:\rtools42\x86_64-w64-mingw32.static.posix\include\_mingw.h:435: note: this is the location of the previous definition
435 | #define __USE_MINGW_ANSI_STDIO 0 /* was not defined so it should be 0 */
|
gcc -I"F:/biocbuild/bbs-3.16-bioc/R/include" -DNDEBUG -I'F:/biocbuild/bbs-3.16-bioc/R/library/S4Vectors/include' -I'F:/biocbuild/bbs-3.16-bioc/R/library/Rhdf5lib/include' -I"C:/rtools42/x86_64-w64-mingw32.static.posix/include" -O2 -Wall -std=gnu99 -mfpmath=sse -msse2 -mstackrealign -c uaselection.c -o uaselection.o
gcc -I"F:/biocbuild/bbs-3.16-bioc/R/include" -DNDEBUG -I'F:/biocbuild/bbs-3.16-bioc/R/library/S4Vectors/include' -I'F:/biocbuild/bbs-3.16-bioc/R/library/Rhdf5lib/include' -I"C:/rtools42/x86_64-w64-mingw32.static.posix/include" -O2 -Wall -std=gnu99 -mfpmath=sse -msse2 -mstackrealign -c h5mread_helpers.c -o h5mread_helpers.o
gcc -I"F:/biocbuild/bbs-3.16-bioc/R/include" -DNDEBUG -I'F:/biocbuild/bbs-3.16-bioc/R/library/S4Vectors/include' -I'F:/biocbuild/bbs-3.16-bioc/R/library/Rhdf5lib/include' -I"C:/rtools42/x86_64-w64-mingw32.static.posix/include" -O2 -Wall -std=gnu99 -mfpmath=sse -msse2 -mstackrealign -c h5mread_startscounts.c -o h5mread_startscounts.o
gcc -I"F:/biocbuild/bbs-3.16-bioc/R/include" -DNDEBUG -I'F:/biocbuild/bbs-3.16-bioc/R/library/S4Vectors/include' -I'F:/biocbuild/bbs-3.16-bioc/R/library/Rhdf5lib/include' -I"C:/rtools42/x86_64-w64-mingw32.static.posix/include" -O2 -Wall -std=gnu99 -mfpmath=sse -msse2 -mstackrealign -c ChunkIterator.c -o ChunkIterator.o
gcc -I"F:/biocbuild/bbs-3.16-bioc/R/include" -DNDEBUG -I'F:/biocbuild/bbs-3.16-bioc/R/library/S4Vectors/include' -I'F:/biocbuild/bbs-3.16-bioc/R/library/Rhdf5lib/include' -I"C:/rtools42/x86_64-w64-mingw32.static.posix/include" -O2 -Wall -std=gnu99 -mfpmath=sse -msse2 -mstackrealign -c h5mread_index.c -o h5mread_index.o
gcc -I"F:/biocbuild/bbs-3.16-bioc/R/include" -DNDEBUG -I'F:/biocbuild/bbs-3.16-bioc/R/library/S4Vectors/include' -I'F:/biocbuild/bbs-3.16-bioc/R/library/Rhdf5lib/include' -I"C:/rtools42/x86_64-w64-mingw32.static.posix/include" -O2 -Wall -std=gnu99 -mfpmath=sse -msse2 -mstackrealign -c h5mread_sparse.c -o h5mread_sparse.o
h5mread_sparse.c:206:13: warning: 'NOT_USED_make_nzindex_from_bufs' defined but not used [-Wunused-function]
206 | static SEXP NOT_USED_make_nzindex_from_bufs(const IntAEAE *nzindex_bufs,
| ^~~~~~~~~~~~~~~~~~~~~~~~~~~~~~~
h5mread_sparse.c:179:13: warning: 'NOT_USED_make_nzdata_from_IntAE_bufs' defined but not used [-Wunused-function]
179 | static SEXP NOT_USED_make_nzdata_from_IntAE_bufs(const IntAEAE *nzdata_bufs,
| ^~~~~~~~~~~~~~~~~~~~~~~~~~~~~~~~~~~~
h5mread_sparse.c:123:13: warning: 'NOT_USED_make_nzindex_from_buf' defined but not used [-Wunused-function]
123 | static SEXP NOT_USED_make_nzindex_from_buf(const IntAE *nzindex_buf,
| ^~~~~~~~~~~~~~~~~~~~~~~~~~~~~~
gcc -I"F:/biocbuild/bbs-3.16-bioc/R/include" -DNDEBUG -I'F:/biocbuild/bbs-3.16-bioc/R/library/S4Vectors/include' -I'F:/biocbuild/bbs-3.16-bioc/R/library/Rhdf5lib/include' -I"C:/rtools42/x86_64-w64-mingw32.static.posix/include" -O2 -Wall -std=gnu99 -mfpmath=sse -msse2 -mstackrealign -c h5mread.c -o h5mread.o
In file included from h5mread.c:7:
H5File.h:11: warning: "__USE_MINGW_ANSI_STDIO" redefined
11 | #define __USE_MINGW_ANSI_STDIO 1
|
In file included from c:\rtools42\x86_64-w64-mingw32.static.posix\include\corecrt.h:10,
from c:\rtools42\x86_64-w64-mingw32.static.posix\include\crtdefs.h:10,
from c:\rtools42\x86_64-w64-mingw32.static.posix\include\stddef.h:7,
from c:\rtools42\x86_64-w64-mingw32.static.posix\lib\gcc\x86_64-w64-mingw32.static.posix\10.4.0\include\stddef.h:1,
from F:/biocbuild/bbs-3.16-bioc/R/include/R_ext/Memory.h:36,
from F:/biocbuild/bbs-3.16-bioc/R/include/Rdefines.h:37,
from h5mread.h:4,
from h5mread.c:5:
c:\rtools42\x86_64-w64-mingw32.static.posix\include\_mingw.h:435: note: this is the location of the previous definition
435 | #define __USE_MINGW_ANSI_STDIO 0 /* was not defined so it should be 0 */
|
gcc -I"F:/biocbuild/bbs-3.16-bioc/R/include" -DNDEBUG -I'F:/biocbuild/bbs-3.16-bioc/R/library/S4Vectors/include' -I'F:/biocbuild/bbs-3.16-bioc/R/library/Rhdf5lib/include' -I"C:/rtools42/x86_64-w64-mingw32.static.posix/include" -O2 -Wall -std=gnu99 -mfpmath=sse -msse2 -mstackrealign -c h5summarize.c -o h5summarize.o
In file included from h5summarize.c:7:
H5File.h:11: warning: "__USE_MINGW_ANSI_STDIO" redefined
11 | #define __USE_MINGW_ANSI_STDIO 1
|
In file included from c:\rtools42\x86_64-w64-mingw32.static.posix\include\corecrt.h:10,
from c:\rtools42\x86_64-w64-mingw32.static.posix\include\crtdefs.h:10,
from c:\rtools42\x86_64-w64-mingw32.static.posix\include\stddef.h:7,
from c:\rtools42\x86_64-w64-mingw32.static.posix\lib\gcc\x86_64-w64-mingw32.static.posix\10.4.0\include\stddef.h:1,
from F:/biocbuild/bbs-3.16-bioc/R/include/R_ext/Memory.h:36,
from F:/biocbuild/bbs-3.16-bioc/R/include/Rdefines.h:37,
from h5summarize.h:4,
from h5summarize.c:5:
c:\rtools42\x86_64-w64-mingw32.static.posix\include\_mingw.h:435: note: this is the location of the previous definition
435 | #define __USE_MINGW_ANSI_STDIO 0 /* was not defined so it should be 0 */
|
gcc -I"F:/biocbuild/bbs-3.16-bioc/R/include" -DNDEBUG -I'F:/biocbuild/bbs-3.16-bioc/R/library/S4Vectors/include' -I'F:/biocbuild/bbs-3.16-bioc/R/library/Rhdf5lib/include' -I"C:/rtools42/x86_64-w64-mingw32.static.posix/include" -O2 -Wall -std=gnu99 -mfpmath=sse -msse2 -mstackrealign -c R_init_HDF5Array.c -o R_init_HDF5Array.o
gcc -shared -s -static-libgcc -o HDF5Array.dll tmp.def S4Vectors_stubs.o H5File.o global_errmsg_buf.o H5DSetDescriptor.o h5dimscales.o uaselection.o h5mread_helpers.o h5mread_startscounts.o ChunkIterator.o h5mread_index.o h5mread_sparse.o h5mread.o h5summarize.o R_init_HDF5Array.o -LF:/biocbuild/bbs-3.16-bioc/R/library/Rhdf5lib/lib/x64-ucrt -lhdf5_hl -lhdf5 -lcurl -lssh2 -lssl -lcrypto -lwldap32 -lws2_32 -lcrypt32 -lsz -laec -lz -lpsapi -LC:/rtools42/x86_64-w64-mingw32.static.posix/lib/x64 -LC:/rtools42/x86_64-w64-mingw32.static.posix/lib -LF:/biocbuild/bbs-3.16-bioc/R/bin/x64 -lR
installing to F:/biocbuild/bbs-3.16-bioc/R/library/00LOCK-HDF5Array/00new/HDF5Array/libs/x64
** R
** inst
** byte-compile and prepare package for lazy loading
** help
*** installing help indices
** building package indices
** testing if installed package can be loaded from temporary location
** testing if installed package can be loaded from final location
** testing if installed package keeps a record of temporary installation path
* DONE (HDF5Array)
HDF5Array.Rcheck/tests/run_unitTests.Rout
R version 4.2.3 (2023-03-15 ucrt) -- "Shortstop Beagle"
Copyright (C) 2023 The R Foundation for Statistical Computing
Platform: x86_64-w64-mingw32/x64 (64-bit)
R is free software and comes with ABSOLUTELY NO WARRANTY.
You are welcome to redistribute it under certain conditions.
Type 'license()' or 'licence()' for distribution details.
R is a collaborative project with many contributors.
Type 'contributors()' for more information and
'citation()' on how to cite R or R packages in publications.
Type 'demo()' for some demos, 'help()' for on-line help, or
'help.start()' for an HTML browser interface to help.
Type 'q()' to quit R.
> require("HDF5Array") || stop("unable to load HDF5Array package")
Loading required package: HDF5Array
Loading required package: DelayedArray
Loading required package: stats4
Loading required package: Matrix
Loading required package: BiocGenerics
Attaching package: 'BiocGenerics'
The following objects are masked from 'package:stats':
IQR, mad, sd, var, xtabs
The following objects are masked from 'package:base':
Filter, Find, Map, Position, Reduce, anyDuplicated, aperm, append,
as.data.frame, basename, cbind, colnames, dirname, do.call,
duplicated, eval, evalq, get, grep, grepl, intersect, is.unsorted,
lapply, mapply, match, mget, order, paste, pmax, pmax.int, pmin,
pmin.int, rank, rbind, rownames, sapply, setdiff, sort, table,
tapply, union, unique, unsplit, which.max, which.min
Loading required package: MatrixGenerics
Loading required package: matrixStats
Attaching package: 'MatrixGenerics'
The following objects are masked from 'package:matrixStats':
colAlls, colAnyNAs, colAnys, colAvgsPerRowSet, colCollapse,
colCounts, colCummaxs, colCummins, colCumprods, colCumsums,
colDiffs, colIQRDiffs, colIQRs, colLogSumExps, colMadDiffs,
colMads, colMaxs, colMeans2, colMedians, colMins, colOrderStats,
colProds, colQuantiles, colRanges, colRanks, colSdDiffs, colSds,
colSums2, colTabulates, colVarDiffs, colVars, colWeightedMads,
colWeightedMeans, colWeightedMedians, colWeightedSds,
colWeightedVars, rowAlls, rowAnyNAs, rowAnys, rowAvgsPerColSet,
rowCollapse, rowCounts, rowCummaxs, rowCummins, rowCumprods,
rowCumsums, rowDiffs, rowIQRDiffs, rowIQRs, rowLogSumExps,
rowMadDiffs, rowMads, rowMaxs, rowMeans2, rowMedians, rowMins,
rowOrderStats, rowProds, rowQuantiles, rowRanges, rowRanks,
rowSdDiffs, rowSds, rowSums2, rowTabulates, rowVarDiffs, rowVars,
rowWeightedMads, rowWeightedMeans, rowWeightedMedians,
rowWeightedSds, rowWeightedVars
Loading required package: S4Vectors
Attaching package: 'S4Vectors'
The following objects are masked from 'package:Matrix':
expand, unname
The following objects are masked from 'package:base':
I, expand.grid, unname
Loading required package: IRanges
Attaching package: 'IRanges'
The following object is masked from 'package:grDevices':
windows
Attaching package: 'DelayedArray'
The following objects are masked from 'package:base':
apply, rowsum, scale, sweep
Loading required package: rhdf5
Attaching package: 'HDF5Array'
The following object is masked from 'package:rhdf5':
h5ls
[1] TRUE
> HDF5Array:::.test()
Loading required package: SummarizedExperiment
Loading required package: GenomicRanges
Loading required package: GenomeInfoDb
Loading required package: Biobase
Welcome to Bioconductor
Vignettes contain introductory material; view with
'browseVignettes()'. To cite Bioconductor, see
'citation("Biobase")', and for packages 'citation("pkgname")'.
Attaching package: 'Biobase'
The following object is masked from 'package:MatrixGenerics':
rowMedians
The following objects are masked from 'package:matrixStats':
anyMissing, rowMedians
RUNIT TEST PROTOCOL -- Tue Apr 11 02:24:31 2023
***********************************************
Number of test functions: 15
Number of errors: 0
Number of failures: 0
1 Test Suite :
HDF5Array RUnit Tests - 15 test functions, 0 errors, 0 failures
Number of test functions: 15
Number of errors: 0
Number of failures: 0
>
> proc.time()
user system elapsed
33.95 8.15 69.73
HDF5Array.Rcheck/HDF5Array-Ex.timings
| name | user | system | elapsed | |
| H5ADMatrix-class | 2.52 | 0.17 | 2.84 | |
| H5ADMatrixSeed-class | 0.12 | 0.00 | 0.13 | |
| H5File-class | 0.17 | 0.02 | 3.18 | |
| H5SparseMatrix-class | 0.14 | 0.02 | 0.15 | |
| H5SparseMatrixSeed-class | 0 | 0 | 0 | |
| HDF5Array-class | 2.56 | 0.18 | 3.75 | |
| HDF5ArraySeed-class | 0.13 | 0.00 | 0.13 | |
| ReshapedHDF5Array-class | 0.17 | 0.02 | 0.19 | |
| ReshapedHDF5ArraySeed-class | 0.08 | 0.01 | 0.09 | |
| TENxMatrix-class | 26.82 | 5.89 | 184.22 | |
| TENxMatrixSeed-class | 2.66 | 0.50 | 3.45 | |
| dump-management | 0.47 | 0.08 | 0.77 | |
| h5ls | 0.01 | 0.00 | 0.01 | |
| h5mread | 44.22 | 5.33 | 79.22 | |
| h5mread_from_reshaped | 0.25 | 0.06 | 0.36 | |
| h5writeDimnames | 0.86 | 0.11 | 1.24 | |
| saveHDF5SummarizedExperiment | 0.83 | 0.05 | 0.95 | |
| writeHDF5Array | 0.56 | 0.14 | 0.84 | |
| writeTENxMatrix | 17.00 | 1.11 | 19.32 | |