| Back to Multiple platform build/check report for BioC 3.16: simplified long | 
 | 
This page was generated on 2023-04-07 11:06:05 -0400 (Fri, 07 Apr 2023).
| Hostname | OS | Arch (*) | R version | Installed pkgs | 
|---|---|---|---|---|
| nebbiolo2 | Linux (Ubuntu 20.04.5 LTS) | x86_64 | 4.2.3 (2023-03-15) -- "Shortstop Beagle" | 4499 | 
| palomino4 | Windows Server 2022 Datacenter | x64 | 4.2.3 (2023-03-15 ucrt) -- "Shortstop Beagle" | 4279 | 
| lconway | macOS 12.5.1 Monterey | x86_64 | 4.2.3 (2023-03-15) -- "Shortstop Beagle" | 4307 | 
| Click on any hostname to see more info about the system (e.g. compilers) (*) as reported by 'uname -p', except on Windows and Mac OS X | ||||
| To the developers/maintainers of the GmicR package: - Please allow up to 24 hours (and sometimes 48 hours) for your latest push to git@git.bioconductor.org:packages/GmicR.git to reflect on this report. See How and When does the builder pull? When will my changes propagate? for more information. - Make sure to use the following settings in order to reproduce any error or warning you see on this page. | 
| Package 831/2183 | Hostname | OS / Arch | INSTALL | BUILD | CHECK | BUILD BIN | ||||||||
| GmicR 1.12.0  (landing page) Richard Virgen-Slane 
 | nebbiolo2 | Linux (Ubuntu 20.04.5 LTS) / x86_64 | OK | OK | WARNINGS |  | ||||||||
| palomino4 | Windows Server 2022 Datacenter / x64 | OK | OK | WARNINGS | OK |  | ||||||||
| lconway | macOS 12.5.1 Monterey / x86_64 | OK | OK | WARNINGS | OK |  | ||||||||
| Package: GmicR | 
| Version: 1.12.0 | 
| Command: rm -rf GmicR.buildbin-libdir && mkdir GmicR.buildbin-libdir && F:\biocbuild\bbs-3.16-bioc\R\bin\R.exe CMD INSTALL --build --library=GmicR.buildbin-libdir GmicR_1.12.0.tar.gz | 
| StartedAt: 2023-04-06 08:03:09 -0400 (Thu, 06 Apr 2023) | 
| EndedAt: 2023-04-06 08:03:41 -0400 (Thu, 06 Apr 2023) | 
| EllapsedTime: 31.8 seconds | 
| RetCode: 0 | 
| Status: OK | 
| PackageFile: GmicR_1.12.0.zip | 
| PackageFileSize: 3.452 MiB | 
############################################################################## ############################################################################## ### ### Running command: ### ### rm -rf GmicR.buildbin-libdir && mkdir GmicR.buildbin-libdir && F:\biocbuild\bbs-3.16-bioc\R\bin\R.exe CMD INSTALL --build --library=GmicR.buildbin-libdir GmicR_1.12.0.tar.gz ### ############################################################################## ############################################################################## * installing *source* package 'GmicR' ... ** using staged installation ** R ** inst ** byte-compile and prepare package for lazy loading Warning: replacing previous import 'ape::degree' by 'bnlearn::degree' when loading 'GmicR' ** help *** installing help indices ** building package indices ** installing vignettes ** testing if installed package can be loaded from temporary location Warning: replacing previous import 'ape::degree' by 'bnlearn::degree' when loading 'GmicR' ** testing if installed package can be loaded from final location Warning: replacing previous import 'ape::degree' by 'bnlearn::degree' when loading 'GmicR' ** testing if installed package keeps a record of temporary installation path * MD5 sums packaged installation of 'GmicR' as GmicR_1.12.0.zip * DONE (GmicR)