| Back to Multiple platform build/check report for BioC 3.16: simplified long |
|
This page was generated on 2023-04-12 11:06:09 -0400 (Wed, 12 Apr 2023).
| Hostname | OS | Arch (*) | R version | Installed pkgs |
|---|---|---|---|---|
| nebbiolo2 | Linux (Ubuntu 20.04.5 LTS) | x86_64 | 4.2.3 (2023-03-15) -- "Shortstop Beagle" | 4502 |
| palomino4 | Windows Server 2022 Datacenter | x64 | 4.2.3 (2023-03-15 ucrt) -- "Shortstop Beagle" | 4282 |
| lconway | macOS 12.5.1 Monterey | x86_64 | 4.2.3 (2023-03-15) -- "Shortstop Beagle" | 4310 |
| Click on any hostname to see more info about the system (e.g. compilers) (*) as reported by 'uname -p', except on Windows and Mac OS X | ||||
|
To the developers/maintainers of the GladiaTOX package: - Please allow up to 24 hours (and sometimes 48 hours) for your latest push to git@git.bioconductor.org:packages/GladiaTOX.git to reflect on this report. See How and When does the builder pull? When will my changes propagate? for more information. - Make sure to use the following settings in order to reproduce any error or warning you see on this page. |
| Package 823/2183 | Hostname | OS / Arch | INSTALL | BUILD | CHECK | BUILD BIN | ||||||||
| GladiaTOX 1.14.0 (landing page) PMP S.A. R Support
| nebbiolo2 | Linux (Ubuntu 20.04.5 LTS) / x86_64 | OK | OK | OK | |||||||||
| palomino4 | Windows Server 2022 Datacenter / x64 | OK | OK | OK | OK | |||||||||
| lconway | macOS 12.5.1 Monterey / x86_64 | OK | OK | OK | OK | |||||||||
| Package: GladiaTOX |
| Version: 1.14.0 |
| Command: /Library/Frameworks/R.framework/Resources/bin/R CMD check --install=check:GladiaTOX.install-out.txt --library=/Library/Frameworks/R.framework/Resources/library --no-vignettes --timings GladiaTOX_1.14.0.tar.gz |
| StartedAt: 2023-04-10 20:28:49 -0400 (Mon, 10 Apr 2023) |
| EndedAt: 2023-04-10 20:30:46 -0400 (Mon, 10 Apr 2023) |
| EllapsedTime: 116.8 seconds |
| RetCode: 0 |
| Status: OK |
| CheckDir: GladiaTOX.Rcheck |
| Warnings: 0 |
##############################################################################
##############################################################################
###
### Running command:
###
### /Library/Frameworks/R.framework/Resources/bin/R CMD check --install=check:GladiaTOX.install-out.txt --library=/Library/Frameworks/R.framework/Resources/library --no-vignettes --timings GladiaTOX_1.14.0.tar.gz
###
##############################################################################
##############################################################################
* using log directory ‘/Users/biocbuild/bbs-3.16-bioc/meat/GladiaTOX.Rcheck’
* using R version 4.2.3 (2023-03-15)
* using platform: x86_64-apple-darwin17.0 (64-bit)
* using session charset: UTF-8
* using option ‘--no-vignettes’
* checking for file ‘GladiaTOX/DESCRIPTION’ ... OK
* checking extension type ... Package
* this is package ‘GladiaTOX’ version ‘1.14.0’
* checking package namespace information ... OK
* checking package dependencies ... OK
* checking if this is a source package ... OK
* checking if there is a namespace ... OK
* checking for hidden files and directories ... OK
* checking for portable file names ... OK
* checking for sufficient/correct file permissions ... OK
* checking whether package ‘GladiaTOX’ can be installed ... OK
* checking installed package size ... NOTE
installed size is 5.3Mb
sub-directories of 1Mb or more:
sql 3.8Mb
* checking package directory ... OK
* checking ‘build’ directory ... OK
* checking DESCRIPTION meta-information ... OK
* checking top-level files ... OK
* checking for left-over files ... OK
* checking index information ... OK
* checking package subdirectories ... OK
* checking R files for non-ASCII characters ... OK
* checking R files for syntax errors ... OK
* checking whether the package can be loaded ... OK
* checking whether the package can be loaded with stated dependencies ... OK
* checking whether the package can be unloaded cleanly ... OK
* checking whether the namespace can be loaded with stated dependencies ... OK
* checking whether the namespace can be unloaded cleanly ... OK
* checking dependencies in R code ... OK
* checking S3 generic/method consistency ... OK
* checking replacement functions ... OK
* checking foreign function calls ... OK
* checking R code for possible problems ... NOTE
glCheckInput: no visible global function definition for ‘read.csv’
glLoadInput: no visible global function definition for ‘read.csv’
glPlotPosCtrlMEC: no visible binding for global variable ‘aenm_wrap’
glPlotPosCtrlMEC: no visible binding for global variable ‘modl_acc’
Undefined global functions or variables:
aenm_wrap modl_acc read.csv
Consider adding
importFrom("utils", "read.csv")
to your NAMESPACE file.
* checking Rd files ... OK
* checking Rd metadata ... OK
* checking Rd cross-references ... OK
* checking for missing documentation entries ... OK
* checking for code/documentation mismatches ... OK
* checking Rd \usage sections ... OK
* checking Rd contents ... OK
* checking for unstated dependencies in examples ... OK
* checking files in ‘vignettes’ ... OK
* checking examples ... OK
Examples with CPU (user + system) or elapsed time > 5s
user system elapsed
gtoxRun 21.857 15.621 19.036
assignDefaultMthds 20.473 10.540 16.434
* checking for unstated dependencies in ‘tests’ ... OK
* checking tests ...
Running ‘testthat.R’
OK
* checking for unstated dependencies in vignettes ... OK
* checking package vignettes in ‘inst/doc’ ... OK
* checking running R code from vignettes ... SKIPPED
* checking re-building of vignette outputs ... SKIPPED
* checking PDF version of manual ... OK
* DONE
Status: 2 NOTEs
See
‘/Users/biocbuild/bbs-3.16-bioc/meat/GladiaTOX.Rcheck/00check.log’
for details.
GladiaTOX.Rcheck/00install.out
############################################################################## ############################################################################## ### ### Running command: ### ### /Library/Frameworks/R.framework/Resources/bin/R CMD INSTALL GladiaTOX ### ############################################################################## ############################################################################## * installing to library ‘/Library/Frameworks/R.framework/Versions/4.2/Resources/library’ * installing *source* package ‘GladiaTOX’ ... ** using staged installation ** R ** inst ** byte-compile and prepare package for lazy loading ** help *** installing help indices ** building package indices ** installing vignettes ** testing if installed package can be loaded from temporary location ** testing if installed package can be loaded from final location ** testing if installed package keeps a record of temporary installation path * DONE (GladiaTOX)
GladiaTOX.Rcheck/tests/testthat.Rout
R version 4.2.3 (2023-03-15) -- "Shortstop Beagle"
Copyright (C) 2023 The R Foundation for Statistical Computing
Platform: x86_64-apple-darwin17.0 (64-bit)
R is free software and comes with ABSOLUTELY NO WARRANTY.
You are welcome to redistribute it under certain conditions.
Type 'license()' or 'licence()' for distribution details.
R is a collaborative project with many contributors.
Type 'contributors()' for more information and
'citation()' on how to cite R or R packages in publications.
Type 'demo()' for some demos, 'help()' for on-line help, or
'help.start()' for an HTML browser interface to help.
Type 'q()' to quit R.
> library(testthat)
> library(GladiaTOX)
Loading required package: data.table
GladiaTOX (v1.14.0) loaded with the following settings:
TCPL_DB: /Library/Frameworks/R.framework/Versions/4.2/Resources/library/GladiaTOX/sql/gladiatoxdb.sqlite
TCPL_USER: NA
TCPL_HOST: NA
TCPL_DRVR: SQLite
Default settings stored in gtox config file. See ?gtoxConf for more information.
>
> options(testthat.junit.output_file="tests-out.xml")
> test_dir("testthat")
✔ | F W S OK | Context
⠏ | 0 | assignDefaultMthds
⠋ | 1 | assignDefaultMthds
✔ | 1 | assignDefaultMthds [0.5s]
⠏ | 0 | exportResultTable
⠙ | 2 | exportResultTable
✔ | 2 | exportResultTable [0.2s]
⠏ | 0 | getsplit
⠏ | 0 | getsplit
✔ | 1 | getsplit
⠏ | 0 | glComputeToxInd
⠋ | 1 | glComputeToxInd
✔ | 1 | glComputeToxInd [0.2s]
⠏ | 0 | gtoxAICProb
✔ | 1 | gtoxAICProb
⠏ | 0 | gtoxCalcVmad
⠏ | 0 | Calculate Vmad
✔ | 1 | Calculate Vmad
⠏ | 0 | gtoxLoadAcid
⠏ | 0 | Check assay component table
⠙ | 2 | Check assay component table
✔ | 2 | Check assay component table [0.1s]
⠏ | 0 | gtoxLoadAeid
⠏ | 0 | Check assay endpoint table
✔ | 2 | Check assay endpoint table
⠏ | 0 | gtoxLoadAid
✔ | 1 | gtoxLoadAid
⠏ | 0 | gtoxLoadApid
⠏ | 0 | Check assay plate table
✔ | 2 | Check assay plate table
⠏ | 0 | gtoxLoadAsid
✔ | 3 | gtoxLoadAsid
⠏ | 0 | gtoxLoadChem
⠏ | 0 | Check assay chemical table
✔ | 3 | Check assay chemical table
⠏ | 0 | gtoxLoadWaid
⠏ | 0 | Check assay well table
✔ | 2 | Check assay well table
⠏ | 0 | is.odd
✔ | 2 | is.odd
⠏ | 0 | lu
✔ | 1 | lu
⠏ | 0 | lw
✔ | 1 | lw
⠏ | 0 | mc2
✔ | 1 | mc2
⠏ | 0 | mc3
✔ | 1 | mc3
⠏ | 0 | mc5
✔ | 1 | mc5
⠏ | 0 | mc6
✔ | 1 | mc6
⠏ | 0 | sc1
✔ | 1 | sc1
⠏ | 0 | sc2
✔ | 1 | sc2
══ Results ═════════════════════════════════════════════════════════════════════
Duration: 1.5 s
[ FAIL 0 | WARN 0 | SKIP 0 | PASS 32 ]
> test_check("GladiaTOX")
[ FAIL 0 | WARN 0 | SKIP 0 | PASS 32 ]
>
> proc.time()
user system elapsed
4.702 0.404 5.121
GladiaTOX.Rcheck/GladiaTOX-Ex.timings
| name | user | system | elapsed | |
| Models | 0.130 | 0.023 | 0.164 | |
| assay_funcs | 0.427 | 0.045 | 0.476 | |
| assignDefaultMthds | 20.473 | 10.540 | 16.434 | |
| buildAssayTab | 0.031 | 0.005 | 0.036 | |
| config_funcs | 0.005 | 0.002 | 0.007 | |
| deleteStudy | 0.000 | 0.000 | 0.001 | |
| exportResultForToxpiGUI | 0.305 | 0.043 | 0.349 | |
| exportResultTable | 0.127 | 0.009 | 0.136 | |
| glComputeToxInd | 0.275 | 0.020 | 0.295 | |
| glPlotPie | 1.666 | 0.048 | 1.716 | |
| glPlotPieLogo | 0.863 | 0.010 | 0.879 | |
| glPlotPosCtrl | 0.745 | 0.022 | 0.769 | |
| glPlotPosCtrlMEC | 0.374 | 0.032 | 0.405 | |
| glPlotStat | 0.645 | 0.013 | 0.659 | |
| glPlotToxInd | 0.436 | 0.017 | 0.454 | |
| gtoxAICProb | 0.001 | 0.000 | 0.001 | |
| gtoxAddModel | 0.369 | 0.011 | 0.381 | |
| gtoxCalcVmad | 0.025 | 0.003 | 0.027 | |
| gtoxCode2CASN | 0.001 | 0.001 | 0.001 | |
| gtoxFit | 0.276 | 0.002 | 0.279 | |
| gtoxImportThermoDB | 0.000 | 0.000 | 0.001 | |
| gtoxListFlds | 0.005 | 0.000 | 0.006 | |
| gtoxLoadApid | 0.007 | 0.002 | 0.010 | |
| gtoxLoadChem | 0.039 | 0.007 | 0.045 | |
| gtoxLoadClib | 0.004 | 0.000 | 0.005 | |
| gtoxLoadData | 0.062 | 0.006 | 0.070 | |
| gtoxLoadVehicle | 0.005 | 0.000 | 0.005 | |
| gtoxLoadVmad | 0.005 | 0.001 | 0.006 | |
| gtoxLoadWaid | 0.017 | 0.002 | 0.018 | |
| gtoxMakeAeidPlts | 0.345 | 0.038 | 0.412 | |
| gtoxPlotErrBar | 0.284 | 0.014 | 0.299 | |
| gtoxPlotFitc | 0.213 | 0.006 | 0.221 | |
| gtoxPlotFits | 0.158 | 0.012 | 0.171 | |
| gtoxPlotM4ID | 0.526 | 0.043 | 0.575 | |
| gtoxPlotPie | 0.124 | 0.009 | 0.133 | |
| gtoxPlotPieLgnd | 0.005 | 0.001 | 0.006 | |
| gtoxPlotPlate | 0.178 | 0.016 | 0.195 | |
| gtoxPlotWin | 0 | 0 | 0 | |
| gtoxPrepOtpt | 0.125 | 0.009 | 0.136 | |
| gtoxReport | 0.001 | 0.000 | 0.000 | |
| gtoxRun | 21.857 | 15.621 | 19.036 | |
| gtoxSetWllq | 0.079 | 0.022 | 0.103 | |
| gtoxSubsetChid | 0.097 | 0.013 | 0.109 | |
| gtoxWriteData | 0.000 | 0.001 | 0.001 | |
| hill_utils | 0.001 | 0.001 | 0.002 | |
| loadAnnot | 0 | 0 | 0 | |
| lu | 0.000 | 0.000 | 0.001 | |
| lw | 0 | 0 | 0 | |
| mthd_funcs | 0.013 | 0.003 | 0.016 | |
| prepareDatForDB | 0.000 | 0.000 | 0.001 | |
| query_funcs | 0.015 | 0.003 | 0.019 | |
| rgstr_funcs | 0.248 | 0.028 | 0.280 | |