| Back to Multiple platform build/check report for BioC 3.16: simplified long |
|
This page was generated on 2023-04-12 11:05:05 -0400 (Wed, 12 Apr 2023).
| Hostname | OS | Arch (*) | R version | Installed pkgs |
|---|---|---|---|---|
| nebbiolo2 | Linux (Ubuntu 20.04.5 LTS) | x86_64 | 4.2.3 (2023-03-15) -- "Shortstop Beagle" | 4502 |
| palomino4 | Windows Server 2022 Datacenter | x64 | 4.2.3 (2023-03-15 ucrt) -- "Shortstop Beagle" | 4282 |
| lconway | macOS 12.5.1 Monterey | x86_64 | 4.2.3 (2023-03-15) -- "Shortstop Beagle" | 4310 |
| Click on any hostname to see more info about the system (e.g. compilers) (*) as reported by 'uname -p', except on Windows and Mac OS X | ||||
|
To the developers/maintainers of the GeoDiff package: - Please allow up to 24 hours (and sometimes 48 hours) for your latest push to git@git.bioconductor.org:packages/GeoDiff.git to reflect on this report. See How and When does the builder pull? When will my changes propagate? for more information. - Make sure to use the following settings in order to reproduce any error or warning you see on this page. |
| Package 798/2183 | Hostname | OS / Arch | INSTALL | BUILD | CHECK | BUILD BIN | ||||||||
| GeoDiff 1.4.2 (landing page) Nicole Ortogero
| nebbiolo2 | Linux (Ubuntu 20.04.5 LTS) / x86_64 | OK | OK | OK | |||||||||
| palomino4 | Windows Server 2022 Datacenter / x64 | OK | OK | OK | OK | |||||||||
| lconway | macOS 12.5.1 Monterey / x86_64 | OK | OK | OK | OK | |||||||||
| Package: GeoDiff |
| Version: 1.4.2 |
| Command: /home/biocbuild/bbs-3.16-bioc/R/bin/R CMD check --install=check:GeoDiff.install-out.txt --library=/home/biocbuild/bbs-3.16-bioc/R/site-library --timings GeoDiff_1.4.2.tar.gz |
| StartedAt: 2023-04-10 20:56:52 -0400 (Mon, 10 Apr 2023) |
| EndedAt: 2023-04-10 21:03:53 -0400 (Mon, 10 Apr 2023) |
| EllapsedTime: 420.8 seconds |
| RetCode: 0 |
| Status: OK |
| CheckDir: GeoDiff.Rcheck |
| Warnings: 0 |
##############################################################################
##############################################################################
###
### Running command:
###
### /home/biocbuild/bbs-3.16-bioc/R/bin/R CMD check --install=check:GeoDiff.install-out.txt --library=/home/biocbuild/bbs-3.16-bioc/R/site-library --timings GeoDiff_1.4.2.tar.gz
###
##############################################################################
##############################################################################
* using log directory ‘/home/biocbuild/bbs-3.16-bioc/meat/GeoDiff.Rcheck’
* using R version 4.2.3 (2023-03-15)
* using platform: x86_64-pc-linux-gnu (64-bit)
* using session charset: UTF-8
* checking for file ‘GeoDiff/DESCRIPTION’ ... OK
* checking extension type ... Package
* this is package ‘GeoDiff’ version ‘1.4.2’
* package encoding: UTF-8
* checking package namespace information ... OK
* checking package dependencies ... OK
* checking if this is a source package ... OK
* checking if there is a namespace ... OK
* checking for hidden files and directories ... OK
* checking for portable file names ... OK
* checking for sufficient/correct file permissions ... OK
* checking whether package ‘GeoDiff’ can be installed ... OK
* checking installed package size ... NOTE
installed size is 16.8Mb
sub-directories of 1Mb or more:
data 4.2Mb
libs 12.3Mb
* checking package directory ... OK
* checking ‘build’ directory ... OK
* checking DESCRIPTION meta-information ... OK
* checking top-level files ... OK
* checking for left-over files ... OK
* checking index information ... OK
* checking package subdirectories ... OK
* checking R files for non-ASCII characters ... OK
* checking R files for syntax errors ... OK
* checking whether the package can be loaded ... OK
* checking whether the package can be loaded with stated dependencies ... OK
* checking whether the package can be unloaded cleanly ... OK
* checking whether the namespace can be loaded with stated dependencies ... OK
* checking whether the namespace can be unloaded cleanly ... OK
* checking loading without being on the library search path ... OK
* checking dependencies in R code ... OK
* checking S3 generic/method consistency ... OK
* checking replacement functions ... OK
* checking foreign function calls ... OK
* checking R code for possible problems ... OK
* checking Rd files ... OK
* checking Rd metadata ... OK
* checking Rd cross-references ... OK
* checking for missing documentation entries ... OK
* checking for code/documentation mismatches ... OK
* checking Rd \usage sections ... OK
* checking Rd contents ... OK
* checking for unstated dependencies in examples ... OK
* checking contents of ‘data’ directory ... OK
* checking data for non-ASCII characters ... OK
* checking data for ASCII and uncompressed saves ... OK
* checking line endings in C/C++/Fortran sources/headers ... OK
* checking line endings in Makefiles ... OK
* checking compilation flags in Makevars ... OK
* checking for GNU extensions in Makefiles ... OK
* checking for portable use of $(BLAS_LIBS) and $(LAPACK_LIBS) ... OK
* checking use of PKG_*FLAGS in Makefiles ... OK
* checking compiled code ... NOTE
Note: information on .o files is not available
* checking files in ‘vignettes’ ... OK
* checking examples ... OK
Examples with CPU (user + system) or elapsed time > 5s
user system elapsed
fitPoisthNorm-methods 49.828 0.208 50.037
fitNBthmDE-methods 14.970 0.100 14.993
fitNBthDE-methods 12.096 0.096 12.192
fitNBth-methods 8.523 0.104 8.628
QuanRange-methods 5.363 0.136 5.499
* checking for unstated dependencies in ‘tests’ ... OK
* checking tests ...
Running ‘testthat.R’
OK
* checking for unstated dependencies in vignettes ... OK
* checking package vignettes in ‘inst/doc’ ... OK
* checking running R code from vignettes ...
‘Workflow_WTA_kidney.Rmd’ using ‘UTF-8’... OK
NONE
* checking re-building of vignette outputs ... OK
* checking PDF version of manual ... OK
* DONE
Status: 2 NOTEs
See
‘/home/biocbuild/bbs-3.16-bioc/meat/GeoDiff.Rcheck/00check.log’
for details.
GeoDiff.Rcheck/00install.out
##############################################################################
##############################################################################
###
### Running command:
###
### /home/biocbuild/bbs-3.16-bioc/R/bin/R CMD INSTALL GeoDiff
###
##############################################################################
##############################################################################
* installing to library ‘/home/biocbuild/bbs-3.16-bioc/R/site-library’
* installing *source* package ‘GeoDiff’ ...
** using staged installation
** libs
g++ -std=gnu++11 -I"/home/biocbuild/bbs-3.16-bioc/R/include" -DNDEBUG -I'/home/biocbuild/bbs-3.16-bioc/R/site-library/Rcpp/include' -I'/home/biocbuild/bbs-3.16-bioc/R/site-library/RcppArmadillo/include' -I'/home/biocbuild/bbs-3.16-bioc/R/site-library/roptim/include' -I/usr/local/include -fopenmp -fpic -g -O2 -Wall -c NBthDEOptPara.cpp -o NBthDEOptPara.o
NBthDEOptPara.cpp: In member function ‘virtual double NBthDE_paranll::operator()(const vec&)’:
NBthDEOptPara.cpp:34:9: warning: unused variable ‘m’ [-Wunused-variable]
34 | int m = y.n_elem;
| ^
NBthDEOptPara.cpp: In member function ‘virtual void NBthDE_paranll::Gradient(const vec&, arma::vec&)’:
NBthDEOptPara.cpp:85:22: warning: comparison of integer expressions of different signedness: ‘int’ and ‘const uword’ {aka ‘const unsigned int’} [-Wsign-compare]
85 | for(int k = 0; k < y.n_elem; k++){
| ~~^~~~~~~~~~
NBthDEOptPara.cpp:58:9: warning: unused variable ‘m’ [-Wunused-variable]
58 | int m = y.n_elem;
| ^
g++ -std=gnu++11 -I"/home/biocbuild/bbs-3.16-bioc/R/include" -DNDEBUG -I'/home/biocbuild/bbs-3.16-bioc/R/site-library/Rcpp/include' -I'/home/biocbuild/bbs-3.16-bioc/R/site-library/RcppArmadillo/include' -I'/home/biocbuild/bbs-3.16-bioc/R/site-library/roptim/include' -I/usr/local/include -fopenmp -fpic -g -O2 -Wall -c NBthmDEGrad.cpp -o NBthmDEGrad.o
NBthmDEGrad.cpp: In function ‘arma::vec NBthmDE_grad(arma::vec&, arma::mat&, arma::mat&, arma::vec&, arma::vec&, arma::vec&, arma::vec&, arma::mat&, double, double)’:
NBthmDEGrad.cpp:34:20: warning: comparison of integer expressions of different signedness: ‘int’ and ‘const uword’ {aka ‘const unsigned int’} [-Wsign-compare]
34 | for(int i = 0; i < y.n_elem; i++){
| ~~^~~~~~~~~~
NBthmDEGrad.cpp: In function ‘arma::mat NBthmDE_gradM(arma::vec&, arma::mat&, arma::mat&, arma::vec&, arma::mat&, arma::vec&, arma::vec&, arma::mat&, double, double)’:
NBthmDEGrad.cpp:90:24: warning: comparison of integer expressions of different signedness: ‘int’ and ‘const uword’ {aka ‘const unsigned int’} [-Wsign-compare]
90 | for(int k = 0; k < y.n_elem; k++){
| ~~^~~~~~~~~~
g++ -std=gnu++11 -I"/home/biocbuild/bbs-3.16-bioc/R/include" -DNDEBUG -I'/home/biocbuild/bbs-3.16-bioc/R/site-library/Rcpp/include' -I'/home/biocbuild/bbs-3.16-bioc/R/site-library/RcppArmadillo/include' -I'/home/biocbuild/bbs-3.16-bioc/R/site-library/roptim/include' -I/usr/local/include -fopenmp -fpic -g -O2 -Wall -c NBthmDEMH.cpp -o NBthmDEMH.o
g++ -std=gnu++11 -I"/home/biocbuild/bbs-3.16-bioc/R/include" -DNDEBUG -I'/home/biocbuild/bbs-3.16-bioc/R/site-library/Rcpp/include' -I'/home/biocbuild/bbs-3.16-bioc/R/site-library/RcppArmadillo/include' -I'/home/biocbuild/bbs-3.16-bioc/R/site-library/roptim/include' -I/usr/local/include -fopenmp -fpic -g -O2 -Wall -c NBthmDEOptPara.cpp -o NBthmDEOptPara.o
NBthmDEOptPara.cpp: In member function ‘virtual void NBthmDE_fparanll::Gradient(const vec&, arma::vec&)’:
NBthmDEOptPara.cpp:107:24: warning: comparison of integer expressions of different signedness: ‘int’ and ‘const uword’ {aka ‘const unsigned int’} [-Wsign-compare]
107 | for(int k = 0; k < y.n_elem; k++){
| ~~^~~~~~~~~~
g++ -std=gnu++11 -I"/home/biocbuild/bbs-3.16-bioc/R/include" -DNDEBUG -I'/home/biocbuild/bbs-3.16-bioc/R/site-library/Rcpp/include' -I'/home/biocbuild/bbs-3.16-bioc/R/site-library/RcppArmadillo/include' -I'/home/biocbuild/bbs-3.16-bioc/R/site-library/roptim/include' -I/usr/local/include -fopenmp -fpic -g -O2 -Wall -c NBthmDEOptU.cpp -o NBthmDEOptU.o
g++ -std=gnu++11 -I"/home/biocbuild/bbs-3.16-bioc/R/include" -DNDEBUG -I'/home/biocbuild/bbs-3.16-bioc/R/site-library/Rcpp/include' -I'/home/biocbuild/bbs-3.16-bioc/R/site-library/RcppArmadillo/include' -I'/home/biocbuild/bbs-3.16-bioc/R/site-library/roptim/include' -I/usr/local/include -fopenmp -fpic -g -O2 -Wall -c PoisthNormOptPara.cpp -o PoisthNormOptPara.o
g++ -std=gnu++11 -I"/home/biocbuild/bbs-3.16-bioc/R/include" -DNDEBUG -I'/home/biocbuild/bbs-3.16-bioc/R/site-library/Rcpp/include' -I'/home/biocbuild/bbs-3.16-bioc/R/site-library/RcppArmadillo/include' -I'/home/biocbuild/bbs-3.16-bioc/R/site-library/roptim/include' -I/usr/local/include -fopenmp -fpic -g -O2 -Wall -c RcppExports.cpp -o RcppExports.o
g++ -std=gnu++11 -I"/home/biocbuild/bbs-3.16-bioc/R/include" -DNDEBUG -I'/home/biocbuild/bbs-3.16-bioc/R/site-library/Rcpp/include' -I'/home/biocbuild/bbs-3.16-bioc/R/site-library/RcppArmadillo/include' -I'/home/biocbuild/bbs-3.16-bioc/R/site-library/roptim/include' -I/usr/local/include -fopenmp -fpic -g -O2 -Wall -c dnbinom_mu_vec.cpp -o dnbinom_mu_vec.o
g++ -std=gnu++11 -shared -L/home/biocbuild/bbs-3.16-bioc/R/lib -L/usr/local/lib -o GeoDiff.so NBthDEOptPara.o NBthmDEGrad.o NBthmDEMH.o NBthmDEOptPara.o NBthmDEOptU.o PoisthNormOptPara.o RcppExports.o dnbinom_mu_vec.o -fopenmp -L/home/biocbuild/bbs-3.16-bioc/R/lib -lRlapack -L/home/biocbuild/bbs-3.16-bioc/R/lib -lRblas -lgfortran -lm -lquadmath -L/home/biocbuild/bbs-3.16-bioc/R/lib -lR
installing to /home/biocbuild/bbs-3.16-bioc/R/site-library/00LOCK-GeoDiff/00new/GeoDiff/libs
** R
** data
** byte-compile and prepare package for lazy loading
** help
*** installing help indices
** building package indices
** installing vignettes
** testing if installed package can be loaded from temporary location
** checking absolute paths in shared objects and dynamic libraries
** testing if installed package can be loaded from final location
** testing if installed package keeps a record of temporary installation path
* DONE (GeoDiff)
GeoDiff.Rcheck/tests/testthat.Rout
R version 4.2.3 (2023-03-15) -- "Shortstop Beagle"
Copyright (C) 2023 The R Foundation for Statistical Computing
Platform: x86_64-pc-linux-gnu (64-bit)
R is free software and comes with ABSOLUTELY NO WARRANTY.
You are welcome to redistribute it under certain conditions.
Type 'license()' or 'licence()' for distribution details.
R is a collaborative project with many contributors.
Type 'contributors()' for more information and
'citation()' on how to cite R or R packages in publications.
Type 'demo()' for some demos, 'help()' for on-line help, or
'help.start()' for an HTML browser interface to help.
Type 'q()' to quit R.
> library(testthat)
> library(GeoDiff)
Loading required package: Biobase
Loading required package: BiocGenerics
Attaching package: 'BiocGenerics'
The following objects are masked from 'package:stats':
IQR, mad, sd, var, xtabs
The following objects are masked from 'package:base':
Filter, Find, Map, Position, Reduce, anyDuplicated, aperm, append,
as.data.frame, basename, cbind, colnames, dirname, do.call,
duplicated, eval, evalq, get, grep, grepl, intersect, is.unsorted,
lapply, mapply, match, mget, order, paste, pmax, pmax.int, pmin,
pmin.int, rank, rbind, rownames, sapply, setdiff, sort, table,
tapply, union, unique, unsplit, which.max, which.min
Welcome to Bioconductor
Vignettes contain introductory material; view with
'browseVignettes()'. To cite Bioconductor, see
'citation("Biobase")', and for packages 'citation("pkgname")'.
> library(Biobase)
>
> proc.time()
user system elapsed
6.993 0.381 7.360
GeoDiff.Rcheck/GeoDiff-Ex.timings
| name | user | system | elapsed | |
| BGScoreTest-methods | 3.449 | 0.100 | 3.549 | |
| DENBth-methods | 0.006 | 0.000 | 0.006 | |
| NBthDEmod2 | 0.053 | 0.000 | 0.053 | |
| NBthmDEmod2 | 0.004 | 0.000 | 0.004 | |
| NBthmDEmod2slope | 0.005 | 0.000 | 0.005 | |
| QuanRange-methods | 5.363 | 0.136 | 5.499 | |
| aggreprobe-methods | 1.481 | 0.000 | 1.481 | |
| coefNBth-methods | 0.028 | 0.000 | 0.028 | |
| contrastNBth-methods | 0.006 | 0.000 | 0.006 | |
| demoData | 0.281 | 0.004 | 0.285 | |
| diagPoisBG-methods | 1.464 | 0.048 | 1.512 | |
| fitNBth-methods | 8.523 | 0.104 | 8.628 | |
| fitNBthDE-methods | 12.096 | 0.096 | 12.192 | |
| fitNBthmDE-methods | 14.970 | 0.100 | 14.993 | |
| fitPoisBG-methods | 0.626 | 0.008 | 0.634 | |
| fitPoisthNorm-methods | 49.828 | 0.208 | 50.037 | |
| kidney | 0.476 | 0.031 | 0.508 | |