| Back to Multiple platform build/check report for BioC 3.16: simplified long |
|
This page was generated on 2023-04-12 11:05:05 -0400 (Wed, 12 Apr 2023).
| Hostname | OS | Arch (*) | R version | Installed pkgs |
|---|---|---|---|---|
| nebbiolo2 | Linux (Ubuntu 20.04.5 LTS) | x86_64 | 4.2.3 (2023-03-15) -- "Shortstop Beagle" | 4502 |
| palomino4 | Windows Server 2022 Datacenter | x64 | 4.2.3 (2023-03-15 ucrt) -- "Shortstop Beagle" | 4282 |
| lconway | macOS 12.5.1 Monterey | x86_64 | 4.2.3 (2023-03-15) -- "Shortstop Beagle" | 4310 |
| Click on any hostname to see more info about the system (e.g. compilers) (*) as reported by 'uname -p', except on Windows and Mac OS X | ||||
|
To the developers/maintainers of the GenomicAlignments package: - Please allow up to 24 hours (and sometimes 48 hours) for your latest push to git@git.bioconductor.org:packages/GenomicAlignments.git to reflect on this report. See How and When does the builder pull? When will my changes propagate? for more information. - Make sure to use the following settings in order to reproduce any error or warning you see on this page. |
| Package 782/2183 | Hostname | OS / Arch | INSTALL | BUILD | CHECK | BUILD BIN | ||||||||
| GenomicAlignments 1.34.1 (landing page) Hervé Pagès
| nebbiolo2 | Linux (Ubuntu 20.04.5 LTS) / x86_64 | OK | OK | OK | |||||||||
| palomino4 | Windows Server 2022 Datacenter / x64 | OK | OK | OK | OK | |||||||||
| lconway | macOS 12.5.1 Monterey / x86_64 | OK | OK | OK | OK | |||||||||
| Package: GenomicAlignments |
| Version: 1.34.1 |
| Command: /home/biocbuild/bbs-3.16-bioc/R/bin/R CMD check --install=check:GenomicAlignments.install-out.txt --library=/home/biocbuild/bbs-3.16-bioc/R/site-library --timings GenomicAlignments_1.34.1.tar.gz |
| StartedAt: 2023-04-10 20:55:17 -0400 (Mon, 10 Apr 2023) |
| EndedAt: 2023-04-10 21:02:25 -0400 (Mon, 10 Apr 2023) |
| EllapsedTime: 427.8 seconds |
| RetCode: 0 |
| Status: OK |
| CheckDir: GenomicAlignments.Rcheck |
| Warnings: 0 |
##############################################################################
##############################################################################
###
### Running command:
###
### /home/biocbuild/bbs-3.16-bioc/R/bin/R CMD check --install=check:GenomicAlignments.install-out.txt --library=/home/biocbuild/bbs-3.16-bioc/R/site-library --timings GenomicAlignments_1.34.1.tar.gz
###
##############################################################################
##############################################################################
* using log directory ‘/home/biocbuild/bbs-3.16-bioc/meat/GenomicAlignments.Rcheck’
* using R version 4.2.3 (2023-03-15)
* using platform: x86_64-pc-linux-gnu (64-bit)
* using session charset: UTF-8
* checking for file ‘GenomicAlignments/DESCRIPTION’ ... OK
* this is package ‘GenomicAlignments’ version ‘1.34.1’
* package encoding: UTF-8
* checking package namespace information ... OK
* checking package dependencies ... NOTE
Depends: includes the non-default packages:
'BiocGenerics', 'S4Vectors', 'IRanges', 'GenomeInfoDb',
'GenomicRanges', 'SummarizedExperiment', 'Biostrings', 'Rsamtools'
Adding so many packages to the search path is excessive and importing
selectively is preferable.
* checking if this is a source package ... OK
* checking if there is a namespace ... OK
* checking for hidden files and directories ... OK
* checking for portable file names ... OK
* checking for sufficient/correct file permissions ... OK
* checking whether package ‘GenomicAlignments’ can be installed ... OK
* checking installed package size ... OK
* checking package directory ... OK
* checking ‘build’ directory ... OK
* checking DESCRIPTION meta-information ... NOTE
Packages listed in more than one of Depends, Imports, Suggests, Enhances:
‘methods’ ‘BiocGenerics’ ‘S4Vectors’ ‘IRanges’ ‘GenomicRanges’ ‘Biostrings’ ‘Rsamtools’
A package should be listed in only one of these fields.
* checking top-level files ... OK
* checking for left-over files ... OK
* checking index information ... OK
* checking package subdirectories ... OK
* checking R files for non-ASCII characters ... OK
* checking R files for syntax errors ... OK
* checking whether the package can be loaded ... OK
* checking whether the package can be loaded with stated dependencies ... OK
* checking whether the package can be unloaded cleanly ... OK
* checking whether the namespace can be loaded with stated dependencies ... OK
* checking whether the namespace can be unloaded cleanly ... OK
* checking loading without being on the library search path ... OK
* checking dependencies in R code ... NOTE
':::' calls which should be '::':
‘S4Vectors:::makeClassinfoRowForCompactPrinting’
‘S4Vectors:::makePrettyMatrixForCompactPrinting’
See the note in ?`:::` about the use of this operator.
Unexported objects imported by ':::' calls:
‘Biostrings:::.normarg_padding.letter’
‘Rsamtools:::.BamViews_delegate’ ‘Rsamtools:::.findMateWithinGroups’
‘Rsamtools:::.load_bamcols_from_scanBam_res’
See the note in ?`:::` about the use of this operator.
* checking S3 generic/method consistency ... OK
* checking replacement functions ... OK
* checking foreign function calls ... OK
* checking R code for possible problems ... OK
* checking Rd files ... OK
* checking Rd metadata ... OK
* checking Rd cross-references ... OK
* checking for missing documentation entries ... OK
* checking for code/documentation mismatches ... OK
* checking Rd \usage sections ... OK
* checking Rd contents ... OK
* checking for unstated dependencies in examples ... OK
* checking line endings in C/C++/Fortran sources/headers ... OK
* checking compiled code ... NOTE
Note: information on .o files is not available
* checking files in ‘vignettes’ ... OK
* checking examples ... OK
Examples with CPU (user + system) or elapsed time > 5s
user system elapsed
junctions-methods 13.825 0.319 14.149
readGAlignments 11.438 0.405 11.801
summarizeOverlaps-methods 6.474 1.889 7.724
coordinate-mapping-methods 7.886 0.108 7.994
sequenceLayer 5.340 0.348 5.688
* checking for unstated dependencies in ‘tests’ ... OK
* checking tests ...
Running ‘run_unitTests.R’
OK
* checking for unstated dependencies in vignettes ... OK
* checking package vignettes in ‘inst/doc’ ... OK
* checking running R code from vignettes ...
‘GenomicAlignmentsIntroduction.Rnw’ using ‘UTF-8’... OK
‘OverlapEncodings.Rnw’ using ‘UTF-8’... OK
‘WorkingWithAlignedNucleotides.Rnw’ using ‘UTF-8’... OK
‘summarizeOverlaps.Rnw’ using ‘UTF-8’... OK
OK
* checking re-building of vignette outputs ... OK
* checking PDF version of manual ... OK
* DONE
Status: 4 NOTEs
See
‘/home/biocbuild/bbs-3.16-bioc/meat/GenomicAlignments.Rcheck/00check.log’
for details.
GenomicAlignments.Rcheck/00install.out
##############################################################################
##############################################################################
###
### Running command:
###
### /home/biocbuild/bbs-3.16-bioc/R/bin/R CMD INSTALL GenomicAlignments
###
##############################################################################
##############################################################################
* installing to library ‘/home/biocbuild/bbs-3.16-bioc/R/site-library’
* installing *source* package ‘GenomicAlignments’ ...
** using staged installation
** libs
gcc -I"/home/biocbuild/bbs-3.16-bioc/R/include" -DNDEBUG -I'/home/biocbuild/bbs-3.16-bioc/R/site-library/S4Vectors/include' -I'/home/biocbuild/bbs-3.16-bioc/R/site-library/IRanges/include' -I/usr/local/include -fpic -g -O2 -Wall -c IRanges_stubs.c -o IRanges_stubs.o
gcc -I"/home/biocbuild/bbs-3.16-bioc/R/include" -DNDEBUG -I'/home/biocbuild/bbs-3.16-bioc/R/site-library/S4Vectors/include' -I'/home/biocbuild/bbs-3.16-bioc/R/site-library/IRanges/include' -I/usr/local/include -fpic -g -O2 -Wall -c R_init_GenomicAlignments.c -o R_init_GenomicAlignments.o
gcc -I"/home/biocbuild/bbs-3.16-bioc/R/include" -DNDEBUG -I'/home/biocbuild/bbs-3.16-bioc/R/site-library/S4Vectors/include' -I'/home/biocbuild/bbs-3.16-bioc/R/site-library/IRanges/include' -I/usr/local/include -fpic -g -O2 -Wall -c S4Vectors_stubs.c -o S4Vectors_stubs.o
gcc -I"/home/biocbuild/bbs-3.16-bioc/R/include" -DNDEBUG -I'/home/biocbuild/bbs-3.16-bioc/R/site-library/S4Vectors/include' -I'/home/biocbuild/bbs-3.16-bioc/R/site-library/IRanges/include' -I/usr/local/include -fpic -g -O2 -Wall -c cigar_utils.c -o cigar_utils.o
cigar_utils.c: In function ‘cigar_ranges’:
cigar_utils.c:676:9: warning: ‘f_elt’ may be used uninitialized in this function [-Wmaybe-uninitialized]
676 | f_elt++;
| ~~~~~^~
cigar_utils.c:674:22: warning: ‘range_buf1’ may be used uninitialized in this function [-Wmaybe-uninitialized]
674 | *(breakpoint++) = IntPairAE_get_nelt(range_buf1);
| ^~~~~~~~~~~~~~~~~~~~~~~~~~~~~~
cigar_utils.c:674:16: warning: ‘breakpoint’ may be used uninitialized in this function [-Wmaybe-uninitialized]
674 | *(breakpoint++) = IntPairAE_get_nelt(range_buf1);
| ~~~~~~~~~~~^~~
cigar_utils.c:626:8: warning: ‘flag_elt’ may be used uninitialized in this function [-Wmaybe-uninitialized]
626 | if (*flag_elt == NA_INTEGER) {
| ^~~~~~~~~
cigar_utils.c: In function ‘cigar_width’:
cigar_utils.c:708:8: warning: ‘flag_elt’ may be used uninitialized in this function [-Wmaybe-uninitialized]
708 | if (*flag_elt == NA_INTEGER) {
| ^~~~~~~~~
cigar_utils.c: In function ‘cigar_narrow’:
cigar_utils.c:883:6: warning: ‘Roffset’ may be used uninitialized in this function [-Wmaybe-uninitialized]
883 | if (offset == Roffset)
| ^
cigar_utils.c:854:15: note: ‘Roffset’ was declared here
854 | int Loffset, Roffset, buf_offset;
| ^~~~~~~
cigar_utils.c:881:6: warning: ‘Loffset’ may be used uninitialized in this function [-Wmaybe-uninitialized]
881 | if (offset == Loffset)
| ^
cigar_utils.c:854:6: note: ‘Loffset’ was declared here
854 | int Loffset, Roffset, buf_offset;
| ^~~~~~~
cigar_utils.c: In function ‘cigar_qnarrow’:
cigar_utils.c:1074:6: warning: ‘Roffset’ may be used uninitialized in this function [-Wmaybe-uninitialized]
1074 | if (offset == Roffset)
| ^
cigar_utils.c:1045:15: note: ‘Roffset’ was declared here
1045 | int Loffset, Roffset, buf_offset;
| ^~~~~~~
cigar_utils.c:1072:6: warning: ‘Loffset’ may be used uninitialized in this function [-Wmaybe-uninitialized]
1072 | if (offset == Loffset)
| ^
cigar_utils.c:1045:6: note: ‘Loffset’ was declared here
1045 | int Loffset, Roffset, buf_offset;
| ^~~~~~~
gcc -I"/home/biocbuild/bbs-3.16-bioc/R/include" -DNDEBUG -I'/home/biocbuild/bbs-3.16-bioc/R/site-library/S4Vectors/include' -I'/home/biocbuild/bbs-3.16-bioc/R/site-library/IRanges/include' -I/usr/local/include -fpic -g -O2 -Wall -c coordinate_mapping_methods.c -o coordinate_mapping_methods.o
gcc -I"/home/biocbuild/bbs-3.16-bioc/R/include" -DNDEBUG -I'/home/biocbuild/bbs-3.16-bioc/R/site-library/S4Vectors/include' -I'/home/biocbuild/bbs-3.16-bioc/R/site-library/IRanges/include' -I/usr/local/include -fpic -g -O2 -Wall -c encodeOverlaps_methods.c -o encodeOverlaps_methods.o
encodeOverlaps_methods.c: In function ‘overlap_encoding’:
encodeOverlaps_methods.c:180:33: warning: ‘out_nelt0’ may be used uninitialized in this function [-Wmaybe-uninitialized]
180 | CharAE_set_nelt(out, out_nelt0 + j2 * nrow);
| ~~~~~~~~~~^~~~~~~~~~~
encodeOverlaps_methods.c:99:6: note: ‘out_nelt0’ was declared here
99 | int out_nelt0, i, starti, widthi, spacei, j, startj, widthj, spacej,
| ^~~~~~~~~
gcc -shared -L/home/biocbuild/bbs-3.16-bioc/R/lib -L/usr/local/lib -o GenomicAlignments.so IRanges_stubs.o R_init_GenomicAlignments.o S4Vectors_stubs.o cigar_utils.o coordinate_mapping_methods.o encodeOverlaps_methods.o -L/home/biocbuild/bbs-3.16-bioc/R/lib -lR
installing to /home/biocbuild/bbs-3.16-bioc/R/site-library/00LOCK-GenomicAlignments/00new/GenomicAlignments/libs
** R
** inst
** byte-compile and prepare package for lazy loading
** help
*** installing help indices
** building package indices
** installing vignettes
** testing if installed package can be loaded from temporary location
** checking absolute paths in shared objects and dynamic libraries
** testing if installed package can be loaded from final location
** testing if installed package keeps a record of temporary installation path
* DONE (GenomicAlignments)
GenomicAlignments.Rcheck/tests/run_unitTests.Rout
R version 4.2.3 (2023-03-15) -- "Shortstop Beagle"
Copyright (C) 2023 The R Foundation for Statistical Computing
Platform: x86_64-pc-linux-gnu (64-bit)
R is free software and comes with ABSOLUTELY NO WARRANTY.
You are welcome to redistribute it under certain conditions.
Type 'license()' or 'licence()' for distribution details.
R is a collaborative project with many contributors.
Type 'contributors()' for more information and
'citation()' on how to cite R or R packages in publications.
Type 'demo()' for some demos, 'help()' for on-line help, or
'help.start()' for an HTML browser interface to help.
Type 'q()' to quit R.
> require("GenomicAlignments") || stop("unable to load GenomicRanges package")
Loading required package: GenomicAlignments
Loading required package: BiocGenerics
Attaching package: 'BiocGenerics'
The following objects are masked from 'package:stats':
IQR, mad, sd, var, xtabs
The following objects are masked from 'package:base':
Filter, Find, Map, Position, Reduce, anyDuplicated, aperm, append,
as.data.frame, basename, cbind, colnames, dirname, do.call,
duplicated, eval, evalq, get, grep, grepl, intersect, is.unsorted,
lapply, mapply, match, mget, order, paste, pmax, pmax.int, pmin,
pmin.int, rank, rbind, rownames, sapply, setdiff, sort, table,
tapply, union, unique, unsplit, which.max, which.min
Loading required package: S4Vectors
Loading required package: stats4
Attaching package: 'S4Vectors'
The following objects are masked from 'package:base':
I, expand.grid, unname
Loading required package: IRanges
Loading required package: GenomeInfoDb
Loading required package: GenomicRanges
Loading required package: SummarizedExperiment
Loading required package: MatrixGenerics
Loading required package: matrixStats
Attaching package: 'MatrixGenerics'
The following objects are masked from 'package:matrixStats':
colAlls, colAnyNAs, colAnys, colAvgsPerRowSet, colCollapse,
colCounts, colCummaxs, colCummins, colCumprods, colCumsums,
colDiffs, colIQRDiffs, colIQRs, colLogSumExps, colMadDiffs,
colMads, colMaxs, colMeans2, colMedians, colMins, colOrderStats,
colProds, colQuantiles, colRanges, colRanks, colSdDiffs, colSds,
colSums2, colTabulates, colVarDiffs, colVars, colWeightedMads,
colWeightedMeans, colWeightedMedians, colWeightedSds,
colWeightedVars, rowAlls, rowAnyNAs, rowAnys, rowAvgsPerColSet,
rowCollapse, rowCounts, rowCummaxs, rowCummins, rowCumprods,
rowCumsums, rowDiffs, rowIQRDiffs, rowIQRs, rowLogSumExps,
rowMadDiffs, rowMads, rowMaxs, rowMeans2, rowMedians, rowMins,
rowOrderStats, rowProds, rowQuantiles, rowRanges, rowRanks,
rowSdDiffs, rowSds, rowSums2, rowTabulates, rowVarDiffs, rowVars,
rowWeightedMads, rowWeightedMeans, rowWeightedMedians,
rowWeightedSds, rowWeightedVars
Loading required package: Biobase
Welcome to Bioconductor
Vignettes contain introductory material; view with
'browseVignettes()'. To cite Bioconductor, see
'citation("Biobase")', and for packages 'citation("pkgname")'.
Attaching package: 'Biobase'
The following object is masked from 'package:MatrixGenerics':
rowMedians
The following objects are masked from 'package:matrixStats':
anyMissing, rowMedians
Loading required package: Biostrings
Loading required package: XVector
Attaching package: 'Biostrings'
The following object is masked from 'package:base':
strsplit
Loading required package: Rsamtools
[1] TRUE
> GenomicAlignments:::.test()
RUNIT TEST PROTOCOL -- Mon Apr 10 20:59:35 2023
***********************************************
Number of test functions: 42
Number of errors: 0
Number of failures: 0
1 Test Suite :
GenomicAlignments RUnit Tests - 42 test functions, 0 errors, 0 failures
Number of test functions: 42
Number of errors: 0
Number of failures: 0
Warning message:
In .make_GAlignmentPairs_from_GAlignments(gal, strandMode = strandMode, :
4 alignments with ambiguous pairing were dumped.
Use 'getDumpedAlignments()' to retrieve them from the dump environment.
>
> proc.time()
user system elapsed
24.391 1.594 25.607
GenomicAlignments.Rcheck/GenomicAlignments-Ex.timings
| name | user | system | elapsed | |
| GAlignmentPairs-class | 0.807 | 0.053 | 0.859 | |
| GAlignments-class | 0.368 | 0.020 | 0.387 | |
| GAlignmentsList-class | 2.545 | 0.052 | 2.598 | |
| GappedReads-class | 0.087 | 0.000 | 0.087 | |
| OverlapEncodings-class | 0.934 | 0.000 | 0.934 | |
| cigar-utils | 0.167 | 0.004 | 0.170 | |
| coordinate-mapping-methods | 7.886 | 0.108 | 7.994 | |
| coverage-methods | 2.698 | 0.044 | 2.743 | |
| encodeOverlaps-methods | 0.027 | 0.000 | 0.027 | |
| findCompatibleOverlaps-methods | 0.899 | 0.000 | 0.899 | |
| findMateAlignment | 0.116 | 0.000 | 0.116 | |
| findOverlaps-methods | 0.408 | 0.000 | 0.407 | |
| findSpliceOverlaps-methods | 4.212 | 0.096 | 4.310 | |
| intra-range-methods | 0.308 | 0.008 | 0.316 | |
| junctions-methods | 13.825 | 0.319 | 14.149 | |
| pileLettersAt | 0.537 | 0.000 | 0.537 | |
| readGAlignments | 11.438 | 0.405 | 11.801 | |
| sequenceLayer | 5.340 | 0.348 | 5.688 | |
| setops-methods | 0.117 | 0.000 | 0.118 | |
| stackStringsFromGAlignments | 4.585 | 0.084 | 4.671 | |
| summarizeOverlaps-methods | 6.474 | 1.889 | 7.724 | |