| Back to Multiple platform build/check report for BioC 3.16: simplified long |
|
This page was generated on 2023-04-12 11:06:09 -0400 (Wed, 12 Apr 2023).
| Hostname | OS | Arch (*) | R version | Installed pkgs |
|---|---|---|---|---|
| nebbiolo2 | Linux (Ubuntu 20.04.5 LTS) | x86_64 | 4.2.3 (2023-03-15) -- "Shortstop Beagle" | 4502 |
| palomino4 | Windows Server 2022 Datacenter | x64 | 4.2.3 (2023-03-15 ucrt) -- "Shortstop Beagle" | 4282 |
| lconway | macOS 12.5.1 Monterey | x86_64 | 4.2.3 (2023-03-15) -- "Shortstop Beagle" | 4310 |
| Click on any hostname to see more info about the system (e.g. compilers) (*) as reported by 'uname -p', except on Windows and Mac OS X | ||||
|
To the developers/maintainers of the GenomeInfoDb package: - Please allow up to 24 hours (and sometimes 48 hours) for your latest push to git@git.bioconductor.org:packages/GenomeInfoDb.git to reflect on this report. See How and When does the builder pull? When will my changes propagate? for more information. - Make sure to use the following settings in order to reproduce any error or warning you see on this page. |
| Package 779/2183 | Hostname | OS / Arch | INSTALL | BUILD | CHECK | BUILD BIN | ||||||||
| GenomeInfoDb 1.34.9 (landing page) Hervé Pagès
| nebbiolo2 | Linux (Ubuntu 20.04.5 LTS) / x86_64 | OK | OK | OK | |||||||||
| palomino4 | Windows Server 2022 Datacenter / x64 | OK | OK | OK | OK | |||||||||
| lconway | macOS 12.5.1 Monterey / x86_64 | OK | OK | OK | OK | |||||||||
| Package: GenomeInfoDb |
| Version: 1.34.9 |
| Command: /Library/Frameworks/R.framework/Resources/bin/R CMD check --install=check:GenomeInfoDb.install-out.txt --library=/Library/Frameworks/R.framework/Resources/library --no-vignettes --timings GenomeInfoDb_1.34.9.tar.gz |
| StartedAt: 2023-04-10 20:23:02 -0400 (Mon, 10 Apr 2023) |
| EndedAt: 2023-04-10 20:32:37 -0400 (Mon, 10 Apr 2023) |
| EllapsedTime: 574.3 seconds |
| RetCode: 0 |
| Status: OK |
| CheckDir: GenomeInfoDb.Rcheck |
| Warnings: 0 |
##############################################################################
##############################################################################
###
### Running command:
###
### /Library/Frameworks/R.framework/Resources/bin/R CMD check --install=check:GenomeInfoDb.install-out.txt --library=/Library/Frameworks/R.framework/Resources/library --no-vignettes --timings GenomeInfoDb_1.34.9.tar.gz
###
##############################################################################
##############################################################################
* using log directory ‘/Users/biocbuild/bbs-3.16-bioc/meat/GenomeInfoDb.Rcheck’
* using R version 4.2.3 (2023-03-15)
* using platform: x86_64-apple-darwin17.0 (64-bit)
* using session charset: UTF-8
* using option ‘--no-vignettes’
* checking for file ‘GenomeInfoDb/DESCRIPTION’ ... OK
* this is package ‘GenomeInfoDb’ version ‘1.34.9’
* package encoding: UTF-8
* checking package namespace information ... OK
* checking package dependencies ... OK
* checking if this is a source package ... OK
* checking if there is a namespace ... OK
* checking for hidden files and directories ... OK
* checking for portable file names ... OK
* checking for sufficient/correct file permissions ... OK
* checking whether package ‘GenomeInfoDb’ can be installed ... OK
* checking installed package size ... NOTE
installed size is 5.2Mb
sub-directories of 1Mb or more:
extdata 3.7Mb
* checking package directory ... OK
* checking ‘build’ directory ... OK
* checking DESCRIPTION meta-information ... OK
* checking top-level files ... OK
* checking for left-over files ... OK
* checking index information ... OK
* checking package subdirectories ... OK
* checking R files for non-ASCII characters ... OK
* checking R files for syntax errors ... OK
* checking whether the package can be loaded ... OK
* checking whether the package can be loaded with stated dependencies ... OK
* checking whether the package can be unloaded cleanly ... OK
* checking whether the namespace can be loaded with stated dependencies ... OK
* checking whether the namespace can be unloaded cleanly ... OK
* checking dependencies in R code ... NOTE
Unexported object imported by a ':::' call: ‘utils:::.roman2numeric’
See the note in ?`:::` about the use of this operator.
* checking S3 generic/method consistency ... OK
* checking replacement functions ... OK
* checking foreign function calls ... OK
* checking R code for possible problems ... OK
* checking Rd files ... OK
* checking Rd metadata ... OK
* checking Rd cross-references ... OK
* checking for missing documentation entries ... OK
* checking for code/documentation mismatches ... OK
* checking Rd \usage sections ... OK
* checking Rd contents ... OK
* checking for unstated dependencies in examples ... OK
* checking sizes of PDF files under ‘inst/doc’ ... OK
* checking files in ‘vignettes’ ... OK
* checking examples ... OK
Examples with CPU (user + system) or elapsed time > 5s
user system elapsed
loadTaxonomyDb 9.598 0.139 9.766
GenomeDescription-class 7.305 0.274 7.603
seqlevelsStyle 3.182 0.271 5.982
getChromInfoFromEnsembl 0.483 0.113 34.127
* checking for unstated dependencies in ‘tests’ ... OK
* checking tests ...
Running ‘run_unitTests.R’
OK
* checking for unstated dependencies in vignettes ... OK
* checking package vignettes in ‘inst/doc’ ... OK
* checking running R code from vignettes ... SKIPPED
* checking re-building of vignette outputs ... SKIPPED
* checking PDF version of manual ... OK
* DONE
Status: 2 NOTEs
See
‘/Users/biocbuild/bbs-3.16-bioc/meat/GenomeInfoDb.Rcheck/00check.log’
for details.
GenomeInfoDb.Rcheck/00install.out
############################################################################## ############################################################################## ### ### Running command: ### ### /Library/Frameworks/R.framework/Resources/bin/R CMD INSTALL GenomeInfoDb ### ############################################################################## ############################################################################## * installing to library ‘/Library/Frameworks/R.framework/Versions/4.2/Resources/library’ * installing *source* package ‘GenomeInfoDb’ ... ** using staged installation ** R ** inst ** byte-compile and prepare package for lazy loading ** help *** installing help indices ** building package indices ** installing vignettes ** testing if installed package can be loaded from temporary location ** testing if installed package can be loaded from final location ** testing if installed package keeps a record of temporary installation path * DONE (GenomeInfoDb)
GenomeInfoDb.Rcheck/tests/run_unitTests.Rout
R version 4.2.3 (2023-03-15) -- "Shortstop Beagle"
Copyright (C) 2023 The R Foundation for Statistical Computing
Platform: x86_64-apple-darwin17.0 (64-bit)
R is free software and comes with ABSOLUTELY NO WARRANTY.
You are welcome to redistribute it under certain conditions.
Type 'license()' or 'licence()' for distribution details.
R is a collaborative project with many contributors.
Type 'contributors()' for more information and
'citation()' on how to cite R or R packages in publications.
Type 'demo()' for some demos, 'help()' for on-line help, or
'help.start()' for an HTML browser interface to help.
Type 'q()' to quit R.
> require("GenomeInfoDb") || stop("unable to load GenomeInfoDb package")
Loading required package: GenomeInfoDb
Loading required package: BiocGenerics
Attaching package: 'BiocGenerics'
The following objects are masked from 'package:stats':
IQR, mad, sd, var, xtabs
The following objects are masked from 'package:base':
Filter, Find, Map, Position, Reduce, anyDuplicated, aperm, append,
as.data.frame, basename, cbind, colnames, dirname, do.call,
duplicated, eval, evalq, get, grep, grepl, intersect, is.unsorted,
lapply, mapply, match, mget, order, paste, pmax, pmax.int, pmin,
pmin.int, rank, rbind, rownames, sapply, setdiff, sort, table,
tapply, union, unique, unsplit, which.max, which.min
Loading required package: S4Vectors
Loading required package: stats4
Attaching package: 'S4Vectors'
The following objects are masked from 'package:base':
I, expand.grid, unname
Loading required package: IRanges
[1] TRUE
> GenomeInfoDb:::.test()
RUNIT TEST PROTOCOL -- Mon Apr 10 20:32:26 2023
***********************************************
Number of test functions: 21
Number of errors: 0
Number of failures: 0
1 Test Suite :
GenomeInfoDb RUnit Tests - 21 test functions, 0 errors, 0 failures
Number of test functions: 21
Number of errors: 0
Number of failures: 0
There were 50 or more warnings (use warnings() to see the first 50)
>
> proc.time()
user system elapsed
357.517 21.024 435.215
GenomeInfoDb.Rcheck/GenomeInfoDb-Ex.timings
| name | user | system | elapsed | |
| GenomeDescription-class | 7.305 | 0.274 | 7.603 | |
| NCBI-utils | 0.063 | 0.014 | 1.093 | |
| Seqinfo-class | 0.217 | 0.017 | 0.234 | |
| getChromInfoFromEnsembl | 0.483 | 0.113 | 34.127 | |
| getChromInfoFromNCBI | 0.216 | 0.037 | 1.007 | |
| getChromInfoFromUCSC | 1.810 | 0.695 | 3.398 | |
| loadTaxonomyDb | 9.598 | 0.139 | 9.766 | |
| mapGenomeBuilds | 0.042 | 0.013 | 0.056 | |
| rankSeqlevels | 0.292 | 0.016 | 0.314 | |
| seqinfo | 3.693 | 0.292 | 4.082 | |
| seqlevels-wrappers | 4.334 | 0.201 | 4.542 | |
| seqlevelsStyle | 3.182 | 0.271 | 5.982 | |