| Back to Multiple platform build/check report for BioC 3.16: simplified long |
|
This page was generated on 2023-04-12 11:05:05 -0400 (Wed, 12 Apr 2023).
| Hostname | OS | Arch (*) | R version | Installed pkgs |
|---|---|---|---|---|
| nebbiolo2 | Linux (Ubuntu 20.04.5 LTS) | x86_64 | 4.2.3 (2023-03-15) -- "Shortstop Beagle" | 4502 |
| palomino4 | Windows Server 2022 Datacenter | x64 | 4.2.3 (2023-03-15 ucrt) -- "Shortstop Beagle" | 4282 |
| lconway | macOS 12.5.1 Monterey | x86_64 | 4.2.3 (2023-03-15) -- "Shortstop Beagle" | 4310 |
| Click on any hostname to see more info about the system (e.g. compilers) (*) as reported by 'uname -p', except on Windows and Mac OS X | ||||
|
To the developers/maintainers of the GeneNetworkBuilder package: - Please allow up to 24 hours (and sometimes 48 hours) for your latest push to git@git.bioconductor.org:packages/GeneNetworkBuilder.git to reflect on this report. See How and When does the builder pull? When will my changes propagate? for more information. - Make sure to use the following settings in order to reproduce any error or warning you see on this page. |
| Package 761/2183 | Hostname | OS / Arch | INSTALL | BUILD | CHECK | BUILD BIN | ||||||||
| GeneNetworkBuilder 1.40.0 (landing page) Jianhong Ou
| nebbiolo2 | Linux (Ubuntu 20.04.5 LTS) / x86_64 | OK | OK | OK | |||||||||
| palomino4 | Windows Server 2022 Datacenter / x64 | OK | OK | OK | OK | |||||||||
| lconway | macOS 12.5.1 Monterey / x86_64 | OK | OK | OK | OK | |||||||||
| Package: GeneNetworkBuilder |
| Version: 1.40.0 |
| Command: /home/biocbuild/bbs-3.16-bioc/R/bin/R CMD check --install=check:GeneNetworkBuilder.install-out.txt --library=/home/biocbuild/bbs-3.16-bioc/R/site-library --timings GeneNetworkBuilder_1.40.0.tar.gz |
| StartedAt: 2023-04-10 20:52:46 -0400 (Mon, 10 Apr 2023) |
| EndedAt: 2023-04-10 21:02:13 -0400 (Mon, 10 Apr 2023) |
| EllapsedTime: 567.1 seconds |
| RetCode: 0 |
| Status: OK |
| CheckDir: GeneNetworkBuilder.Rcheck |
| Warnings: 0 |
##############################################################################
##############################################################################
###
### Running command:
###
### /home/biocbuild/bbs-3.16-bioc/R/bin/R CMD check --install=check:GeneNetworkBuilder.install-out.txt --library=/home/biocbuild/bbs-3.16-bioc/R/site-library --timings GeneNetworkBuilder_1.40.0.tar.gz
###
##############################################################################
##############################################################################
* using log directory ‘/home/biocbuild/bbs-3.16-bioc/meat/GeneNetworkBuilder.Rcheck’
* using R version 4.2.3 (2023-03-15)
* using platform: x86_64-pc-linux-gnu (64-bit)
* using session charset: UTF-8
* checking for file ‘GeneNetworkBuilder/DESCRIPTION’ ... OK
* checking extension type ... Package
* this is package ‘GeneNetworkBuilder’ version ‘1.40.0’
* package encoding: UTF-8
* checking package namespace information ... OK
* checking package dependencies ... OK
* checking if this is a source package ... OK
* checking if there is a namespace ... OK
* checking for hidden files and directories ... OK
* checking for portable file names ... OK
* checking for sufficient/correct file permissions ... OK
* checking whether package ‘GeneNetworkBuilder’ can be installed ... OK
* checking installed package size ... NOTE
installed size is 8.9Mb
sub-directories of 1Mb or more:
data 4.4Mb
htmlwidgets 2.7Mb
libs 1.6Mb
* checking package directory ... OK
* checking ‘build’ directory ... OK
* checking DESCRIPTION meta-information ... OK
* checking top-level files ... OK
* checking for left-over files ... OK
* checking index information ... OK
* checking package subdirectories ... OK
* checking R files for non-ASCII characters ... OK
* checking R files for syntax errors ... OK
* checking whether the package can be loaded ... OK
* checking whether the package can be loaded with stated dependencies ... OK
* checking whether the package can be unloaded cleanly ... OK
* checking whether the namespace can be loaded with stated dependencies ... OK
* checking whether the namespace can be unloaded cleanly ... OK
* checking loading without being on the library search path ... OK
* checking dependencies in R code ... OK
* checking S3 generic/method consistency ... OK
* checking replacement functions ... OK
* checking foreign function calls ... OK
* checking R code for possible problems ... OK
* checking Rd files ... OK
* checking Rd metadata ... OK
* checking Rd cross-references ... OK
* checking for missing documentation entries ... OK
* checking for code/documentation mismatches ... OK
* checking Rd \usage sections ... OK
* checking Rd contents ... OK
* checking for unstated dependencies in examples ... OK
* checking contents of ‘data’ directory ... OK
* checking data for non-ASCII characters ... OK
* checking LazyData ... OK
* checking data for ASCII and uncompressed saves ... OK
* checking line endings in C/C++/Fortran sources/headers ... OK
* checking line endings in Makefiles ... OK
* checking compilation flags in Makevars ... OK
* checking for GNU extensions in Makefiles ... OK
* checking for portable use of $(BLAS_LIBS) and $(LAPACK_LIBS) ... OK
* checking use of PKG_*FLAGS in Makefiles ... OK
* checking compiled code ... NOTE
Note: information on .o files is not available
* checking files in ‘vignettes’ ... OK
* checking examples ... OK
* checking for unstated dependencies in ‘tests’ ... OK
* checking tests ...
Running ‘runTests.R’
OK
* checking for unstated dependencies in vignettes ... OK
* checking package vignettes in ‘inst/doc’ ... OK
* checking running R code from vignettes ...
‘GeneNetworkBuilder_vignettes.Rmd’ using ‘UTF-8’... OK
‘GeneNetworkFromGenes.Rmd’ using ‘UTF-8’... OK
‘with.BioGRID.STRING.Rmd’ using ‘UTF-8’... OK
NONE
* checking re-building of vignette outputs ... OK
* checking PDF version of manual ... OK
* DONE
Status: 2 NOTEs
See
‘/home/biocbuild/bbs-3.16-bioc/meat/GeneNetworkBuilder.Rcheck/00check.log’
for details.
GeneNetworkBuilder.Rcheck/00install.out
############################################################################## ############################################################################## ### ### Running command: ### ### /home/biocbuild/bbs-3.16-bioc/R/bin/R CMD INSTALL GeneNetworkBuilder ### ############################################################################## ############################################################################## * installing to library ‘/home/biocbuild/bbs-3.16-bioc/R/site-library’ * installing *source* package ‘GeneNetworkBuilder’ ... ** using staged installation ** libs g++ -std=gnu++14 -I"/home/biocbuild/bbs-3.16-bioc/R/include" -DNDEBUG -I'/home/biocbuild/bbs-3.16-bioc/R/site-library/Rcpp/include' -I/usr/local/include -fpic -g -O2 -Wall -c RcppExports.cpp -o RcppExports.o g++ -std=gnu++14 -I"/home/biocbuild/bbs-3.16-bioc/R/include" -DNDEBUG -I'/home/biocbuild/bbs-3.16-bioc/R/site-library/Rcpp/include' -I/usr/local/include -fpic -g -O2 -Wall -c geneTree.cpp -o geneTree.o g++ -std=gnu++14 -I"/home/biocbuild/bbs-3.16-bioc/R/include" -DNDEBUG -I'/home/biocbuild/bbs-3.16-bioc/R/site-library/Rcpp/include' -I/usr/local/include -fpic -g -O2 -Wall -c nodefilter.cpp -o nodefilter.o g++ -std=gnu++14 -shared -L/home/biocbuild/bbs-3.16-bioc/R/lib -L/usr/local/lib -o GeneNetworkBuilder.so RcppExports.o geneTree.o nodefilter.o -L/home/biocbuild/bbs-3.16-bioc/R/lib -lR installing to /home/biocbuild/bbs-3.16-bioc/R/site-library/00LOCK-GeneNetworkBuilder/00new/GeneNetworkBuilder/libs ** R ** data *** moving datasets to lazyload DB ** inst ** byte-compile and prepare package for lazy loading ** help *** installing help indices ** building package indices ** installing vignettes ** testing if installed package can be loaded from temporary location ** checking absolute paths in shared objects and dynamic libraries ** testing if installed package can be loaded from final location ** testing if installed package keeps a record of temporary installation path * DONE (GeneNetworkBuilder)
GeneNetworkBuilder.Rcheck/tests/runTests.Rout
R version 4.2.3 (2023-03-15) -- "Shortstop Beagle"
Copyright (C) 2023 The R Foundation for Statistical Computing
Platform: x86_64-pc-linux-gnu (64-bit)
R is free software and comes with ABSOLUTELY NO WARRANTY.
You are welcome to redistribute it under certain conditions.
Type 'license()' or 'licence()' for distribution details.
R is a collaborative project with many contributors.
Type 'contributors()' for more information and
'citation()' on how to cite R or R packages in publications.
Type 'demo()' for some demos, 'help()' for on-line help, or
'help.start()' for an HTML browser interface to help.
Type 'q()' to quit R.
> require("GeneNetworkBuilder") || stop("unable to load Package:GeneNetworkBuilder")
Loading required package: GeneNetworkBuilder
Loading required package: Rcpp
[1] TRUE
> BiocGenerics:::testPackage("GeneNetworkBuilder")
RUNIT TEST PROTOCOL -- Mon Apr 10 20:53:33 2023
***********************************************
Number of test functions: 5
Number of errors: 0
Number of failures: 0
1 Test Suite :
GeneNetworkBuilder RUnit Tests - 5 test functions, 0 errors, 0 failures
Number of test functions: 5
Number of errors: 0
Number of failures: 0
>
> proc.time()
user system elapsed
1.147 0.068 1.198
GeneNetworkBuilder.Rcheck/GeneNetworkBuilder-Ex.timings
| name | user | system | elapsed | |
| browseNetwork | 1.759 | 0.120 | 1.902 | |
| buildNetwork | 0.445 | 0.012 | 0.457 | |
| ce.IDsMap | 0.121 | 0.000 | 0.121 | |
| ce.interactionmap | 0.011 | 0.000 | 0.011 | |
| ce.mapIDs | 0.157 | 0.000 | 0.157 | |
| ce.miRNA.map | 0.002 | 0.000 | 0.002 | |
| convertID | 0.216 | 0.000 | 0.216 | |
| example.data | 0.027 | 0.000 | 0.027 | |
| exportNetwork | 2.609 | 0.072 | 2.690 | |
| filterNetwork | 1.286 | 0.012 | 1.298 | |
| hs.IDsMap | 0.058 | 0.000 | 0.058 | |
| hs.interactionmap | 0.029 | 0.000 | 0.029 | |
| hs.mapIDs | 0.025 | 0.000 | 0.024 | |
| hs.miRNA.map | 0.003 | 0.000 | 0.002 | |
| networkFromGenes | 0.157 | 0.000 | 0.156 | |
| polishNetwork | 1.083 | 0.016 | 1.099 | |
| subsetNetwork | 0.067 | 0.000 | 0.067 | |
| uniqueExprsData | 0.338 | 0.004 | 0.342 | |