| Back to Multiple platform build/check report for BioC 3.16: simplified long |
|
This page was generated on 2023-04-12 11:06:10 -0400 (Wed, 12 Apr 2023).
| Hostname | OS | Arch (*) | R version | Installed pkgs |
|---|---|---|---|---|
| nebbiolo2 | Linux (Ubuntu 20.04.5 LTS) | x86_64 | 4.2.3 (2023-03-15) -- "Shortstop Beagle" | 4502 |
| palomino4 | Windows Server 2022 Datacenter | x64 | 4.2.3 (2023-03-15 ucrt) -- "Shortstop Beagle" | 4282 |
| lconway | macOS 12.5.1 Monterey | x86_64 | 4.2.3 (2023-03-15) -- "Shortstop Beagle" | 4310 |
| Click on any hostname to see more info about the system (e.g. compilers) (*) as reported by 'uname -p', except on Windows and Mac OS X | ||||
|
To the developers/maintainers of the GSgalgoR package: - Please allow up to 24 hours (and sometimes 48 hours) for your latest push to git@git.bioconductor.org:packages/GSgalgoR.git to reflect on this report. See How and When does the builder pull? When will my changes propagate? for more information. - Make sure to use the following settings in order to reproduce any error or warning you see on this page. |
| Package 874/2183 | Hostname | OS / Arch | INSTALL | BUILD | CHECK | BUILD BIN | ||||||||
| GSgalgoR 1.8.0 (landing page) Carlos Catania
| nebbiolo2 | Linux (Ubuntu 20.04.5 LTS) / x86_64 | OK | OK | OK | |||||||||
| palomino4 | Windows Server 2022 Datacenter / x64 | OK | OK | OK | OK | |||||||||
| lconway | macOS 12.5.1 Monterey / x86_64 | OK | OK | OK | OK | |||||||||
| Package: GSgalgoR |
| Version: 1.8.0 |
| Command: /Library/Frameworks/R.framework/Resources/bin/R CMD check --install=check:GSgalgoR.install-out.txt --library=/Library/Frameworks/R.framework/Resources/library --no-vignettes --timings GSgalgoR_1.8.0.tar.gz |
| StartedAt: 2023-04-10 20:34:22 -0400 (Mon, 10 Apr 2023) |
| EndedAt: 2023-04-10 20:37:40 -0400 (Mon, 10 Apr 2023) |
| EllapsedTime: 197.5 seconds |
| RetCode: 0 |
| Status: OK |
| CheckDir: GSgalgoR.Rcheck |
| Warnings: 0 |
##############################################################################
##############################################################################
###
### Running command:
###
### /Library/Frameworks/R.framework/Resources/bin/R CMD check --install=check:GSgalgoR.install-out.txt --library=/Library/Frameworks/R.framework/Resources/library --no-vignettes --timings GSgalgoR_1.8.0.tar.gz
###
##############################################################################
##############################################################################
* using log directory ‘/Users/biocbuild/bbs-3.16-bioc/meat/GSgalgoR.Rcheck’
* using R version 4.2.3 (2023-03-15)
* using platform: x86_64-apple-darwin17.0 (64-bit)
* using session charset: UTF-8
* using option ‘--no-vignettes’
* checking for file ‘GSgalgoR/DESCRIPTION’ ... OK
* checking extension type ... Package
* this is package ‘GSgalgoR’ version ‘1.8.0’
* package encoding: UTF-8
* checking package namespace information ... OK
* checking package dependencies ... OK
* checking if this is a source package ... OK
* checking if there is a namespace ... OK
* checking for hidden files and directories ... OK
* checking for portable file names ... OK
* checking for sufficient/correct file permissions ... OK
* checking whether package ‘GSgalgoR’ can be installed ... OK
* checking installed package size ... OK
* checking package directory ... OK
* checking ‘build’ directory ... OK
* checking DESCRIPTION meta-information ... OK
* checking top-level files ... OK
* checking for left-over files ... OK
* checking index information ... OK
* checking package subdirectories ... OK
* checking R files for non-ASCII characters ... OK
* checking R files for syntax errors ... OK
* checking whether the package can be loaded ... OK
* checking whether the package can be loaded with stated dependencies ... OK
* checking whether the package can be unloaded cleanly ... OK
* checking whether the namespace can be loaded with stated dependencies ... OK
* checking whether the namespace can be unloaded cleanly ... OK
* checking dependencies in R code ... OK
* checking S3 generic/method consistency ... OK
* checking replacement functions ... OK
* checking foreign function calls ... OK
* checking R code for possible problems ... OK
* checking Rd files ... OK
* checking Rd metadata ... OK
* checking Rd cross-references ... OK
* checking for missing documentation entries ... OK
* checking for code/documentation mismatches ... OK
* checking Rd \usage sections ... OK
* checking Rd contents ... OK
* checking for unstated dependencies in examples ... OK
* checking files in ‘vignettes’ ... OK
* checking examples ... OK
Examples with CPU (user + system) or elapsed time > 5s
user system elapsed
classify_multiple 2.412 0.301 8.776
plot_pareto 2.537 0.096 6.152
callback_base_report 2.092 0.184 7.726
callback_default 1.711 0.199 7.695
to_dataframe 1.848 0.043 5.528
create_centroids 1.817 0.057 5.440
callback_no_report 1.641 0.218 7.886
callback_base_return_pop 1.626 0.200 7.942
non_dominated_summary 1.721 0.050 5.181
galgo 1.546 0.036 5.177
* checking for unstated dependencies in ‘tests’ ... OK
* checking tests ...
Running ‘testthat.R’
OK
* checking for unstated dependencies in vignettes ... OK
* checking package vignettes in ‘inst/doc’ ... OK
* checking running R code from vignettes ... SKIPPED
* checking re-building of vignette outputs ... SKIPPED
* checking PDF version of manual ... OK
* DONE
Status: OK
GSgalgoR.Rcheck/00install.out
############################################################################## ############################################################################## ### ### Running command: ### ### /Library/Frameworks/R.framework/Resources/bin/R CMD INSTALL GSgalgoR ### ############################################################################## ############################################################################## * installing to library ‘/Library/Frameworks/R.framework/Versions/4.2/Resources/library’ * installing *source* package ‘GSgalgoR’ ... ** using staged installation ** R ** inst ** byte-compile and prepare package for lazy loading ** help *** installing help indices ** building package indices ** installing vignettes ** testing if installed package can be loaded from temporary location ** testing if installed package can be loaded from final location ** testing if installed package keeps a record of temporary installation path * DONE (GSgalgoR)
GSgalgoR.Rcheck/tests/testthat.Rout
R version 4.2.3 (2023-03-15) -- "Shortstop Beagle"
Copyright (C) 2023 The R Foundation for Statistical Computing
Platform: x86_64-apple-darwin17.0 (64-bit)
R is free software and comes with ABSOLUTELY NO WARRANTY.
You are welcome to redistribute it under certain conditions.
Type 'license()' or 'licence()' for distribution details.
R is a collaborative project with many contributors.
Type 'contributors()' for more information and
'citation()' on how to cite R or R packages in publications.
Type 'demo()' for some demos, 'help()' for on-line help, or
'help.start()' for an HTML browser interface to help.
Type 'q()' to quit R.
> library(testthat)
> library(GSgalgoR)
>
> test_check("GSgalgoR")
.......... k rnkIndex CrowD
result.1 8 0.02212350 201.10126 1 Inf
result.3 9 0.02402496 160.41638 1 1.37352
result.4 8 0.03651880 48.37265 1 Inf
k rnkIndex CrowD
result.1 8 0.02212350 201.10126 1 Inf
result.3 2 0.11803624 30.01863 1 Inf
result.4 4 0.04509859 173.43985 1 1.798893
......[ FAIL 0 | WARN 0 | SKIP 0 | PASS 13 ]
>
> proc.time()
user system elapsed
16.753 2.199 88.955
GSgalgoR.Rcheck/GSgalgoR-Ex.timings
| name | user | system | elapsed | |
| calculate_distance | 2.121 | 0.109 | 2.238 | |
| callback_base_report | 2.092 | 0.184 | 7.726 | |
| callback_base_return_pop | 1.626 | 0.200 | 7.942 | |
| callback_default | 1.711 | 0.199 | 7.695 | |
| callback_no_report | 1.641 | 0.218 | 7.886 | |
| classify_multiple | 2.412 | 0.301 | 8.776 | |
| cluster_algorithm | 1.120 | 0.050 | 1.178 | |
| cluster_classify | 0.725 | 0.154 | 0.895 | |
| cosine_similarity | 0.000 | 0.000 | 0.001 | |
| create_centroids | 1.817 | 0.057 | 5.440 | |
| galgo | 1.546 | 0.036 | 5.177 | |
| k_centroids | 1.032 | 0.029 | 1.067 | |
| non_dominated_summary | 1.721 | 0.050 | 5.181 | |
| plot_pareto | 2.537 | 0.096 | 6.152 | |
| surv_fitness | 0.515 | 0.015 | 0.531 | |
| to_dataframe | 1.848 | 0.043 | 5.528 | |
| to_list | 1.681 | 0.034 | 4.922 | |