| Back to Multiple platform build/check report for BioC 3.16: simplified long |
|
This page was generated on 2023-04-12 11:06:08 -0400 (Wed, 12 Apr 2023).
| Hostname | OS | Arch (*) | R version | Installed pkgs |
|---|---|---|---|---|
| nebbiolo2 | Linux (Ubuntu 20.04.5 LTS) | x86_64 | 4.2.3 (2023-03-15) -- "Shortstop Beagle" | 4502 |
| palomino4 | Windows Server 2022 Datacenter | x64 | 4.2.3 (2023-03-15 ucrt) -- "Shortstop Beagle" | 4282 |
| lconway | macOS 12.5.1 Monterey | x86_64 | 4.2.3 (2023-03-15) -- "Shortstop Beagle" | 4310 |
| Click on any hostname to see more info about the system (e.g. compilers) (*) as reported by 'uname -p', except on Windows and Mac OS X | ||||
|
To the developers/maintainers of the GA4GHclient package: - Please allow up to 24 hours (and sometimes 48 hours) for your latest push to git@git.bioconductor.org:packages/GA4GHclient.git to reflect on this report. See How and When does the builder pull? When will my changes propagate? for more information. - Make sure to use the following settings in order to reproduce any error or warning you see on this page. |
| Package 726/2183 | Hostname | OS / Arch | INSTALL | BUILD | CHECK | BUILD BIN | ||||||||
| GA4GHclient 1.22.0 (landing page) Welliton Souza
| nebbiolo2 | Linux (Ubuntu 20.04.5 LTS) / x86_64 | OK | OK | OK | |||||||||
| palomino4 | Windows Server 2022 Datacenter / x64 | OK | OK | OK | OK | |||||||||
| lconway | macOS 12.5.1 Monterey / x86_64 | OK | OK | OK | OK | |||||||||
| Package: GA4GHclient |
| Version: 1.22.0 |
| Command: /Library/Frameworks/R.framework/Resources/bin/R CMD check --install=check:GA4GHclient.install-out.txt --library=/Library/Frameworks/R.framework/Resources/library --no-vignettes --timings GA4GHclient_1.22.0.tar.gz |
| StartedAt: 2023-04-10 20:17:31 -0400 (Mon, 10 Apr 2023) |
| EndedAt: 2023-04-10 20:21:44 -0400 (Mon, 10 Apr 2023) |
| EllapsedTime: 252.7 seconds |
| RetCode: 0 |
| Status: OK |
| CheckDir: GA4GHclient.Rcheck |
| Warnings: 0 |
############################################################################## ############################################################################## ### ### Running command: ### ### /Library/Frameworks/R.framework/Resources/bin/R CMD check --install=check:GA4GHclient.install-out.txt --library=/Library/Frameworks/R.framework/Resources/library --no-vignettes --timings GA4GHclient_1.22.0.tar.gz ### ############################################################################## ############################################################################## * using log directory ‘/Users/biocbuild/bbs-3.16-bioc/meat/GA4GHclient.Rcheck’ * using R version 4.2.3 (2023-03-15) * using platform: x86_64-apple-darwin17.0 (64-bit) * using session charset: UTF-8 * using option ‘--no-vignettes’ * checking for file ‘GA4GHclient/DESCRIPTION’ ... OK * checking extension type ... Package * this is package ‘GA4GHclient’ version ‘1.22.0’ * checking package namespace information ... OK * checking package dependencies ... OK * checking if this is a source package ... OK * checking if there is a namespace ... OK * checking for hidden files and directories ... OK * checking for portable file names ... OK * checking for sufficient/correct file permissions ... OK * checking whether package ‘GA4GHclient’ can be installed ... OK * checking installed package size ... OK * checking package directory ... OK * checking ‘build’ directory ... OK * checking DESCRIPTION meta-information ... OK * checking top-level files ... OK * checking for left-over files ... OK * checking index information ... OK * checking package subdirectories ... OK * checking R files for non-ASCII characters ... OK * checking R files for syntax errors ... OK * checking whether the package can be loaded ... OK * checking whether the package can be loaded with stated dependencies ... OK * checking whether the package can be unloaded cleanly ... OK * checking whether the namespace can be loaded with stated dependencies ... OK * checking whether the namespace can be unloaded cleanly ... OK * checking dependencies in R code ... OK * checking S3 generic/method consistency ... OK * checking replacement functions ... OK * checking foreign function calls ... OK * checking R code for possible problems ... OK * checking Rd files ... OK * checking Rd metadata ... OK * checking Rd cross-references ... OK * checking for missing documentation entries ... OK * checking for code/documentation mismatches ... OK * checking Rd \usage sections ... OK * checking Rd contents ... OK * checking for unstated dependencies in examples ... OK * checking files in ‘vignettes’ ... OK * checking examples ... OK * checking for unstated dependencies in ‘tests’ ... OK * checking tests ... Running ‘testthat.R’ OK * checking for unstated dependencies in vignettes ... OK * checking package vignettes in ‘inst/doc’ ... OK * checking running R code from vignettes ... SKIPPED * checking re-building of vignette outputs ... SKIPPED * checking PDF version of manual ... OK * DONE Status: OK
GA4GHclient.Rcheck/00install.out
############################################################################## ############################################################################## ### ### Running command: ### ### /Library/Frameworks/R.framework/Resources/bin/R CMD INSTALL GA4GHclient ### ############################################################################## ############################################################################## * installing to library ‘/Library/Frameworks/R.framework/Versions/4.2/Resources/library’ * installing *source* package ‘GA4GHclient’ ... ** using staged installation ** R ** inst ** byte-compile and prepare package for lazy loading No methods found in package ‘BiocGenerics’ for request: ‘lengths’ when loading ‘GA4GHclient’ ** help *** installing help indices ** building package indices ** installing vignettes ** testing if installed package can be loaded from temporary location No methods found in package ‘BiocGenerics’ for request: ‘lengths’ when loading ‘GA4GHclient’ ** testing if installed package can be loaded from final location No methods found in package ‘BiocGenerics’ for request: ‘lengths’ when loading ‘GA4GHclient’ ** testing if installed package keeps a record of temporary installation path * DONE (GA4GHclient)
GA4GHclient.Rcheck/tests/testthat.Rout
R version 4.2.3 (2023-03-15) -- "Shortstop Beagle"
Copyright (C) 2023 The R Foundation for Statistical Computing
Platform: x86_64-apple-darwin17.0 (64-bit)
R is free software and comes with ABSOLUTELY NO WARRANTY.
You are welcome to redistribute it under certain conditions.
Type 'license()' or 'licence()' for distribution details.
R is a collaborative project with many contributors.
Type 'contributors()' for more information and
'citation()' on how to cite R or R packages in publications.
Type 'demo()' for some demos, 'help()' for on-line help, or
'help.start()' for an HTML browser interface to help.
Type 'q()' to quit R.
> library(testthat)
> library(GA4GHclient)
Loading required package: S4Vectors
Loading required package: stats4
Loading required package: BiocGenerics
Attaching package: 'BiocGenerics'
The following objects are masked from 'package:stats':
IQR, mad, sd, var, xtabs
The following objects are masked from 'package:base':
Filter, Find, Map, Position, Reduce, anyDuplicated, aperm, append,
as.data.frame, basename, cbind, colnames, dirname, do.call,
duplicated, eval, evalq, get, grep, grepl, intersect, is.unsorted,
lapply, mapply, match, mget, order, paste, pmax, pmax.int, pmin,
pmin.int, rank, rbind, rownames, sapply, setdiff, sort, table,
tapply, union, unique, unsplit, which.max, which.min
Attaching package: 'S4Vectors'
The following objects are masked from 'package:base':
I, expand.grid, unname
No methods found in package 'BiocGenerics' for request: 'lengths' when loading 'GA4GHclient'
>
> test_check("GA4GHclient")
[ FAIL 0 | WARN 0 | SKIP 84 | PASS 10 ]
══ Skipped tests ═══════════════════════════════════════════════════════════════
• On Bioconductor (84)
[ FAIL 0 | WARN 0 | SKIP 84 | PASS 10 ]
>
> proc.time()
user system elapsed
13.050 0.619 13.716
GA4GHclient.Rcheck/GA4GHclient-Ex.timings
| name | user | system | elapsed | |
| HGVSnames | 0.001 | 0.001 | 0.001 | |
| getBiosample | 0.000 | 0.000 | 0.001 | |
| getCallSet | 0 | 0 | 0 | |
| getDataset | 0.000 | 0.001 | 0.000 | |
| getExpressionLevel | 0.000 | 0.000 | 0.001 | |
| getFeature | 0 | 0 | 0 | |
| getFeatureSet | 0 | 0 | 0 | |
| getIndividual | 0 | 0 | 0 | |
| getReadGroupSet | 0 | 0 | 0 | |
| getReference | 0.000 | 0.000 | 0.001 | |
| getReferenceSet | 0 | 0 | 0 | |
| getRnaQuantification | 0.000 | 0.001 | 0.000 | |
| getRnaQuantificationSet | 0 | 0 | 0 | |
| getVariant | 0.000 | 0.000 | 0.001 | |
| getVariantAnnotationSet | 0.000 | 0.000 | 0.001 | |
| getVariantSet | 0 | 0 | 0 | |
| listReferenceBases | 0 | 0 | 0 | |
| makeVCFFromGA4GHResponse | 0.000 | 0.000 | 0.001 | |
| makeVCFHeaderFromGA4GHResponse | 0.000 | 0.000 | 0.001 | |
| searchBiosamples | 0 | 0 | 0 | |
| searchCallSets | 0 | 0 | 0 | |
| searchDatasets | 0.000 | 0.000 | 0.001 | |
| searchExpressionLevels | 0.000 | 0.000 | 0.001 | |
| searchFeatureSets | 0 | 0 | 0 | |
| searchFeatures | 0.000 | 0.000 | 0.001 | |
| searchIndividuals | 0.000 | 0.001 | 0.001 | |
| searchPhenotypeAssociationSets | 0.001 | 0.000 | 0.000 | |
| searchPhenotypeAssociations | 0 | 0 | 0 | |
| searchReadGroupSets | 0 | 0 | 0 | |
| searchReads | 0.000 | 0.000 | 0.001 | |
| searchReferenceSets | 0 | 0 | 0 | |
| searchReferences | 0 | 0 | 0 | |
| searchRnaQuantificationSets | 0 | 0 | 0 | |
| searchRnaQuantifications | 0 | 0 | 0 | |
| searchVariantAnnotationSets | 0 | 0 | 0 | |
| searchVariantAnnotations | 0.000 | 0.000 | 0.001 | |
| searchVariantSets | 0 | 0 | 0 | |
| searchVariants | 0.000 | 0.000 | 0.001 | |
| searchVariantsByGRanges | 0.060 | 0.005 | 0.066 | |