| Back to Multiple platform build/check report for BioC 3.16: simplified long |
|
This page was generated on 2023-04-12 11:06:07 -0400 (Wed, 12 Apr 2023).
| Hostname | OS | Arch (*) | R version | Installed pkgs |
|---|---|---|---|---|
| nebbiolo2 | Linux (Ubuntu 20.04.5 LTS) | x86_64 | 4.2.3 (2023-03-15) -- "Shortstop Beagle" | 4502 |
| palomino4 | Windows Server 2022 Datacenter | x64 | 4.2.3 (2023-03-15 ucrt) -- "Shortstop Beagle" | 4282 |
| lconway | macOS 12.5.1 Monterey | x86_64 | 4.2.3 (2023-03-15) -- "Shortstop Beagle" | 4310 |
| Click on any hostname to see more info about the system (e.g. compilers) (*) as reported by 'uname -p', except on Windows and Mac OS X | ||||
|
To the developers/maintainers of the FlowSOM package: - Please allow up to 24 hours (and sometimes 48 hours) for your latest push to git@git.bioconductor.org:packages/FlowSOM.git to reflect on this report. See How and When does the builder pull? When will my changes propagate? for more information. - Make sure to use the following settings in order to reproduce any error or warning you see on this page. |
| Package 704/2183 | Hostname | OS / Arch | INSTALL | BUILD | CHECK | BUILD BIN | ||||||||
| FlowSOM 2.6.0 (landing page) Sofie Van Gassen
| nebbiolo2 | Linux (Ubuntu 20.04.5 LTS) / x86_64 | OK | OK | OK | |||||||||
| palomino4 | Windows Server 2022 Datacenter / x64 | OK | OK | OK | OK | |||||||||
| lconway | macOS 12.5.1 Monterey / x86_64 | OK | OK | OK | OK | |||||||||
| Package: FlowSOM |
| Version: 2.6.0 |
| Command: /Library/Frameworks/R.framework/Resources/bin/R CMD check --install=check:FlowSOM.install-out.txt --library=/Library/Frameworks/R.framework/Resources/library --no-vignettes --timings FlowSOM_2.6.0.tar.gz |
| StartedAt: 2023-04-10 20:15:42 -0400 (Mon, 10 Apr 2023) |
| EndedAt: 2023-04-10 20:23:45 -0400 (Mon, 10 Apr 2023) |
| EllapsedTime: 483.6 seconds |
| RetCode: 0 |
| Status: OK |
| CheckDir: FlowSOM.Rcheck |
| Warnings: 0 |
##############################################################################
##############################################################################
###
### Running command:
###
### /Library/Frameworks/R.framework/Resources/bin/R CMD check --install=check:FlowSOM.install-out.txt --library=/Library/Frameworks/R.framework/Resources/library --no-vignettes --timings FlowSOM_2.6.0.tar.gz
###
##############################################################################
##############################################################################
* using log directory ‘/Users/biocbuild/bbs-3.16-bioc/meat/FlowSOM.Rcheck’
* using R version 4.2.3 (2023-03-15)
* using platform: x86_64-apple-darwin17.0 (64-bit)
* using session charset: UTF-8
* using option ‘--no-vignettes’
* checking for file ‘FlowSOM/DESCRIPTION’ ... OK
* this is package ‘FlowSOM’ version ‘2.6.0’
* package encoding: UTF-8
* checking package namespace information ... OK
* checking package dependencies ... OK
* checking if this is a source package ... OK
* checking if there is a namespace ... OK
* checking for hidden files and directories ... OK
* checking for portable file names ... OK
* checking for sufficient/correct file permissions ... OK
* checking whether package ‘FlowSOM’ can be installed ... OK
* checking installed package size ... OK
* checking package directory ... OK
* checking ‘build’ directory ... OK
* checking DESCRIPTION meta-information ... OK
* checking top-level files ... OK
* checking for left-over files ... OK
* checking index information ... OK
* checking package subdirectories ... OK
* checking R files for non-ASCII characters ... OK
* checking R files for syntax errors ... OK
* checking whether the package can be loaded ... OK
* checking whether the package can be loaded with stated dependencies ... OK
* checking whether the package can be unloaded cleanly ... OK
* checking whether the namespace can be loaded with stated dependencies ... OK
* checking whether the namespace can be unloaded cleanly ... OK
* checking dependencies in R code ... OK
* checking S3 generic/method consistency ... OK
* checking replacement functions ... OK
* checking foreign function calls ... OK
* checking R code for possible problems ... OK
* checking Rd files ... OK
* checking Rd metadata ... OK
* checking Rd cross-references ... OK
* checking for missing documentation entries ... OK
* checking for code/documentation mismatches ... OK
* checking Rd \usage sections ... OK
* checking Rd contents ... OK
* checking for unstated dependencies in examples ... OK
* checking line endings in C/C++/Fortran sources/headers ... OK
* checking compiled code ... NOTE
Note: information on .o files is not available
* checking sizes of PDF files under ‘inst/doc’ ... OK
* checking files in ‘vignettes’ ... OK
* checking examples ... OK
Examples with CPU (user + system) or elapsed time > 5s
user system elapsed
FlowSOMmary 41.134 2.226 43.670
PlotDimRed 35.302 2.382 37.960
PlotMarker 15.641 1.439 17.190
UpdateMetaclusters 15.092 1.725 16.911
PlotStars 12.653 1.359 14.108
PlotGroups 10.822 1.387 12.281
GroupStats 11.042 1.133 12.248
FlowSOM 10.366 1.385 11.852
AddAnnotation 8.284 0.682 9.010
query_multiple 8.023 0.563 8.620
QueryMultiple 7.615 0.691 8.386
Plot2DScatters 7.105 1.067 8.226
GetFlowJoLabels 7.346 0.776 8.173
PlotManualBars 6.839 1.092 8.028
PlotFlowSOM 5.852 1.105 7.018
PlotVariable 5.799 1.137 7.000
PlotNode 5.977 0.844 6.890
PlotPies 5.805 0.949 6.796
PlotNumbers 5.459 1.003 6.502
QueryStarPlot 5.849 0.470 6.355
SaveClustersToFCS 5.110 1.199 6.363
CountGroups 5.523 0.782 6.336
TestOutliers 4.755 1.042 5.858
NClusters 4.577 1.125 5.874
MetaclusterMFIs 4.552 1.143 5.739
NMetaclusters 4.520 1.102 5.655
PlotLabels 4.668 0.885 5.588
GetMetaclusterPercentagesPositive 4.536 0.893 5.451
print.FlowSOM 4.342 1.058 5.449
GetFeatures 4.905 0.459 5.401
UpdateNodeSize 4.896 0.375 5.314
GetMetaclusters 4.327 0.894 5.253
FlowSOMSubset 4.647 0.494 5.175
GetMFIs 4.321 0.709 5.061
* checking for unstated dependencies in vignettes ... OK
* checking package vignettes in ‘inst/doc’ ... OK
* checking running R code from vignettes ... SKIPPED
* checking re-building of vignette outputs ... SKIPPED
* checking PDF version of manual ... OK
* DONE
Status: 1 NOTE
See
‘/Users/biocbuild/bbs-3.16-bioc/meat/FlowSOM.Rcheck/00check.log’
for details.
FlowSOM.Rcheck/00install.out
############################################################################## ############################################################################## ### ### Running command: ### ### /Library/Frameworks/R.framework/Resources/bin/R CMD INSTALL FlowSOM ### ############################################################################## ############################################################################## * installing to library ‘/Library/Frameworks/R.framework/Versions/4.2/Resources/library’ * installing *source* package ‘FlowSOM’ ... ** using staged installation ** libs clang -mmacosx-version-min=10.13 -I"/Library/Frameworks/R.framework/Resources/include" -DNDEBUG -I/usr/local/include -fPIC -Wall -g -O2 -c som.c -o som.o clang -mmacosx-version-min=10.13 -dynamiclib -Wl,-headerpad_max_install_names -undefined dynamic_lookup -single_module -multiply_defined suppress -L/Library/Frameworks/R.framework/Resources/lib -L/usr/local/lib -o FlowSOM.so som.o -F/Library/Frameworks/R.framework/.. -framework R -Wl,-framework -Wl,CoreFoundation installing to /Library/Frameworks/R.framework/Versions/4.2/Resources/library/00LOCK-FlowSOM/00new/FlowSOM/libs ** R ** inst ** byte-compile and prepare package for lazy loading ** help *** installing help indices ** building package indices ** installing vignettes ** testing if installed package can be loaded from temporary location ** checking absolute paths in shared objects and dynamic libraries ** testing if installed package can be loaded from final location ** testing if installed package keeps a record of temporary installation path * DONE (FlowSOM)
FlowSOM.Rcheck/FlowSOM-Ex.timings
| name | user | system | elapsed | |
| AddAnnotation | 8.284 | 0.682 | 9.010 | |
| AggregateFlowFrames | 0.121 | 0.013 | 0.136 | |
| BuildMST | 1.475 | 0.113 | 1.593 | |
| BuildSOM | 1.153 | 0.120 | 1.284 | |
| CountGroups | 5.523 | 0.782 | 6.336 | |
| FMeasure | 0.002 | 0.000 | 0.002 | |
| FlowSOM | 10.366 | 1.385 | 11.852 | |
| FlowSOMSubset | 4.647 | 0.494 | 5.175 | |
| FlowSOMmary | 41.134 | 2.226 | 43.670 | |
| GetChannels | 0.039 | 0.002 | 0.041 | |
| GetClusterMFIs | 3.707 | 0.459 | 4.190 | |
| GetClusterPercentagesPositive | 3.977 | 0.592 | 4.597 | |
| GetClusters | 3.728 | 0.598 | 4.347 | |
| GetCounts | 3.818 | 0.517 | 4.356 | |
| GetFeatures | 4.905 | 0.459 | 5.401 | |
| GetFlowJoLabels | 7.346 | 0.776 | 8.173 | |
| GetMFIs | 4.321 | 0.709 | 5.061 | |
| GetMarkers | 0.036 | 0.002 | 0.039 | |
| GetMetaclusterCVs | 4.024 | 0.781 | 4.838 | |
| GetMetaclusterMFIs | 3.998 | 0.710 | 4.722 | |
| GetMetaclusterPercentagesPositive | 4.536 | 0.893 | 5.451 | |
| GetMetaclusters | 4.327 | 0.894 | 5.253 | |
| GetPercentages | 4.097 | 0.726 | 4.856 | |
| GroupStats | 11.042 | 1.133 | 12.248 | |
| Initialize_KWSP | 0.003 | 0.000 | 0.002 | |
| Initialize_PCA | 0.001 | 0.000 | 0.001 | |
| MetaClustering | 3.239 | 0.785 | 4.046 | |
| MetaclusterCVs | 3.944 | 0.694 | 4.656 | |
| MetaclusterMFIs | 4.552 | 1.143 | 5.739 | |
| NClusters | 4.577 | 1.125 | 5.874 | |
| NMetaclusters | 4.520 | 1.102 | 5.655 | |
| NewData | 3.723 | 0.595 | 4.344 | |
| Plot2DScatters | 7.105 | 1.067 | 8.226 | |
| PlotCenters | 1.126 | 0.161 | 1.290 | |
| PlotClusters2D | 1.161 | 0.254 | 1.422 | |
| PlotDimRed | 35.302 | 2.382 | 37.960 | |
| PlotFileScatters | 0.744 | 0.022 | 0.771 | |
| PlotFlowSOM | 5.852 | 1.105 | 7.018 | |
| PlotGroups | 10.822 | 1.387 | 12.281 | |
| PlotLabels | 4.668 | 0.885 | 5.588 | |
| PlotManualBars | 6.839 | 1.092 | 8.028 | |
| PlotMarker | 15.641 | 1.439 | 17.190 | |
| PlotNode | 5.977 | 0.844 | 6.890 | |
| PlotNumbers | 5.459 | 1.003 | 6.502 | |
| PlotOverview2D | 3.845 | 0.725 | 4.598 | |
| PlotPies | 5.805 | 0.949 | 6.796 | |
| PlotSD | 1.870 | 0.237 | 2.118 | |
| PlotStars | 12.653 | 1.359 | 14.108 | |
| PlotVariable | 5.799 | 1.137 | 7.000 | |
| Purity | 0.001 | 0.001 | 0.002 | |
| QueryMultiple | 7.615 | 0.691 | 8.386 | |
| QueryStarPlot | 5.849 | 0.470 | 6.355 | |
| ReadInput | 3.220 | 0.766 | 4.021 | |
| SaveClustersToFCS | 5.110 | 1.199 | 6.363 | |
| TestOutliers | 4.755 | 1.042 | 5.858 | |
| UpdateMetaclusters | 15.092 | 1.725 | 16.911 | |
| UpdateNodeSize | 4.896 | 0.375 | 5.314 | |
| get_channels | 0.032 | 0.002 | 0.034 | |
| get_markers | 0.033 | 0.001 | 0.035 | |
| metaClustering_consensus | 2.408 | 0.520 | 2.953 | |
| plotStarLegend | 0.345 | 0.005 | 0.352 | |
| print.FlowSOM | 4.342 | 1.058 | 5.449 | |
| query_multiple | 8.023 | 0.563 | 8.620 | |