| Back to Multiple platform build/check report for BioC 3.16: simplified long |
|
This page was generated on 2023-04-12 11:05:33 -0400 (Wed, 12 Apr 2023).
| Hostname | OS | Arch (*) | R version | Installed pkgs |
|---|---|---|---|---|
| nebbiolo2 | Linux (Ubuntu 20.04.5 LTS) | x86_64 | 4.2.3 (2023-03-15) -- "Shortstop Beagle" | 4502 |
| palomino4 | Windows Server 2022 Datacenter | x64 | 4.2.3 (2023-03-15 ucrt) -- "Shortstop Beagle" | 4282 |
| lconway | macOS 12.5.1 Monterey | x86_64 | 4.2.3 (2023-03-15) -- "Shortstop Beagle" | 4310 |
| Click on any hostname to see more info about the system (e.g. compilers) (*) as reported by 'uname -p', except on Windows and Mac OS X | ||||
|
To the developers/maintainers of the FLAMES package: - Please allow up to 24 hours (and sometimes 48 hours) for your latest push to git@git.bioconductor.org:packages/FLAMES.git to reflect on this report. See How and When does the builder pull? When will my changes propagate? for more information. - Make sure to use the following settings in order to reproduce any error or warning you see on this page. |
| Package 682/2183 | Hostname | OS / Arch | INSTALL | BUILD | CHECK | BUILD BIN | ||||||||
| FLAMES 1.4.3 (landing page) Oliver Voogd
| nebbiolo2 | Linux (Ubuntu 20.04.5 LTS) / x86_64 | OK | OK | OK | |||||||||
| palomino4 | Windows Server 2022 Datacenter / x64 | OK | OK | OK | OK | |||||||||
| lconway | macOS 12.5.1 Monterey / x86_64 | OK | OK | OK | OK | |||||||||
| Package: FLAMES |
| Version: 1.4.3 |
| Command: rm -rf FLAMES.buildbin-libdir && mkdir FLAMES.buildbin-libdir && F:\biocbuild\bbs-3.16-bioc\R\bin\R.exe CMD INSTALL --build --library=FLAMES.buildbin-libdir FLAMES_1.4.3.tar.gz |
| StartedAt: 2023-04-11 07:59:53 -0400 (Tue, 11 Apr 2023) |
| EndedAt: 2023-04-11 08:01:29 -0400 (Tue, 11 Apr 2023) |
| EllapsedTime: 96.0 seconds |
| RetCode: 0 |
| Status: OK |
| PackageFile: FLAMES_1.4.3.zip |
| PackageFileSize: 5.71 MiB |
##############################################################################
##############################################################################
###
### Running command:
###
### rm -rf FLAMES.buildbin-libdir && mkdir FLAMES.buildbin-libdir && F:\biocbuild\bbs-3.16-bioc\R\bin\R.exe CMD INSTALL --build --library=FLAMES.buildbin-libdir FLAMES_1.4.3.tar.gz
###
##############################################################################
##############################################################################
* installing *source* package 'FLAMES' ...
** using staged installation
** libs
Warning: this package has a non-empty 'configure.win' file,
so building only the main architecture
g++ -std=gnu++17 -I"F:/biocbuild/bbs-3.16-bioc/R/include" -DNDEBUG -D_FILE_OFFSET_BITS=64 -I'F:/biocbuild/bbs-3.16-bioc/R/library/Rcpp/include' -I'F:/biocbuild/bbs-3.16-bioc/R/library/Rhtslib/include' -I'F:/biocbuild/bbs-3.16-bioc/R/library/zlibbioc/include' -I"C:/rtools42/x86_64-w64-mingw32.static.posix/include" -O2 -Wall -mfpmath=sse -msse2 -mstackrealign -c RcppExports.cpp -o RcppExports.o
g++ -std=gnu++17 -I"F:/biocbuild/bbs-3.16-bioc/R/include" -DNDEBUG -D_FILE_OFFSET_BITS=64 -I'F:/biocbuild/bbs-3.16-bioc/R/library/Rcpp/include' -I'F:/biocbuild/bbs-3.16-bioc/R/library/Rhtslib/include' -I'F:/biocbuild/bbs-3.16-bioc/R/library/zlibbioc/include' -I"C:/rtools42/x86_64-w64-mingw32.static.posix/include" -O2 -Wall -mfpmath=sse -msse2 -mstackrealign -c RcppFunctions.cpp -o RcppFunctions.o
In file included from main-functions/../utility/fastq_utils.h:7,
from main-functions/match_cell_barcode.h:13,
from RcppFunctions.cpp:7:
F:/biocbuild/bbs-3.16-bioc/R/library/Rhtslib/include/htslib/kseq.h:185:12: warning: 'int kseq_read(kseq_t*)' defined but not used [-Wunused-function]
185 | SCOPE int kseq_read(kseq_t *seq) \
| ^~~~~~~~~
F:/biocbuild/bbs-3.16-bioc/R/library/Rhtslib/include/htslib/kseq.h:185:12: note: in definition of macro '__KSEQ_READ'
185 | SCOPE int kseq_read(kseq_t *seq) \
| ^~~~~~~~~
F:/biocbuild/bbs-3.16-bioc/R/library/Rhtslib/include/htslib/kseq.h:240:35: note: in expansion of macro 'KSEQ_INIT2'
240 | #define KSEQ_INIT(type_t, __read) KSEQ_INIT2(static, type_t, __read)
| ^~~~~~~~~~
main-functions/../utility/fastq_utils.h:12:1: note: in expansion of macro 'KSEQ_INIT'
12 | KSEQ_INIT(gzFile, gzread)
| ^~~~~~~~~
F:/biocbuild/bbs-3.16-bioc/R/library/Rhtslib/include/htslib/kseq.h:171:13: warning: 'void kseq_destroy(kseq_t*)' defined but not used [-Wunused-function]
171 | SCOPE void kseq_destroy(kseq_t *ks) \
| ^~~~~~~~~~~~
F:/biocbuild/bbs-3.16-bioc/R/library/Rhtslib/include/htslib/kseq.h:171:13: note: in definition of macro '__KSEQ_BASIC'
171 | SCOPE void kseq_destroy(kseq_t *ks) \
| ^~~~~~~~~~~~
F:/biocbuild/bbs-3.16-bioc/R/library/Rhtslib/include/htslib/kseq.h:240:35: note: in expansion of macro 'KSEQ_INIT2'
240 | #define KSEQ_INIT(type_t, __read) KSEQ_INIT2(static, type_t, __read)
| ^~~~~~~~~~
main-functions/../utility/fastq_utils.h:12:1: note: in expansion of macro 'KSEQ_INIT'
12 | KSEQ_INIT(gzFile, gzread)
| ^~~~~~~~~
F:/biocbuild/bbs-3.16-bioc/R/library/Rhtslib/include/htslib/kseq.h:165:16: warning: 'kseq_t* kseq_init(bioc_gzFile)' defined but not used [-Wunused-function]
165 | SCOPE kseq_t *kseq_init(type_t fd) \
| ^~~~~~~~~
F:/biocbuild/bbs-3.16-bioc/R/library/Rhtslib/include/htslib/kseq.h:165:16: note: in definition of macro '__KSEQ_BASIC'
165 | SCOPE kseq_t *kseq_init(type_t fd) \
| ^~~~~~~~~
F:/biocbuild/bbs-3.16-bioc/R/library/Rhtslib/include/htslib/kseq.h:240:35: note: in expansion of macro 'KSEQ_INIT2'
240 | #define KSEQ_INIT(type_t, __read) KSEQ_INIT2(static, type_t, __read)
| ^~~~~~~~~~
main-functions/../utility/fastq_utils.h:12:1: note: in expansion of macro 'KSEQ_INIT'
12 | KSEQ_INIT(gzFile, gzread)
| ^~~~~~~~~
/bin/sh: line 1: F:/biocbuild/bbs-3.16-bioc/R/bin.R: No such file or directory
gcc -I"F:/biocbuild/bbs-3.16-bioc/R/include" -DNDEBUG -D_FILE_OFFSET_BITS=64 -I'F:/biocbuild/bbs-3.16-bioc/R/library/Rcpp/include' -I'F:/biocbuild/bbs-3.16-bioc/R/library/Rhtslib/include' -I'F:/biocbuild/bbs-3.16-bioc/R/library/zlibbioc/include' -I"C:/rtools42/x86_64-w64-mingw32.static.posix/include" -O2 -Wall -std=gnu99 -mfpmath=sse -msse2 -mstackrealign -c bam.c -o bam.o
bam.c: In function 'bam_remove_B':
bam.c:164:2: warning: this 'for' clause does not guard... [-Wmisleading-indentation]
164 | for (k = 0; k < b->core.n_cigar; ++k)
| ^~~
bam.c:166:3: note: ...this statement, but the latter is misleadingly indented as if it were guarded by the 'for'
166 | if (k == b->core.n_cigar) return 0; // no 'B'
| ^~
bam.c:227:3: warning: this 'for' clause does not guard... [-Wmisleading-indentation]
227 | for (k = 1; k < l; ++k)
| ^~~
bam.c:231:4: note: ...this statement, but the latter is misleadingly indented as if it were guarded by the 'for'
231 | for (k = i = 0; k < l; ++k)
| ^~~
bam.c:231:4: warning: this 'for' clause does not guard... [-Wmisleading-indentation]
bam.c:234:5: note: ...this statement, but the latter is misleadingly indented as if it were guarded by the 'for'
234 | l = i;
| ^
g++ -shared -s -static-libgcc -o FLAMES.dll tmp.def RcppExports.o RcppFunctions.o main-functions/match_cell_barcode.o utility/edit_dist.o utility/fastq_utils.o utility/ssw/ssw_cpp.o bam.o utility/ssw/ssw.o F:/biocbuild/bbs-3.16-bioc/R/library/Rhtslib/usrlib/x64/libhts.a -lz -lm -lbz2 -llzma -lcurl -lidn2 -lunistring -liconv -lssl -lcrypto -lcrypt32 -lwsock32 -lwldap32 -lssh2 -lgcrypt -lgpg-error -lws2_32 -lzstd -lregex -LF:/biocbuild/bbs-3.16-bioc/R/library/zlibbioc/libs/x64 -lzlib1bioc -LC:/rtools42/x86_64-w64-mingw32.static.posix/lib/x64 -LC:/rtools42/x86_64-w64-mingw32.static.posix/lib -LF:/biocbuild/bbs-3.16-bioc/R/bin/x64 -lR
installing to F:/biocbuild/bbs-3.16-bioc/meat/FLAMES.buildbin-libdir/00LOCK-FLAMES/00new/FLAMES/libs/x64
** R
** inst
** byte-compile and prepare package for lazy loading
** help
*** installing help indices
** building package indices
** installing vignettes
** testing if installed package can be loaded from temporary location
** testing if installed package can be loaded from final location
** testing if installed package keeps a record of temporary installation path
* MD5 sums
packaged installation of 'FLAMES' as FLAMES_1.4.3.zip
* DONE (FLAMES)