| Back to Multiple platform build/check report for BioC 3.16: simplified long |
|
This page was generated on 2023-04-12 11:05:04 -0400 (Wed, 12 Apr 2023).
| Hostname | OS | Arch (*) | R version | Installed pkgs |
|---|---|---|---|---|
| nebbiolo2 | Linux (Ubuntu 20.04.5 LTS) | x86_64 | 4.2.3 (2023-03-15) -- "Shortstop Beagle" | 4502 |
| palomino4 | Windows Server 2022 Datacenter | x64 | 4.2.3 (2023-03-15 ucrt) -- "Shortstop Beagle" | 4282 |
| lconway | macOS 12.5.1 Monterey | x86_64 | 4.2.3 (2023-03-15) -- "Shortstop Beagle" | 4310 |
| Click on any hostname to see more info about the system (e.g. compilers) (*) as reported by 'uname -p', except on Windows and Mac OS X | ||||
|
To the developers/maintainers of the ExperimentSubset package: - Please allow up to 24 hours (and sometimes 48 hours) for your latest push to git@git.bioconductor.org:packages/ExperimentSubset.git to reflect on this report. See How and When does the builder pull? When will my changes propagate? for more information. - Make sure to use the following settings in order to reproduce any error or warning you see on this page. |
| Package 649/2183 | Hostname | OS / Arch | INSTALL | BUILD | CHECK | BUILD BIN | ||||||||
| ExperimentSubset 1.8.0 (landing page) Irzam Sarfraz
| nebbiolo2 | Linux (Ubuntu 20.04.5 LTS) / x86_64 | OK | OK | OK | |||||||||
| palomino4 | Windows Server 2022 Datacenter / x64 | OK | OK | OK | OK | |||||||||
| lconway | macOS 12.5.1 Monterey / x86_64 | OK | OK | OK | OK | |||||||||
| Package: ExperimentSubset |
| Version: 1.8.0 |
| Command: /home/biocbuild/bbs-3.16-bioc/R/bin/R CMD check --install=check:ExperimentSubset.install-out.txt --library=/home/biocbuild/bbs-3.16-bioc/R/site-library --timings ExperimentSubset_1.8.0.tar.gz |
| StartedAt: 2023-04-10 20:38:52 -0400 (Mon, 10 Apr 2023) |
| EndedAt: 2023-04-10 20:44:17 -0400 (Mon, 10 Apr 2023) |
| EllapsedTime: 325.3 seconds |
| RetCode: 0 |
| Status: OK |
| CheckDir: ExperimentSubset.Rcheck |
| Warnings: 0 |
############################################################################## ############################################################################## ### ### Running command: ### ### /home/biocbuild/bbs-3.16-bioc/R/bin/R CMD check --install=check:ExperimentSubset.install-out.txt --library=/home/biocbuild/bbs-3.16-bioc/R/site-library --timings ExperimentSubset_1.8.0.tar.gz ### ############################################################################## ############################################################################## * using log directory ‘/home/biocbuild/bbs-3.16-bioc/meat/ExperimentSubset.Rcheck’ * using R version 4.2.3 (2023-03-15) * using platform: x86_64-pc-linux-gnu (64-bit) * using session charset: UTF-8 * checking for file ‘ExperimentSubset/DESCRIPTION’ ... OK * checking extension type ... Package * this is package ‘ExperimentSubset’ version ‘1.8.0’ * package encoding: UTF-8 * checking package namespace information ... OK * checking package dependencies ... OK * checking if this is a source package ... OK * checking if there is a namespace ... OK * checking for hidden files and directories ... OK * checking for portable file names ... OK * checking for sufficient/correct file permissions ... OK * checking whether package ‘ExperimentSubset’ can be installed ... OK * checking installed package size ... OK * checking package directory ... OK * checking ‘build’ directory ... OK * checking DESCRIPTION meta-information ... OK * checking top-level files ... OK * checking for left-over files ... OK * checking index information ... OK * checking package subdirectories ... OK * checking R files for non-ASCII characters ... OK * checking R files for syntax errors ... OK * checking whether the package can be loaded ... OK * checking whether the package can be loaded with stated dependencies ... OK * checking whether the package can be unloaded cleanly ... OK * checking whether the namespace can be loaded with stated dependencies ... OK * checking whether the namespace can be unloaded cleanly ... OK * checking loading without being on the library search path ... OK * checking dependencies in R code ... OK * checking S3 generic/method consistency ... OK * checking replacement functions ... OK * checking foreign function calls ... OK * checking R code for possible problems ... OK * checking Rd files ... OK * checking Rd metadata ... OK * checking Rd cross-references ... OK * checking for missing documentation entries ... OK * checking for code/documentation mismatches ... OK * checking Rd \usage sections ... OK * checking Rd contents ... OK * checking for unstated dependencies in examples ... OK * checking files in ‘vignettes’ ... OK * checking examples ... OK * checking for unstated dependencies in ‘tests’ ... OK * checking tests ... Running ‘testthat.R’ OK * checking for unstated dependencies in vignettes ... OK * checking package vignettes in ‘inst/doc’ ... OK * checking running R code from vignettes ... ‘ExperimentSubset.Rmd’ using ‘UTF-8’... OK NONE * checking re-building of vignette outputs ... OK * checking PDF version of manual ... OK * DONE Status: OK
ExperimentSubset.Rcheck/00install.out
############################################################################## ############################################################################## ### ### Running command: ### ### /home/biocbuild/bbs-3.16-bioc/R/bin/R CMD INSTALL ExperimentSubset ### ############################################################################## ############################################################################## * installing to library ‘/home/biocbuild/bbs-3.16-bioc/R/site-library’ * installing *source* package ‘ExperimentSubset’ ... ** using staged installation ** R ** inst ** byte-compile and prepare package for lazy loading Warning in makePrototypeFromClassDef(properties, ClassDef, immediate, where) : in constructing the prototype for class “SubsetSummarizedExperiment”, slots in prototype and not in class: listData, elementType Warning in makePrototypeFromClassDef(properties, ClassDef, immediate, where) : in constructing the prototype for class “SubsetRangedSummarizedExperiment”, slots in prototype and not in class: listData, elementType Warning in makePrototypeFromClassDef(properties, ClassDef, immediate, where) : in constructing the prototype for class “SubsetSingleCellExperiment”, slots in prototype and not in class: listData, elementType Warning in makePrototypeFromClassDef(properties, ClassDef, immediate, where) : in constructing the prototype for class “SubsetTreeSummarizedExperiment”, slots in prototype and not in class: listData, elementType Warning in makePrototypeFromClassDef(properties, ClassDef, immediate, where) : in constructing the prototype for class “SubsetSpatialExperiment”, slots in prototype and not in class: listData, elementType ** help *** installing help indices ** building package indices ** installing vignettes ** testing if installed package can be loaded from temporary location ** testing if installed package can be loaded from final location ** testing if installed package keeps a record of temporary installation path * DONE (ExperimentSubset)
ExperimentSubset.Rcheck/tests/testthat.Rout
R version 4.2.3 (2023-03-15) -- "Shortstop Beagle"
Copyright (C) 2023 The R Foundation for Statistical Computing
Platform: x86_64-pc-linux-gnu (64-bit)
R is free software and comes with ABSOLUTELY NO WARRANTY.
You are welcome to redistribute it under certain conditions.
Type 'license()' or 'licence()' for distribution details.
R is a collaborative project with many contributors.
Type 'contributors()' for more information and
'citation()' on how to cite R or R packages in publications.
Type 'demo()' for some demos, 'help()' for on-line help, or
'help.start()' for an HTML browser interface to help.
Type 'q()' to quit R.
> library(testthat)
> library(ExperimentSubset)
Loading required package: SummarizedExperiment
Loading required package: MatrixGenerics
Loading required package: matrixStats
Attaching package: 'MatrixGenerics'
The following objects are masked from 'package:matrixStats':
colAlls, colAnyNAs, colAnys, colAvgsPerRowSet, colCollapse,
colCounts, colCummaxs, colCummins, colCumprods, colCumsums,
colDiffs, colIQRDiffs, colIQRs, colLogSumExps, colMadDiffs,
colMads, colMaxs, colMeans2, colMedians, colMins, colOrderStats,
colProds, colQuantiles, colRanges, colRanks, colSdDiffs, colSds,
colSums2, colTabulates, colVarDiffs, colVars, colWeightedMads,
colWeightedMeans, colWeightedMedians, colWeightedSds,
colWeightedVars, rowAlls, rowAnyNAs, rowAnys, rowAvgsPerColSet,
rowCollapse, rowCounts, rowCummaxs, rowCummins, rowCumprods,
rowCumsums, rowDiffs, rowIQRDiffs, rowIQRs, rowLogSumExps,
rowMadDiffs, rowMads, rowMaxs, rowMeans2, rowMedians, rowMins,
rowOrderStats, rowProds, rowQuantiles, rowRanges, rowRanks,
rowSdDiffs, rowSds, rowSums2, rowTabulates, rowVarDiffs, rowVars,
rowWeightedMads, rowWeightedMeans, rowWeightedMedians,
rowWeightedSds, rowWeightedVars
Loading required package: GenomicRanges
Loading required package: stats4
Loading required package: BiocGenerics
Attaching package: 'BiocGenerics'
The following objects are masked from 'package:stats':
IQR, mad, sd, var, xtabs
The following objects are masked from 'package:base':
Filter, Find, Map, Position, Reduce, anyDuplicated, aperm, append,
as.data.frame, basename, cbind, colnames, dirname, do.call,
duplicated, eval, evalq, get, grep, grepl, intersect, is.unsorted,
lapply, mapply, match, mget, order, paste, pmax, pmax.int, pmin,
pmin.int, rank, rbind, rownames, sapply, setdiff, sort, table,
tapply, union, unique, unsplit, which.max, which.min
Loading required package: S4Vectors
Attaching package: 'S4Vectors'
The following objects are masked from 'package:base':
I, expand.grid, unname
Loading required package: IRanges
Loading required package: GenomeInfoDb
Loading required package: Biobase
Welcome to Bioconductor
Vignettes contain introductory material; view with
'browseVignettes()'. To cite Bioconductor, see
'citation("Biobase")', and for packages 'citation("pkgname")'.
Attaching package: 'Biobase'
The following object is masked from 'package:MatrixGenerics':
rowMedians
The following objects are masked from 'package:matrixStats':
anyMissing, rowMedians
Loading required package: SingleCellExperiment
Loading required package: SpatialExperiment
Loading required package: TreeSummarizedExperiment
Loading required package: Biostrings
Loading required package: XVector
Attaching package: 'Biostrings'
The following object is masked from 'package:base':
strsplit
Attaching package: 'ExperimentSubset'
The following objects are masked from 'package:SingleCellExperiment':
reducedDimNames, reducedDimNames<-, reducedDims<-
>
> test_check("ExperimentSubset")
class: SubsetSummarizedExperiment
dim: 2000 2000
metadata(0):
assays(2): counts logcounts
rownames(2000): C12orf73 RNU6-1256P ... FOXF1 PRR3
rowData names(0):
colnames(2000): CTGCTGTCAGGGTATG CAGTCCTTCGGTTAAC ... GATGCTATCAGCAACT
ATTTCTGGTGATGATA
colData names(0):
subsets(1): s1
subsetAssays(1): s1Main assay(s):
counts logcounts assay2
Subset(s):
Name Dim Parent Assays
1 s1 10, 2000 counts newS1
Main assay(s):
counts
Subset(s):
NULL
class: SubsetRangedSummarizedExperiment
dim: 64102 8
metadata(1): ''
assays(1): counts
rownames(64102): ENSG00000000003 ENSG00000000005 ... LRG_98 LRG_99
rowData names(0):
colnames(8): SRR1039508 SRR1039509 ... SRR1039520 SRR1039521
colData names(9): SampleName cell ... Sample BioSample
subsets(1): s2
subsetAssays(1): s2Main assay(s):
counts assay2
Subset(s):
Name Dim Parent Assays
1 s2 15, 8 counts newS2
Main assay(s):
counts logcounts
Subset(s):
Name Dim Parent Assays
1 subset1 10, 10 counts scaledSubset1
class: SubsetSingleCellExperiment
dim: 2000 2000
metadata(0):
assays(2): counts logcounts
rownames(2000): C12orf73 RNU6-1256P ... FOXF1 PRR3
rowData names(1): gene
colnames(2000): CTGCTGTCAGGGTATG CAGTCCTTCGGTTAAC ... GATGCTATCAGCAACT
ATTTCTGGTGATGATA
colData names(11): nGene nUMI ... ident doublet_true_labels
reducedDimNames(0):
mainExpName: NULL
altExpNames(0):
subsets(1): subset1
subsetAssays(2): subset1 scaledSubset1[ FAIL 0 | WARN 0 | SKIP 0 | PASS 127 ]
>
> proc.time()
user system elapsed
81.646 3.961 90.440
ExperimentSubset.Rcheck/ExperimentSubset-Ex.timings
| name | user | system | elapsed | |
| ExperimentSubset | 0.278 | 0.020 | 0.298 | |
| createSubset | 0.462 | 0.024 | 0.486 | |
| getSubsetAssay | 0.353 | 0.028 | 0.380 | |
| reducedDimNames-set | 2.355 | 0.152 | 2.506 | |
| reducedDimNames | 0.729 | 0.024 | 0.753 | |
| reducedDims-set | 0.740 | 0.000 | 0.741 | |
| setSubsetAssay | 0.549 | 0.000 | 0.549 | |
| subsetAssayCount | 0.401 | 0.012 | 0.414 | |
| subsetAssayNames | 0.330 | 0.004 | 0.334 | |
| subsetColData | 0.271 | 0.004 | 0.275 | |
| subsetColnames | 1.085 | 0.084 | 1.170 | |
| subsetCount | 0.255 | 0.008 | 0.263 | |
| subsetDim | 0.262 | 0.012 | 0.275 | |
| subsetNames | 0.271 | 0.004 | 0.276 | |
| subsetParent | 0.369 | 0.016 | 0.386 | |
| subsetRowData | 0.259 | 0.052 | 0.312 | |
| subsetRownames | 0.292 | 0.024 | 0.317 | |
| subsetSummary | 0.4 | 0.0 | 0.4 | |