| Back to Multiple platform build/check report for BioC 3.16: simplified long |
|
This page was generated on 2023-04-12 11:06:06 -0400 (Wed, 12 Apr 2023).
| Hostname | OS | Arch (*) | R version | Installed pkgs |
|---|---|---|---|---|
| nebbiolo2 | Linux (Ubuntu 20.04.5 LTS) | x86_64 | 4.2.3 (2023-03-15) -- "Shortstop Beagle" | 4502 |
| palomino4 | Windows Server 2022 Datacenter | x64 | 4.2.3 (2023-03-15 ucrt) -- "Shortstop Beagle" | 4282 |
| lconway | macOS 12.5.1 Monterey | x86_64 | 4.2.3 (2023-03-15) -- "Shortstop Beagle" | 4310 |
| Click on any hostname to see more info about the system (e.g. compilers) (*) as reported by 'uname -p', except on Windows and Mac OS X | ||||
|
To the developers/maintainers of the EmpiricalBrownsMethod package: - Please allow up to 24 hours (and sometimes 48 hours) for your latest push to git@git.bioconductor.org:packages/EmpiricalBrownsMethod.git to reflect on this report. See How and When does the builder pull? When will my changes propagate? for more information. - Make sure to use the following settings in order to reproduce any error or warning you see on this page. |
| Package 604/2183 | Hostname | OS / Arch | INSTALL | BUILD | CHECK | BUILD BIN | ||||||||
| EmpiricalBrownsMethod 1.26.0 (landing page) David Gibbs
| nebbiolo2 | Linux (Ubuntu 20.04.5 LTS) / x86_64 | OK | OK | OK | |||||||||
| palomino4 | Windows Server 2022 Datacenter / x64 | OK | OK | OK | OK | |||||||||
| lconway | macOS 12.5.1 Monterey / x86_64 | OK | OK | OK | OK | |||||||||
| Package: EmpiricalBrownsMethod |
| Version: 1.26.0 |
| Command: /Library/Frameworks/R.framework/Resources/bin/R CMD check --install=check:EmpiricalBrownsMethod.install-out.txt --library=/Library/Frameworks/R.framework/Resources/library --no-vignettes --timings EmpiricalBrownsMethod_1.26.0.tar.gz |
| StartedAt: 2023-04-10 20:02:36 -0400 (Mon, 10 Apr 2023) |
| EndedAt: 2023-04-10 20:02:59 -0400 (Mon, 10 Apr 2023) |
| EllapsedTime: 22.7 seconds |
| RetCode: 0 |
| Status: OK |
| CheckDir: EmpiricalBrownsMethod.Rcheck |
| Warnings: 0 |
##############################################################################
##############################################################################
###
### Running command:
###
### /Library/Frameworks/R.framework/Resources/bin/R CMD check --install=check:EmpiricalBrownsMethod.install-out.txt --library=/Library/Frameworks/R.framework/Resources/library --no-vignettes --timings EmpiricalBrownsMethod_1.26.0.tar.gz
###
##############################################################################
##############################################################################
* using log directory ‘/Users/biocbuild/bbs-3.16-bioc/meat/EmpiricalBrownsMethod.Rcheck’
* using R version 4.2.3 (2023-03-15)
* using platform: x86_64-apple-darwin17.0 (64-bit)
* using session charset: UTF-8
* using option ‘--no-vignettes’
* checking for file ‘EmpiricalBrownsMethod/DESCRIPTION’ ... OK
* this is package ‘EmpiricalBrownsMethod’ version ‘1.26.0’
* package encoding: UTF-8
* checking package namespace information ... OK
* checking package dependencies ... OK
* checking if this is a source package ... OK
* checking if there is a namespace ... OK
* checking for hidden files and directories ... OK
* checking for portable file names ... OK
* checking for sufficient/correct file permissions ... OK
* checking whether package ‘EmpiricalBrownsMethod’ can be installed ... OK
* checking installed package size ... OK
* checking package directory ... OK
* checking ‘build’ directory ... OK
* checking DESCRIPTION meta-information ... OK
* checking top-level files ... OK
* checking for left-over files ... OK
* checking index information ... OK
* checking package subdirectories ... OK
* checking R files for non-ASCII characters ... OK
* checking R files for syntax errors ... OK
* checking whether the package can be loaded ... OK
* checking whether the package can be loaded with stated dependencies ... OK
* checking whether the package can be unloaded cleanly ... OK
* checking whether the namespace can be loaded with stated dependencies ... OK
* checking whether the namespace can be unloaded cleanly ... OK
* checking dependencies in R code ... OK
* checking S3 generic/method consistency ... OK
* checking replacement functions ... OK
* checking foreign function calls ... OK
* checking R code for possible problems ... NOTE
calculateCovariances: no visible global function definition for ‘cov’
calculateKostCovariance: no visible global function definition for
‘cor.test’
combinePValues: no visible global function definition for ‘pchisq’
pop.var: no visible global function definition for ‘var’
transformData: no visible global function definition for ‘ecdf’
Undefined global functions or variables:
cor.test cov ecdf pchisq var
Consider adding
importFrom("stats", "cor.test", "cov", "ecdf", "pchisq", "var")
to your NAMESPACE file.
* checking Rd files ... OK
* checking Rd metadata ... OK
* checking Rd cross-references ... OK
* checking for missing documentation entries ... OK
* checking for code/documentation mismatches ... OK
* checking Rd \usage sections ... OK
* checking Rd contents ... OK
* checking for unstated dependencies in examples ... OK
* checking contents of ‘data’ directory ... OK
* checking data for non-ASCII characters ... OK
* checking LazyData ... OK
* checking data for ASCII and uncompressed saves ... OK
* checking files in ‘vignettes’ ... OK
* checking examples ... OK
* checking for unstated dependencies in ‘tests’ ... OK
* checking tests ...
Running ‘test-all.R’
OK
* checking for unstated dependencies in vignettes ... OK
* checking package vignettes in ‘inst/doc’ ... OK
* checking running R code from vignettes ... SKIPPED
* checking re-building of vignette outputs ... SKIPPED
* checking PDF version of manual ... OK
* DONE
Status: 1 NOTE
See
‘/Users/biocbuild/bbs-3.16-bioc/meat/EmpiricalBrownsMethod.Rcheck/00check.log’
for details.
EmpiricalBrownsMethod.Rcheck/00install.out
############################################################################## ############################################################################## ### ### Running command: ### ### /Library/Frameworks/R.framework/Resources/bin/R CMD INSTALL EmpiricalBrownsMethod ### ############################################################################## ############################################################################## * installing to library ‘/Library/Frameworks/R.framework/Versions/4.2/Resources/library’ * installing *source* package ‘EmpiricalBrownsMethod’ ... ** using staged installation ** R ** data *** moving datasets to lazyload DB ** inst ** byte-compile and prepare package for lazy loading ** help *** installing help indices ** building package indices ** installing vignettes ** testing if installed package can be loaded from temporary location ** testing if installed package can be loaded from final location ** testing if installed package keeps a record of temporary installation path * DONE (EmpiricalBrownsMethod)
EmpiricalBrownsMethod.Rcheck/tests/test-all.Rout
R version 4.2.3 (2023-03-15) -- "Shortstop Beagle"
Copyright (C) 2023 The R Foundation for Statistical Computing
Platform: x86_64-apple-darwin17.0 (64-bit)
R is free software and comes with ABSOLUTELY NO WARRANTY.
You are welcome to redistribute it under certain conditions.
Type 'license()' or 'licence()' for distribution details.
R is a collaborative project with many contributors.
Type 'contributors()' for more information and
'citation()' on how to cite R or R packages in publications.
Type 'demo()' for some demos, 'help()' for on-line help, or
'help.start()' for an HTML browser interface to help.
Type 'q()' to quit R.
> ## Run the tests if the system variable 'R_CHECK_TESTS' is set to TRUE
>
> # code from bioconductor package 'derfinder' -- thank you!
>
> flag <- as.logical(Sys.getenv('R_CHECK_TESTS'))
> if(!is.na(flag)) {
+ if(flag == TRUE) {
+ library('testthat')
+ test_check('test_ebm_main')
+ }
+ } else {
+ message('Set the system variable R_CHECK_TESTS to TRUE to run all the tests.')
+ }
Set the system variable R_CHECK_TESTS to TRUE to run all the tests.
>
> proc.time()
user system elapsed
0.169 0.059 0.223
EmpiricalBrownsMethod.Rcheck/EmpiricalBrownsMethod-Ex.timings
| name | user | system | elapsed | |
| empiricalBrownsMethod | 0.024 | 0.003 | 0.028 | |
| kostsMethod | 0.011 | 0.002 | 0.013 | |