| Back to Multiple platform build/check report for BioC 3.16: simplified long |
|
This page was generated on 2023-04-12 11:06:05 -0400 (Wed, 12 Apr 2023).
| Hostname | OS | Arch (*) | R version | Installed pkgs |
|---|---|---|---|---|
| nebbiolo2 | Linux (Ubuntu 20.04.5 LTS) | x86_64 | 4.2.3 (2023-03-15) -- "Shortstop Beagle" | 4502 |
| palomino4 | Windows Server 2022 Datacenter | x64 | 4.2.3 (2023-03-15 ucrt) -- "Shortstop Beagle" | 4282 |
| lconway | macOS 12.5.1 Monterey | x86_64 | 4.2.3 (2023-03-15) -- "Shortstop Beagle" | 4310 |
| Click on any hostname to see more info about the system (e.g. compilers) (*) as reported by 'uname -p', except on Windows and Mac OS X | ||||
|
To the developers/maintainers of the DominoEffect package: - Please allow up to 24 hours (and sometimes 48 hours) for your latest push to git@git.bioconductor.org:packages/DominoEffect.git to reflect on this report. See How and When does the builder pull? When will my changes propagate? for more information. - Make sure to use the following settings in order to reproduce any error or warning you see on this page. |
| Package 563/2183 | Hostname | OS / Arch | INSTALL | BUILD | CHECK | BUILD BIN | ||||||||
| DominoEffect 1.18.0 (landing page) Marija Buljan
| nebbiolo2 | Linux (Ubuntu 20.04.5 LTS) / x86_64 | OK | OK | OK | |||||||||
| palomino4 | Windows Server 2022 Datacenter / x64 | OK | OK | OK | OK | |||||||||
| lconway | macOS 12.5.1 Monterey / x86_64 | OK | OK | OK | OK | |||||||||
| Package: DominoEffect |
| Version: 1.18.0 |
| Command: /Library/Frameworks/R.framework/Resources/bin/R CMD check --install=check:DominoEffect.install-out.txt --library=/Library/Frameworks/R.framework/Resources/library --no-vignettes --timings DominoEffect_1.18.0.tar.gz |
| StartedAt: 2023-04-10 19:58:09 -0400 (Mon, 10 Apr 2023) |
| EndedAt: 2023-04-10 20:04:19 -0400 (Mon, 10 Apr 2023) |
| EllapsedTime: 370.4 seconds |
| RetCode: 0 |
| Status: OK |
| CheckDir: DominoEffect.Rcheck |
| Warnings: 0 |
##############################################################################
##############################################################################
###
### Running command:
###
### /Library/Frameworks/R.framework/Resources/bin/R CMD check --install=check:DominoEffect.install-out.txt --library=/Library/Frameworks/R.framework/Resources/library --no-vignettes --timings DominoEffect_1.18.0.tar.gz
###
##############################################################################
##############################################################################
* using log directory ‘/Users/biocbuild/bbs-3.16-bioc/meat/DominoEffect.Rcheck’
* using R version 4.2.3 (2023-03-15)
* using platform: x86_64-apple-darwin17.0 (64-bit)
* using session charset: UTF-8
* using option ‘--no-vignettes’
* checking for file ‘DominoEffect/DESCRIPTION’ ... OK
* checking extension type ... Package
* this is package ‘DominoEffect’ version ‘1.18.0’
* package encoding: UTF-8
* checking package namespace information ... OK
* checking package dependencies ... OK
* checking if this is a source package ... OK
* checking if there is a namespace ... OK
* checking for hidden files and directories ... OK
* checking for portable file names ... OK
* checking for sufficient/correct file permissions ... OK
* checking whether package ‘DominoEffect’ can be installed ... OK
* checking installed package size ... OK
* checking package directory ... OK
* checking ‘build’ directory ... OK
* checking DESCRIPTION meta-information ... OK
* checking top-level files ... OK
* checking for left-over files ... OK
* checking index information ... OK
* checking package subdirectories ... OK
* checking R files for non-ASCII characters ... OK
* checking R files for syntax errors ... OK
* checking whether the package can be loaded ... OK
* checking whether the package can be loaded with stated dependencies ... OK
* checking whether the package can be unloaded cleanly ... OK
* checking whether the namespace can be loaded with stated dependencies ... OK
* checking whether the namespace can be unloaded cleanly ... OK
* checking dependencies in R code ... OK
* checking S3 generic/method consistency ... OK
* checking replacement functions ... OK
* checking foreign function calls ... OK
* checking R code for possible problems ... NOTE
import_txdb: no visible binding for global variable ‘TXTYPE’
Undefined global functions or variables:
TXTYPE
* checking Rd files ... OK
* checking Rd metadata ... OK
* checking Rd cross-references ... OK
* checking for missing documentation entries ... OK
* checking for code/documentation mismatches ... OK
* checking Rd \usage sections ... OK
* checking Rd contents ... OK
* checking for unstated dependencies in examples ... OK
* checking contents of ‘data’ directory ... OK
* checking data for non-ASCII characters ... OK
* checking LazyData ... OK
* checking data for ASCII and uncompressed saves ... OK
* checking files in ‘vignettes’ ... OK
* checking examples ... OK
Examples with CPU (user + system) or elapsed time > 5s
user system elapsed
map_to_func_elem 1.683 0.079 21.460
DominoEffect 1.277 0.143 25.169
GPo_of_hotspots 1.000 0.083 17.259
* checking for unstated dependencies in ‘tests’ ... OK
* checking tests ...
Running ‘test-all.R’
OK
* checking for unstated dependencies in vignettes ... OK
* checking package vignettes in ‘inst/doc’ ... OK
* checking running R code from vignettes ... SKIPPED
* checking re-building of vignette outputs ... SKIPPED
* checking PDF version of manual ... OK
* DONE
Status: 1 NOTE
See
‘/Users/biocbuild/bbs-3.16-bioc/meat/DominoEffect.Rcheck/00check.log’
for details.
DominoEffect.Rcheck/00install.out
############################################################################## ############################################################################## ### ### Running command: ### ### /Library/Frameworks/R.framework/Resources/bin/R CMD INSTALL DominoEffect ### ############################################################################## ############################################################################## * installing to library ‘/Library/Frameworks/R.framework/Versions/4.2/Resources/library’ * installing *source* package ‘DominoEffect’ ... ** using staged installation ** R ** data *** moving datasets to lazyload DB ** inst ** byte-compile and prepare package for lazy loading ** help *** installing help indices ** building package indices ** installing vignettes ** testing if installed package can be loaded from temporary location ** testing if installed package can be loaded from final location ** testing if installed package keeps a record of temporary installation path * DONE (DominoEffect)
DominoEffect.Rcheck/tests/test-all.Rout
R version 4.2.3 (2023-03-15) -- "Shortstop Beagle"
Copyright (C) 2023 The R Foundation for Statistical Computing
Platform: x86_64-apple-darwin17.0 (64-bit)
R is free software and comes with ABSOLUTELY NO WARRANTY.
You are welcome to redistribute it under certain conditions.
Type 'license()' or 'licence()' for distribution details.
R is a collaborative project with many contributors.
Type 'contributors()' for more information and
'citation()' on how to cite R or R packages in publications.
Type 'demo()' for some demos, 'help()' for on-line help, or
'help.start()' for an HTML browser interface to help.
Type 'q()' to quit R.
> library(testthat)
> test_check("DominoEffect")
Loading required package: DominoEffect
trying URL 'http://www.uniprot.org/uniprot/P50148.fasta'
Content type 'text/plain; format=fasta' length 483 bytes
==================================================
downloaded 483 bytes
trying URL 'http://www.uniprot.org/uniprot/P29992.fasta'
Content type 'text/plain; format=fasta' length 483 bytes
==================================================
downloaded 483 bytes
trying URL 'http://www.uniprot.org/uniprot/O75533.fasta'
Content type 'text/plain; format=fasta' length 1421 bytes
==================================================
downloaded 1421 bytes
trying URL 'http://www.uniprot.org/uniprot/Q9NR22.fasta'
Content type 'text/plain; format=fasta' length 505 bytes
==================================================
downloaded 505 bytes
trying URL 'http://www.uniprot.org/uniprot/O96017.fasta'
Content type 'text/plain; format=fasta' length 655 bytes
==================================================
downloaded 655 bytes
================================================================================
trying URL 'http://www.uniprot.org/uniprot/P50148.fasta'
Content type 'text/plain; format=fasta' length 483 bytes
==================================================
downloaded 483 bytes
trying URL 'http://www.uniprot.org/uniprot/P29992.fasta'
Content type 'text/plain; format=fasta' length 483 bytes
==================================================
downloaded 483 bytes
trying URL 'http://www.uniprot.org/uniprot/Q9NR22.fasta'
Content type 'text/plain; format=fasta' length 505 bytes
==================================================
downloaded 505 bytes
================================================================================
trying URL 'http://www.uniprot.org/uniprot/P50148.fasta'
Content type 'text/plain; format=fasta' length 483 bytes
==================================================
downloaded 483 bytes
trying URL 'http://www.uniprot.org/uniprot/P29992.fasta'
Content type 'text/plain; format=fasta' length 483 bytes
==================================================
downloaded 483 bytes
================================================================================
trying URL 'http://www.uniprot.org/uniprot/P50148.fasta'
Content type 'text/plain; format=fasta' length 483 bytes
==================================================
downloaded 483 bytes
trying URL 'http://www.uniprot.org/uniprot/P29992.fasta'
Content type 'text/plain; format=fasta' length 483 bytes
==================================================
downloaded 483 bytes
trying URL 'http://www.uniprot.org/uniprot/O75533.fasta'
Content type 'text/plain; format=fasta' length 1421 bytes
==================================================
downloaded 1421 bytes
trying URL 'http://www.uniprot.org/uniprot/Q9NR22.fasta'
Content type 'text/plain; format=fasta' length 505 bytes
==================================================
downloaded 505 bytes
trying URL 'http://www.uniprot.org/uniprot/O96017.fasta'
Content type 'text/plain; format=fasta' length 655 bytes
==================================================
downloaded 655 bytes
================================================================================
[ FAIL 0 | WARN 4 | SKIP 0 | PASS 15 ]
[ FAIL 0 | WARN 4 | SKIP 0 | PASS 15 ]
>
> proc.time()
user system elapsed
16.377 0.876 69.148
DominoEffect.Rcheck/DominoEffect-Ex.timings
| name | user | system | elapsed | |
| DominoEffect | 1.277 | 0.143 | 25.169 | |
| GPo_of_hotspots | 1.000 | 0.083 | 17.259 | |
| align_to_unip | 0.185 | 0.009 | 0.195 | |
| calculate_boundary | 0.001 | 0.000 | 0.001 | |
| identify_hotspots | 0.122 | 0.003 | 0.125 | |
| import_txdb | 0.000 | 0.000 | 0.001 | |
| map_to_func_elem | 1.683 | 0.079 | 21.460 | |