| Back to Multiple platform build/check report for BioC 3.16: simplified long |
|
This page was generated on 2023-04-12 11:05:02 -0400 (Wed, 12 Apr 2023).
| Hostname | OS | Arch (*) | R version | Installed pkgs |
|---|---|---|---|---|
| nebbiolo2 | Linux (Ubuntu 20.04.5 LTS) | x86_64 | 4.2.3 (2023-03-15) -- "Shortstop Beagle" | 4502 |
| palomino4 | Windows Server 2022 Datacenter | x64 | 4.2.3 (2023-03-15 ucrt) -- "Shortstop Beagle" | 4282 |
| lconway | macOS 12.5.1 Monterey | x86_64 | 4.2.3 (2023-03-15) -- "Shortstop Beagle" | 4310 |
| Click on any hostname to see more info about the system (e.g. compilers) (*) as reported by 'uname -p', except on Windows and Mac OS X | ||||
|
To the developers/maintainers of the DeepBlueR package: - Please allow up to 24 hours (and sometimes 48 hours) for your latest push to git@git.bioconductor.org:packages/DeepBlueR.git to reflect on this report. See How and When does the builder pull? When will my changes propagate? for more information. - Make sure to use the following settings in order to reproduce any error or warning you see on this page. |
| Package 495/2183 | Hostname | OS / Arch | INSTALL | BUILD | CHECK | BUILD BIN | ||||||||
| DeepBlueR 1.24.1 (landing page) Felipe Albrecht
| nebbiolo2 | Linux (Ubuntu 20.04.5 LTS) / x86_64 | OK | OK | OK | |||||||||
| palomino4 | Windows Server 2022 Datacenter / x64 | OK | OK | OK | OK | |||||||||
| lconway | macOS 12.5.1 Monterey / x86_64 | OK | OK | OK | OK | |||||||||
| Package: DeepBlueR |
| Version: 1.24.1 |
| Command: /home/biocbuild/bbs-3.16-bioc/R/bin/R CMD check --install=check:DeepBlueR.install-out.txt --library=/home/biocbuild/bbs-3.16-bioc/R/site-library --timings DeepBlueR_1.24.1.tar.gz |
| StartedAt: 2023-04-10 20:10:11 -0400 (Mon, 10 Apr 2023) |
| EndedAt: 2023-04-10 20:26:07 -0400 (Mon, 10 Apr 2023) |
| EllapsedTime: 955.3 seconds |
| RetCode: 0 |
| Status: OK |
| CheckDir: DeepBlueR.Rcheck |
| Warnings: 0 |
##############################################################################
##############################################################################
###
### Running command:
###
### /home/biocbuild/bbs-3.16-bioc/R/bin/R CMD check --install=check:DeepBlueR.install-out.txt --library=/home/biocbuild/bbs-3.16-bioc/R/site-library --timings DeepBlueR_1.24.1.tar.gz
###
##############################################################################
##############################################################################
* using log directory ‘/home/biocbuild/bbs-3.16-bioc/meat/DeepBlueR.Rcheck’
* using R version 4.2.3 (2023-03-15)
* using platform: x86_64-pc-linux-gnu (64-bit)
* using session charset: UTF-8
* checking for file ‘DeepBlueR/DESCRIPTION’ ... OK
* checking extension type ... Package
* this is package ‘DeepBlueR’ version ‘1.24.1’
* checking package namespace information ... OK
* checking package dependencies ... OK
* checking if this is a source package ... OK
* checking if there is a namespace ... OK
* checking for hidden files and directories ... OK
* checking for portable file names ... OK
* checking for sufficient/correct file permissions ... OK
* checking whether package ‘DeepBlueR’ can be installed ... OK
* checking installed package size ... OK
* checking package directory ... OK
* checking ‘build’ directory ... OK
* checking DESCRIPTION meta-information ... OK
* checking top-level files ... OK
* checking for left-over files ... OK
* checking index information ... OK
* checking package subdirectories ... OK
* checking R files for non-ASCII characters ... OK
* checking R files for syntax errors ... OK
* checking whether the package can be loaded ... OK
* checking whether the package can be loaded with stated dependencies ... OK
* checking whether the package can be unloaded cleanly ... OK
* checking whether the namespace can be loaded with stated dependencies ... OK
* checking whether the namespace can be unloaded cleanly ... OK
* checking loading without being on the library search path ... OK
* checking dependencies in R code ... OK
* checking S3 generic/method consistency ... OK
* checking replacement functions ... OK
* checking foreign function calls ... OK
* checking R code for possible problems ... OK
* checking Rd files ... NOTE
prepare_Rd: deepblue_enrich_regions_fast.Rd:35-38: Dropping empty section \examples
* checking Rd metadata ... OK
* checking Rd cross-references ... OK
* checking for missing documentation entries ... OK
* checking for code/documentation mismatches ... OK
* checking Rd \usage sections ... OK
* checking Rd contents ... OK
* checking for unstated dependencies in examples ... OK
* checking files in ‘vignettes’ ... OK
* checking examples ... OK
Examples with CPU (user + system) or elapsed time > 5s
user system elapsed
deepblue_enrich_regions_overlap 0.519 0.1 5.245
* checking for unstated dependencies in vignettes ... OK
* checking package vignettes in ‘inst/doc’ ... OK
* checking running R code from vignettes ...
‘DeepBlueR.Rmd’ using ‘UTF-8’... OK
NONE
* checking re-building of vignette outputs ... OK
* checking PDF version of manual ... OK
* DONE
Status: 1 NOTE
See
‘/home/biocbuild/bbs-3.16-bioc/meat/DeepBlueR.Rcheck/00check.log’
for details.
DeepBlueR.Rcheck/00install.out
############################################################################## ############################################################################## ### ### Running command: ### ### /home/biocbuild/bbs-3.16-bioc/R/bin/R CMD INSTALL DeepBlueR ### ############################################################################## ############################################################################## * installing to library ‘/home/biocbuild/bbs-3.16-bioc/R/site-library’ * installing *source* package ‘DeepBlueR’ ... ** using staged installation ** R ** demo ** inst ** byte-compile and prepare package for lazy loading Called method: deepblue_list_column_types Reported status was: okay Called method: deepblue_info Reported status was: okay ** help *** installing help indices ** building package indices ** installing vignettes ** testing if installed package can be loaded from temporary location ** testing if installed package can be loaded from final location ** testing if installed package keeps a record of temporary installation path * DONE (DeepBlueR)
DeepBlueR.Rcheck/DeepBlueR-Ex.timings
| name | user | system | elapsed | |
| deepblue_aggregate | 0.067 | 0.007 | 0.957 | |
| deepblue_batch_export_results | 1.100 | 0.229 | 4.178 | |
| deepblue_binning | 0.034 | 0.004 | 0.632 | |
| deepblue_cache_status | 0.003 | 0.000 | 0.002 | |
| deepblue_cancel_request | 0.016 | 0.000 | 0.314 | |
| deepblue_chromosomes | 0.057 | 0.000 | 0.355 | |
| deepblue_clear_cache | 0.001 | 0.000 | 0.001 | |
| deepblue_collection_experiments_count | 0.101 | 0.000 | 0.762 | |
| deepblue_commands | 0.135 | 0.008 | 1.463 | |
| deepblue_count_gene_ontology_terms | 0.105 | 0.008 | 0.375 | |
| deepblue_count_regions | 0.036 | 0.000 | 0.562 | |
| deepblue_coverage | 0.035 | 0.004 | 0.607 | |
| deepblue_delete_request_from_cache | 0.000 | 0.002 | 0.002 | |
| deepblue_diff | 0.142 | 0.025 | 0.754 | |
| deepblue_distinct_column_values | 0.034 | 0.003 | 0.625 | |
| deepblue_download_request_data | 0.142 | 0.048 | 1.590 | |
| deepblue_echo | 0.016 | 0.000 | 0.311 | |
| deepblue_enrich_regions_go_terms | 0.062 | 0.005 | 1.956 | |
| deepblue_enrich_regions_overlap | 0.519 | 0.100 | 5.245 | |
| deepblue_export_bed | 0.200 | 0.033 | 2.248 | |
| deepblue_export_meta_data | 0.270 | 0.031 | 0.722 | |
| deepblue_export_tab | 0.114 | 0.024 | 1.241 | |
| deepblue_extend | 0.051 | 0.000 | 0.660 | |
| deepblue_extract_ids | 0.001 | 0.000 | 0.001 | |
| deepblue_extract_names | 0.000 | 0.000 | 0.001 | |
| deepblue_faceting_experiments | 0.029 | 0.002 | 0.693 | |
| deepblue_filter_regions | 0.019 | 0.000 | 0.270 | |
| deepblue_find_motif | 0.030 | 0.000 | 0.325 | |
| deepblue_flank | 0.052 | 0.000 | 0.625 | |
| deepblue_get_biosource_children | 0.025 | 0.000 | 0.276 | |
| deepblue_get_biosource_parents | 0.017 | 0.000 | 0.308 | |
| deepblue_get_biosource_related | 0.024 | 0.000 | 0.322 | |
| deepblue_get_biosource_synonyms | 0.021 | 0.000 | 0.313 | |
| deepblue_get_experiments_by_query | 0.013 | 0.004 | 0.307 | |
| deepblue_get_regions | 0.033 | 0.012 | 0.613 | |
| deepblue_get_request_data | 0.068 | 0.007 | 1.266 | |
| deepblue_info | 0.031 | 0.016 | 0.340 | |
| deepblue_input_regions | 0.018 | 0.004 | 0.336 | |
| deepblue_intersection | 0.067 | 0.003 | 0.926 | |
| deepblue_is_biosource | 0.016 | 0.003 | 0.314 | |
| deepblue_liftover | 0.439 | 0.059 | 4.392 | |
| deepblue_list_annotations | 0.029 | 0.000 | 0.336 | |
| deepblue_list_biosources | 0.015 | 0.004 | 0.325 | |
| deepblue_list_cached_requests | 0.002 | 0.000 | 0.002 | |
| deepblue_list_column_types | 0.055 | 0.008 | 0.471 | |
| deepblue_list_epigenetic_marks | 0.343 | 0.020 | 1.683 | |
| deepblue_list_experiments | 0.107 | 0.000 | 0.781 | |
| deepblue_list_expressions | 0.100 | 0.000 | 0.597 | |
| deepblue_list_gene_models | 0.018 | 0.000 | 0.314 | |
| deepblue_list_genes | 0.258 | 0.020 | 1.837 | |
| deepblue_list_genomes | 0.016 | 0.000 | 0.309 | |
| deepblue_list_in_use | 0.313 | 0.032 | 2.149 | |
| deepblue_list_projects | 0.019 | 0.001 | 0.274 | |
| deepblue_list_recent_experiments | 0.025 | 0.003 | 0.280 | |
| deepblue_list_requests | 0.020 | 0.000 | 0.321 | |
| deepblue_list_samples | 0.112 | 0.015 | 1.022 | |
| deepblue_list_similar_biosources | 0.025 | 0.004 | 0.563 | |
| deepblue_list_similar_epigenetic_marks | 0.028 | 0.000 | 0.296 | |
| deepblue_list_similar_experiments | 0.013 | 0.009 | 0.862 | |
| deepblue_list_similar_genomes | 0.011 | 0.008 | 0.313 | |
| deepblue_list_similar_projects | 0.019 | 0.000 | 0.314 | |
| deepblue_list_similar_techniques | 0.025 | 0.000 | 0.322 | |
| deepblue_list_techniques | 0.026 | 0.004 | 0.321 | |
| deepblue_merge_queries | 0.062 | 0.000 | 0.893 | |
| deepblue_meta_data_to_table | 0.251 | 0.012 | 0.946 | |
| deepblue_name_to_id | 0.055 | 0.008 | 0.925 | |
| deepblue_overlap | 0.062 | 0.008 | 0.905 | |
| deepblue_preview_experiment | 0.019 | 0.000 | 0.318 | |
| deepblue_query_cache | 0.099 | 0.000 | 1.215 | |
| deepblue_query_experiment_type | 0.055 | 0.000 | 0.647 | |
| deepblue_reset_options | 0.000 | 0.000 | 0.001 | |
| deepblue_score_matrix | 0.049 | 0.007 | 0.647 | |
| deepblue_search | 0.056 | 0.004 | 0.682 | |
| deepblue_select_annotations | 0.034 | 0.000 | 0.289 | |
| deepblue_select_column | 0.546 | 0.092 | 1.997 | |
| deepblue_select_experiments | 0.024 | 0.008 | 0.326 | |
| deepblue_select_expressions | 0.031 | 0.000 | 0.283 | |
| deepblue_select_genes | 0.033 | 0.000 | 0.303 | |
| deepblue_select_regions | 0.034 | 0.000 | 0.327 | |
| deepblue_tiling_regions | 0.029 | 0.000 | 0.323 | |