| Back to Multiple platform build/check report for BioC 3.16: simplified long |
|
This page was generated on 2023-04-12 11:06:06 -0400 (Wed, 12 Apr 2023).
| Hostname | OS | Arch (*) | R version | Installed pkgs |
|---|---|---|---|---|
| nebbiolo2 | Linux (Ubuntu 20.04.5 LTS) | x86_64 | 4.2.3 (2023-03-15) -- "Shortstop Beagle" | 4502 |
| palomino4 | Windows Server 2022 Datacenter | x64 | 4.2.3 (2023-03-15 ucrt) -- "Shortstop Beagle" | 4282 |
| lconway | macOS 12.5.1 Monterey | x86_64 | 4.2.3 (2023-03-15) -- "Shortstop Beagle" | 4310 |
| Click on any hostname to see more info about the system (e.g. compilers) (*) as reported by 'uname -p', except on Windows and Mac OS X | ||||
|
To the developers/maintainers of the DSS package: - Please allow up to 24 hours (and sometimes 48 hours) for your latest push to git@git.bioconductor.org:packages/DSS.git to reflect on this report. See How and When does the builder pull? When will my changes propagate? for more information. - Make sure to use the following settings in order to reproduce any error or warning you see on this page. |
| Package 575/2183 | Hostname | OS / Arch | INSTALL | BUILD | CHECK | BUILD BIN | ||||||||
| DSS 2.46.0 (landing page) Hao Wu
| nebbiolo2 | Linux (Ubuntu 20.04.5 LTS) / x86_64 | OK | OK | OK | |||||||||
| palomino4 | Windows Server 2022 Datacenter / x64 | OK | OK | OK | OK | |||||||||
| lconway | macOS 12.5.1 Monterey / x86_64 | OK | OK | OK | OK | |||||||||
| Package: DSS |
| Version: 2.46.0 |
| Command: /Library/Frameworks/R.framework/Resources/bin/R CMD check --install=check:DSS.install-out.txt --library=/Library/Frameworks/R.framework/Resources/library --no-vignettes --timings DSS_2.46.0.tar.gz |
| StartedAt: 2023-04-10 19:59:54 -0400 (Mon, 10 Apr 2023) |
| EndedAt: 2023-04-10 20:03:39 -0400 (Mon, 10 Apr 2023) |
| EllapsedTime: 225.3 seconds |
| RetCode: 0 |
| Status: OK |
| CheckDir: DSS.Rcheck |
| Warnings: 0 |
############################################################################## ############################################################################## ### ### Running command: ### ### /Library/Frameworks/R.framework/Resources/bin/R CMD check --install=check:DSS.install-out.txt --library=/Library/Frameworks/R.framework/Resources/library --no-vignettes --timings DSS_2.46.0.tar.gz ### ############################################################################## ############################################################################## * using log directory ‘/Users/biocbuild/bbs-3.16-bioc/meat/DSS.Rcheck’ * using R version 4.2.3 (2023-03-15) * using platform: x86_64-apple-darwin17.0 (64-bit) * using session charset: UTF-8 * using option ‘--no-vignettes’ * checking for file ‘DSS/DESCRIPTION’ ... OK * this is package ‘DSS’ version ‘2.46.0’ * checking package namespace information ... OK * checking package dependencies ... OK * checking if this is a source package ... OK * checking if there is a namespace ... OK * checking for hidden files and directories ... OK * checking for portable file names ... OK * checking for sufficient/correct file permissions ... OK * checking whether package ‘DSS’ can be installed ... OK * checking installed package size ... OK * checking package directory ... OK * checking ‘build’ directory ... OK * checking DESCRIPTION meta-information ... OK * checking top-level files ... OK * checking for left-over files ... OK * checking index information ... OK * checking package subdirectories ... OK * checking R files for non-ASCII characters ... OK * checking R files for syntax errors ... OK * checking whether the package can be loaded ... OK * checking whether the package can be loaded with stated dependencies ... OK * checking whether the package can be unloaded cleanly ... OK * checking whether the namespace can be loaded with stated dependencies ... OK * checking whether the namespace can be unloaded cleanly ... OK * checking dependencies in R code ... NOTE Package in Depends field not imported from: ‘parallel’ These packages need to be imported from (in the NAMESPACE file) for when this namespace is loaded but not attached. * checking S3 generic/method consistency ... OK * checking replacement functions ... OK * checking foreign function calls ... OK * checking R code for possible problems ... NOTE DMLtest: no visible global function definition for ‘detectCores’ dispersion.shrinkage.BSseq: no visible global function definition for ‘mclapply’ est.phi.naive: no visible global function definition for ‘rowVars’ est.prior.BSseq.logN: no visible global function definition for ‘rowVars’ Undefined global functions or variables: detectCores mclapply rowVars * checking Rd files ... OK * checking Rd metadata ... OK * checking Rd cross-references ... OK * checking for missing documentation entries ... OK * checking for code/documentation mismatches ... OK * checking Rd \usage sections ... OK * checking Rd contents ... OK * checking for unstated dependencies in examples ... OK * checking contents of ‘data’ directory ... OK * checking data for non-ASCII characters ... OK * checking data for ASCII and uncompressed saves ... OK * checking line endings in C/C++/Fortran sources/headers ... OK * checking compiled code ... NOTE Note: information on .o files is not available * checking files in ‘vignettes’ ... OK * checking examples ... OK * checking for unstated dependencies in vignettes ... OK * checking package vignettes in ‘inst/doc’ ... OK * checking running R code from vignettes ... SKIPPED * checking re-building of vignette outputs ... SKIPPED * checking PDF version of manual ... OK * DONE Status: 3 NOTEs See ‘/Users/biocbuild/bbs-3.16-bioc/meat/DSS.Rcheck/00check.log’ for details.
DSS.Rcheck/00install.out
############################################################################## ############################################################################## ### ### Running command: ### ### /Library/Frameworks/R.framework/Resources/bin/R CMD INSTALL DSS ### ############################################################################## ############################################################################## * installing to library ‘/Library/Frameworks/R.framework/Versions/4.2/Resources/library’ * installing *source* package ‘DSS’ ... ** using staged installation ** libs clang -mmacosx-version-min=10.13 -I"/Library/Frameworks/R.framework/Resources/include" -DNDEBUG -I/usr/local/include -fPIC -Wall -g -O2 -c compute_var_smooth.c -o compute_var_smooth.o clang -mmacosx-version-min=10.13 -I"/Library/Frameworks/R.framework/Resources/include" -DNDEBUG -I/usr/local/include -fPIC -Wall -g -O2 -c filter.c -o filter.o clang -mmacosx-version-min=10.13 -I"/Library/Frameworks/R.framework/Resources/include" -DNDEBUG -I/usr/local/include -fPIC -Wall -g -O2 -c nitem.c -o nitem.o clang -mmacosx-version-min=10.13 -dynamiclib -Wl,-headerpad_max_install_names -undefined dynamic_lookup -single_module -multiply_defined suppress -L/Library/Frameworks/R.framework/Resources/lib -L/usr/local/lib -o DSS.so compute_var_smooth.o filter.o nitem.o -F/Library/Frameworks/R.framework/.. -framework R -Wl,-framework -Wl,CoreFoundation installing to /Library/Frameworks/R.framework/Versions/4.2/Resources/library/00LOCK-DSS/00new/DSS/libs ** R ** data ** inst ** byte-compile and prepare package for lazy loading ** help *** installing help indices ** building package indices ** installing vignettes ** testing if installed package can be loaded from temporary location ** checking absolute paths in shared objects and dynamic libraries ** testing if installed package can be loaded from final location ** testing if installed package keeps a record of temporary installation path * DONE (DSS)
DSS.Rcheck/DSS-Ex.timings
| name | user | system | elapsed | |
| DMLfit.multiFactor | 0 | 0 | 0 | |
| DMLtest | 0.000 | 0.000 | 0.001 | |
| DMLtest.multiFactor | 0.000 | 0.000 | 0.001 | |
| DSS.DE | 0.172 | 0.019 | 0.192 | |
| RRBS | 0.018 | 0.002 | 0.020 | |
| SeqCountSet-class | 0.204 | 0.018 | 0.224 | |
| callDML | 0.000 | 0.000 | 0.001 | |
| callDMR | 0.000 | 0.000 | 0.001 | |
| design | 0.013 | 0.002 | 0.014 | |
| dispersion | 0.066 | 0.006 | 0.074 | |
| estDispersion | 0.214 | 0.010 | 0.224 | |
| estNormFactors | 0.009 | 0.002 | 0.012 | |
| makeBSseqData | 0.635 | 0.032 | 0.672 | |
| normalizationFactor | 0.004 | 0.002 | 0.006 | |
| seqData | 0.003 | 0.002 | 0.006 | |
| showOneDMR | 0 | 0 | 0 | |
| waldTest | 0.070 | 0.004 | 0.076 | |