| Back to Multiple platform build/check report for BioC 3.16: simplified long |
|
This page was generated on 2023-04-12 11:05:01 -0400 (Wed, 12 Apr 2023).
| Hostname | OS | Arch (*) | R version | Installed pkgs |
|---|---|---|---|---|
| nebbiolo2 | Linux (Ubuntu 20.04.5 LTS) | x86_64 | 4.2.3 (2023-03-15) -- "Shortstop Beagle" | 4502 |
| palomino4 | Windows Server 2022 Datacenter | x64 | 4.2.3 (2023-03-15 ucrt) -- "Shortstop Beagle" | 4282 |
| lconway | macOS 12.5.1 Monterey | x86_64 | 4.2.3 (2023-03-15) -- "Shortstop Beagle" | 4310 |
| Click on any hostname to see more info about the system (e.g. compilers) (*) as reported by 'uname -p', except on Windows and Mac OS X | ||||
|
To the developers/maintainers of the CopyNumberPlots package: - Please allow up to 24 hours (and sometimes 48 hours) for your latest push to git@git.bioconductor.org:packages/CopyNumberPlots.git to reflect on this report. See How and When does the builder pull? When will my changes propagate? for more information. - Make sure to use the following settings in order to reproduce any error or warning you see on this page. |
| Package 413/2183 | Hostname | OS / Arch | INSTALL | BUILD | CHECK | BUILD BIN | ||||||||
| CopyNumberPlots 1.14.0 (landing page) Bernat Gel
| nebbiolo2 | Linux (Ubuntu 20.04.5 LTS) / x86_64 | OK | OK | OK | |||||||||
| palomino4 | Windows Server 2022 Datacenter / x64 | OK | OK | OK | OK | |||||||||
| lconway | macOS 12.5.1 Monterey / x86_64 | OK | OK | OK | OK | |||||||||
| Package: CopyNumberPlots |
| Version: 1.14.0 |
| Command: /home/biocbuild/bbs-3.16-bioc/R/bin/R CMD check --install=check:CopyNumberPlots.install-out.txt --library=/home/biocbuild/bbs-3.16-bioc/R/site-library --timings CopyNumberPlots_1.14.0.tar.gz |
| StartedAt: 2023-04-10 19:57:05 -0400 (Mon, 10 Apr 2023) |
| EndedAt: 2023-04-10 20:02:58 -0400 (Mon, 10 Apr 2023) |
| EllapsedTime: 353.4 seconds |
| RetCode: 0 |
| Status: OK |
| CheckDir: CopyNumberPlots.Rcheck |
| Warnings: 0 |
############################################################################## ############################################################################## ### ### Running command: ### ### /home/biocbuild/bbs-3.16-bioc/R/bin/R CMD check --install=check:CopyNumberPlots.install-out.txt --library=/home/biocbuild/bbs-3.16-bioc/R/site-library --timings CopyNumberPlots_1.14.0.tar.gz ### ############################################################################## ############################################################################## * using log directory ‘/home/biocbuild/bbs-3.16-bioc/meat/CopyNumberPlots.Rcheck’ * using R version 4.2.3 (2023-03-15) * using platform: x86_64-pc-linux-gnu (64-bit) * using session charset: UTF-8 * checking for file ‘CopyNumberPlots/DESCRIPTION’ ... OK * checking extension type ... Package * this is package ‘CopyNumberPlots’ version ‘1.14.0’ * package encoding: UTF-8 * checking package namespace information ... OK * checking package dependencies ... OK * checking if this is a source package ... OK * checking if there is a namespace ... OK * checking for hidden files and directories ... OK * checking for portable file names ... OK * checking for sufficient/correct file permissions ... OK * checking whether package ‘CopyNumberPlots’ can be installed ... OK * checking installed package size ... OK * checking package directory ... OK * checking ‘build’ directory ... OK * checking DESCRIPTION meta-information ... OK * checking top-level files ... OK * checking for left-over files ... OK * checking index information ... OK * checking package subdirectories ... OK * checking R files for non-ASCII characters ... OK * checking R files for syntax errors ... OK * checking whether the package can be loaded ... OK * checking whether the package can be loaded with stated dependencies ... OK * checking whether the package can be unloaded cleanly ... OK * checking whether the namespace can be loaded with stated dependencies ... OK * checking whether the namespace can be unloaded cleanly ... OK * checking loading without being on the library search path ... OK * checking dependencies in R code ... OK * checking S3 generic/method consistency ... OK * checking replacement functions ... OK * checking foreign function calls ... OK * checking R code for possible problems ... OK * checking Rd files ... OK * checking Rd metadata ... OK * checking Rd cross-references ... OK * checking for missing documentation entries ... OK * checking for code/documentation mismatches ... OK * checking Rd \usage sections ... OK * checking Rd contents ... OK * checking for unstated dependencies in examples ... OK * checking files in ‘vignettes’ ... OK * checking examples ... OK * checking for unstated dependencies in ‘tests’ ... OK * checking tests ... Running ‘testthat.R’ OK * checking for unstated dependencies in vignettes ... OK * checking package vignettes in ‘inst/doc’ ... OK * checking running R code from vignettes ... ‘CopyNumberPlots.Rmd’ using ‘UTF-8’... OK NONE * checking re-building of vignette outputs ... OK * checking PDF version of manual ... OK * DONE Status: OK
CopyNumberPlots.Rcheck/00install.out
############################################################################## ############################################################################## ### ### Running command: ### ### /home/biocbuild/bbs-3.16-bioc/R/bin/R CMD INSTALL CopyNumberPlots ### ############################################################################## ############################################################################## * installing to library ‘/home/biocbuild/bbs-3.16-bioc/R/site-library’ * installing *source* package ‘CopyNumberPlots’ ... ** using staged installation ** R ** inst ** byte-compile and prepare package for lazy loading ** help *** installing help indices ** building package indices ** installing vignettes ** testing if installed package can be loaded from temporary location ** testing if installed package can be loaded from final location ** testing if installed package keeps a record of temporary installation path * DONE (CopyNumberPlots)
CopyNumberPlots.Rcheck/tests/testthat.Rout
R version 4.2.3 (2023-03-15) -- "Shortstop Beagle"
Copyright (C) 2023 The R Foundation for Statistical Computing
Platform: x86_64-pc-linux-gnu (64-bit)
R is free software and comes with ABSOLUTELY NO WARRANTY.
You are welcome to redistribute it under certain conditions.
Type 'license()' or 'licence()' for distribution details.
R is a collaborative project with many contributors.
Type 'contributors()' for more information and
'citation()' on how to cite R or R packages in publications.
Type 'demo()' for some demos, 'help()' for on-line help, or
'help.start()' for an HTML browser interface to help.
Type 'q()' to quit R.
> library(testthat)
> library(CopyNumberPlots)
Loading required package: karyoploteR
Loading required package: regioneR
Loading required package: GenomicRanges
Loading required package: stats4
Loading required package: BiocGenerics
Attaching package: 'BiocGenerics'
The following objects are masked from 'package:stats':
IQR, mad, sd, var, xtabs
The following objects are masked from 'package:base':
Filter, Find, Map, Position, Reduce, anyDuplicated, aperm, append,
as.data.frame, basename, cbind, colnames, dirname, do.call,
duplicated, eval, evalq, get, grep, grepl, intersect, is.unsorted,
lapply, mapply, match, mget, order, paste, pmax, pmax.int, pmin,
pmin.int, rank, rbind, rownames, sapply, setdiff, sort, table,
tapply, union, unique, unsplit, which.max, which.min
Loading required package: S4Vectors
Attaching package: 'S4Vectors'
The following objects are masked from 'package:base':
I, expand.grid, unname
Loading required package: IRanges
Loading required package: GenomeInfoDb
>
> test_check("CopyNumberPlots")
[ FAIL 0 | WARN 0 | SKIP 0 | PASS 26 ]
>
> proc.time()
user system elapsed
14.769 0.838 15.593
CopyNumberPlots.Rcheck/CopyNumberPlots-Ex.timings
| name | user | system | elapsed | |
| EnsemblStyle | 0.461 | 0.012 | 0.473 | |
| UCSCStyle | 0.273 | 0.004 | 0.278 | |
| Ztree2Hclust | 0.005 | 0.000 | 0.005 | |
| colByCopyNumber | 0.419 | 0.047 | 0.467 | |
| computeHclustPlotOrder | 0.022 | 0.001 | 0.022 | |
| getBAFColumn | 0.002 | 0.000 | 0.001 | |
| getChrColumn | 0.001 | 0.000 | 0.001 | |
| getColumn | 0.002 | 0.000 | 0.002 | |
| getCopyNumberColors | 0.001 | 0.000 | 0.000 | |
| getCopyNumberColumn | 0.002 | 0.000 | 0.002 | |
| getEndColumn | 0.001 | 0.000 | 0.002 | |
| getIDColumn | 0.001 | 0.000 | 0.002 | |
| getLOHColumn | 0.001 | 0.000 | 0.001 | |
| getLRRColumn | 0.001 | 0.000 | 0.001 | |
| getPosColumn | 0.002 | 0.000 | 0.001 | |
| getSegmentValueColumn | 0.002 | 0.000 | 0.002 | |
| getStartColumn | 0.001 | 0.000 | 0.001 | |
| loadCopyNumberCalls | 0.02 | 0.00 | 0.02 | |
| loadCopyNumberCallsCNVkit | 0.040 | 0.016 | 0.055 | |
| loadCopyNumberCallsCnmops | 0.177 | 0.015 | 0.193 | |
| loadCopyNumberCallsDECoN | 0.070 | 0.000 | 0.071 | |
| loadCopyNumberCallsDNAcopy | 0.530 | 0.009 | 0.537 | |
| loadCopyNumberCallsPanelcnmops | 0.310 | 0.008 | 0.321 | |
| loadCopyNumberCallsSeg | 0.018 | 0.000 | 0.018 | |
| loadCopyNumberCallspennCNV | 0.034 | 0.000 | 0.033 | |
| loadSNPData | 0.043 | 0.000 | 0.042 | |
| loadSNPDataDNAcopy | 0.514 | 0.016 | 0.530 | |
| loadSNPDataFromVCF | 0.001 | 0.000 | 0.001 | |
| plotBAF | 0.91 | 0.04 | 0.95 | |
| plotCopyNumberCalls | 0.167 | 0.000 | 0.166 | |
| plotCopyNumberCallsAsLines | 0.138 | 0.008 | 0.145 | |
| plotCopyNumberSummary | 0.166 | 0.012 | 0.178 | |
| plotLRR | 0.463 | 0.055 | 0.518 | |
| plotSingleCellCopyNumberCalls | 0.059 | 0.001 | 0.058 | |
| plotSingleCellCopyNumberSummary | 0.026 | 0.011 | 0.037 | |
| prepareLabels | 0.075 | 0.001 | 0.075 | |
| readHDF5Ztree | 0 | 0 | 0 | |
| removeNAs | 0.158 | 0.004 | 0.161 | |
| transformChr | 0.004 | 0.000 | 0.004 | |